Workbook
Name aufstellung: Listen!$B$2:$B$3
Name status: Listen!$A$2:$A$3

Sheet Start
A1: Analyse und Beurteilung des energetischen Zustands
B3: Kapitel | D3: Tabellenblatt | F3: Status
B5: Schritt 1: Feststellung des IST-Zustands
B7: 1.1 Übersicht über Stromverbrauch und Stromproduktion | D7: 1.1.1 Allgemeine Betriebsdaten | F7: vollständig
D9: 1.1.2 Stromverbrauch nach Bereichen | F9: vollständig
D11: 1.1.3 Vorhandene Stromproduktion | F11: vollständig
B13: 1.2 Aufbereitung und Desinfektion | D13: 1.2 Aufbereitung und Desinfektion | F13: vollständig
B15: 1.3 Pumpen inkl. Reibungsverluste in Rohrleitungen | D15: 1.3.2.1 Pumpengruppen mit konstanten Druckverhältnissen | F15: vollständig
D17: 1.3.2.2 Pumpengruppen mit variablen Druckverhältnissen | F17: vollständig
D19: 1.3.2 Pumpengruppen nach Stromzählern | F19: vollständig
D21: 1.3.2.3 Pumpenmessung | F21: vollständig
B23: Schritt 2: Abweichungsanalyse
B25: 2.2 Pumpen
D26: 2.2.2 Pumpengruppen nach Stromzähler | F26: vollständig
D28: 2.2.3 Pumpenmessung | F28: vollständig
B30: 2.3 Wasserverluste | D30: 2.3 Wasserverluste | F30: vollständig
B32: 2.4 Trinkwasserkraftwerke | D32: 2.4 Trinkwasserkraftwerke | F32: vollständig
B34: Schritt 3: Beurteilung Gesamtsystem
B36: 3.1 Beurteilung Gesamtsystem | D36: 3.1 Beurteilung Gesamtsystem Pumpen | F36: vollständig

Sheet 1.1.1
B1: Allgemeine Betriebsdaten
B3: Name des Wasserversorgungsunternehmens | C3: WVU
B4: Adresse | C4: Wasserstrasse 1
B5: Kontaktperson für Datenerhebung | C5: Helmut Hofer
B6: Telefon | C6: 01-23456-789
B7: Mobiltelefon | C7: 0664-12345678
B8: Email | C8: h.hofer@wvu.at
B10: Abrechnungszeitraum t für Energiebezug und –abgabe sowie Systemeinspeisung und reale Verluste
B11: Abrechnungszeitraum über ein Jahr | C11: 01.01.2011 - 31.12.2011
B12: Systemeinspeisung in diesem Jahr (m3/Jahr) | C12: 1000000
B13: Reale Verluste in diesem Jahr(m3/Jahr) | C13: 50000
B15: Angaben zu Energebezug und -abgabe sowie Erträge im Abrechnungszeitraum (Jahr)
B16: Strombezug lt. Rechnung (kWh/Jahr) | C16: 1000000
B17: Aufwendungen für Energiebezug (EUR/Jahr) | C17: 100000
B18: Stromproduktion (kWh/Jahr) | C18: 200000
B19: Stromabgabe ans Netz (kWh/Jahr) | C19: 0
B20: Erträge aus Energieabgabe ans Netz (EUR/Jahr) | C20: 0

Sheet 1.1.2
B1: Stromverbrauch nach Bereichen
B3: B | C3: C | D3: D | E3: E | F3: F | G3: G | H3: H | I3: I
B4: Name der Anlage | C4: Bezeichnung des Stromzählers | D4: Laufende Nr. des Strom-zählers | E4: Gesamtstromverbrauch lt. Stromzähler kWh/Jahr | F4: Stromverbrauch Aufbereitung und Desinfektion kWh/Jahr | G4: Stromverbrauch Pumpen kWh/Jahr | H4: Sonstige Stromverbraucher kWh/Jahr | I4: Kontrollsumme kWh/Jahr
A5: 5 | B5: Summe | E5: =SUM(E6:E100) -> 1000000 | F5: =SUM(F6:F100) -> 100000 | G5: =SUM(G6:G100) -> 800000 | H5: =SUM(H6:H100) -> 100000 | I5: =SUM(I6:I100) -> 1000000 | L5: =F4 -> Stromverbrauch Aufbereitung und Desinfektion kWh/Jahr | M5: =F5 -> 100000
A6: 6 | B6: Anlage 1 | C6: SZ001 | D6: 1 | E6: 500000 | F6: 50000 | G6: 400000 | H6: 50000 | I6: =SUM(F6:H6) -> 500000 | L6: =G4 -> Stromverbrauch Pumpen kWh/Jahr | M6: =G5 -> 800000
A7: 7 | B7: Anlage 2 | C7: SZ002 | D7: 2 | E7: 500000 | F7: 50000 | G7: 400000 | H7: 50000 | I7: =SUM(F7:H7) -> 500000 | L7: =H4 -> Sonstige Stromverbraucher kWh/Jahr | M7: =H5 -> 100000
A8: 8 | I8: =SUM(F8:H8) -> 0
A9: 9 | I9: =SUM(F9:H9) -> 0
A10: 10 | I10: =SUM(F10:H10) -> 0
A11: 11 | I11: =SUM(F11:H11) -> 0
A12: 12 | I12: =SUM(F12:H12) -> 0
A13: 13 | I13: =SUM(F13:H13) -> 0
A14: 14 | I14: =SUM(F14:H14) -> 0
A15: 15 | I15: =SUM(F15:H15) -> 0
A16: 16 | I16: =SUM(F16:H16) -> 0
A17: 17 | I17: =SUM(F17:H17) -> 0
A18: 18 | I18: =SUM(F18:H18) -> 0
A19: 19 | I19: =SUM(F19:H19) -> 0
... A100: 100 | I100: =SUM(F100:H100) -> 0

Sheet 1.1.3
B1: Vorhandene Stromproduktion
B3: B | C3: D
B4: Name der Anlage | C4: Stromproduktion lt. Stromzähler kWh/Jahr
A5: 5 | B5: Summe | C5: =SUM(C6:C100) -> 200000
A6: 6 | B6: Trinkwasserkraftwerk 1 | C6: 100000
A7: 7 | B7: Trinkwasserkraftwerk 2 | C7: 100000
A8: 8
A9: 9
A10: 10
A11: 11
A12: 12
A13: 13
A14: 14
A15: 15
A16: 16
A17: 17
A18: 18
A19: 19
... A100: 100

Sheet 1.2
B1: Aufbereitung und Desinfektion
B3: B | C3: C | D3: D | E3: E | F3: F | G3: G
B4: Name der Anlage | C4: Art der Aufbereitung / Desinfektion | D4: gewählter Zeitraum t (in Tagen) | E4: Stromverbrauch der Anlage kWh/t | F4: aufbereitete / desinfizierte Wassermenge in m³ im gewählten Zeitraum t | G4: spezifischer Stromverbrauch Wh/m³
A5: 5 | B5: UV-Anlage 1 | C5: UV-Anlage | D5: 365 | E5: 10003 | F5: 1000000 | G5: =E5/F5*1000 -> 10.003 | I5: Hilfsrechner für die Ermittlung des Stromverbrauchs je Aufbereitungsanlage
A6: 6 | B6: UV-Anlage 2 | C6: UV-Anlage | D6: 365 | E6: 45000 | F6: 4000000 | G6: =E6/F6*1000 -> 11.25 | I6: Gesamtstromverbrauch lt. Stromzähler inkl. Pumpen etc. in kWh/t
A7: 7 | G7: =E7/F7*1000 -> #DIV/0! | I7: Abschätzung Stromverbraucher je Aufbereitungsschritt:
A8: 8 | G8: =E8/F8*1000 -> #DIV/0! | I8: Aufbereitungsschritt | J8: Leistung in kW | K8: Betriebsstunden im Zeitraum t | L8: Stromverbrauch geschätzt in kWh/t
A9: 9 | G9: =E9/F9*1000 -> #DIV/0! | L9: =SUM(L10:L100) -> 10003
A10: 10 | G10: =E10/F10*1000 -> #DIV/0! | I10: UV-Anlage 1 | J10: 7 | K10: 1429 | L10: =J10*K10 -> 10003
A11: 11 | G11: =E11/F11*1000 -> #DIV/0! | L11: =J11*K11 -> 0
A12: 12 | G12: =E12/F12*1000 -> #DIV/0! | L12: =J12*K12 -> 0
A13: 13 | G13: =E13/F13*1000 -> #DIV/0! | L13: =J13*K13 -> 0
A14: 14 | G14: =E14/F14*1000 -> #DIV/0! | L14: =J14*K14 -> 0
A15: 15 | G15: =E15/F15*1000 -> #DIV/0! | L15: =J15*K15 -> 0
A16: 16 | G16: =E16/F16*1000 -> #DIV/0! | L16: =J16*K16 -> 0
A17: 17 | G17: =E17/F17*1000 -> #DIV/0! | L17: =J17*K17 -> 0
A18: 18 | G18: =E18/F18*1000 -> #DIV/0! | L18: =J18*K18 -> 0
A19: 19 | G19: =E19/F19*1000 -> #DIV/0! | L19: =J19*K19 -> 0
A20: 20 | G20: =E20/F20*1000 -> #DIV/0! | L20: =J20*K20 -> 0
A21: 21 | G21: =E21/F21*1000 -> #DIV/0! | L21: =J21*K21 -> 0
A22: 22 | G22: =E22/F22*1000 -> #DIV/0! | L22: =J22*K22 -> 0
... A100: 100 | G100: =E100/F100*1000 -> #DIV/0! | L100: =J100*K100 -> 0

Sheet 1.3.2.1
B1: Pumpengruppen mit konstanten Druckverhältnissen
B3: B | C3: C | D3: D | E3: E | F3: F | G3: G | H3: H | I3: I | J3: J | K3: K | L3: L | M3: M | N3: N | O3: O | P3: P | Q3: Q | R3: R | T3: R | U3: S
B4: Name der Anlage | C4: Bezeichnung der Pumpengruppe | D4: Bezeichnung des Wasserzählers der Pumpengruppe | E4: Bezeichnung des Stromzählers der Pumpengruppe | F4: Laufende Nr. des Strom-zählers | G4: Mittlere Leistung der Pumpen in der Pumpengruppe in kW | H4: Aufstellungsart der Pumpen in der Pumpengruppe | I4: Gewählter Zeitraum t in Tagen | J4: Förderhöhe (= H1 + M = H + Reibungsverluste) in m | K4: geförderte Wassermenge im gewählten Zeitraum in m³ | L4: hydraulische Energie in kWh | M4: G * L | N4: Leitungslänge zum Behälter bzw. kritischsten Punkt in m | O4: Netzdruck im kritischsten Punkt in m | P4: geodätischer Höhen-unterschied in m | Q4: Reibungsverluste IST in m | R4: Reibungsverluste RICHTWERT in m | T4: G * L trocken aufgestellt | U4: G * L nass aufgestellt | W4: < 1000 | X4: 1000-3000 | Y4: >3000
A5: 5 | B5: Anlage 2 | C5: Behälterpumpen | D5: WZ001 | E5: SZ002 | F5: 2 | G5: 50 | H5: trocken aufgestellt | I5: 365 | J5: 56.3 | K5: 100000 | L5: =(K5*J5*999.7*9.81)/(1000*3600) -> 15337.147 | M5: =L5*G5 -> 766857.37 | N5: 100 | O5: 0 | P5: 50 | Q5: =IF(P5=0,0,J5-P5-O5) -> 6.3 | R5: =IF(N5=0,0,IF(N5<1000,W5,IF(N5>3000,Y5,X5))) -> 5 - 8 | T5: =IF(H5="trocken aufgestellt",M5,0) -> 766857.37 | U5: =IF(H5="nass aufgestellt",M5,0) -> 0 | W5: 5 - 8 | X5: 6 - 10 | Y5: 7 - 12
A6: 6 | I6: =$I$5 -> 365 | L6: =(K6*J6*999.7*9.81)/(1000*3600) -> 0 | M6: =L6*G6 -> 0 | Q6: =IF(P6=0,0,J6-P6-O6) -> 0 | R6: =IF(N6=0,0,IF(N6<1000,W6,IF(N6>3000,Y6,X6))) -> 0 | T6: =IF(H6="trocken aufgestellt",M6,0) -> 0 | U6: =IF(H6="nass aufgestellt",M6,0) -> 0 | W6: 5 - 8 | X6: 6 - 10 | Y6: 7 - 12
A7: 7 | I7: =$I$5 -> 365 | L7: =(K7*J7*999.7*9.81)/(1000*3600) -> 0 | M7: =L7*G7 -> 0 | Q7: =IF(P7=0,0,J7-P7-O7) -> 0 | R7: =IF(N7=0,0,IF(N7<1000,W7,IF(N7>3000,Y7,X7))) -> 0 | T7: =IF(H7="trocken aufgestellt",M7,0) -> 0 | U7: =IF(H7="nass aufgestellt",M7,0) -> 0 | W7: 5 - 8 | X7: 6 - 10 | Y7: 7 - 12
A8: 8 | I8: =$I$5 -> 365 | L8: =(K8*J8*999.7*9.81)/(1000*3600) -> 0 | M8: =L8*G8 -> 0 | Q8: =IF(P8=0,0,J8-P8-O8) -> 0 | R8: =IF(N8=0,0,IF(N8<1000,W8,IF(N8>3000,Y8,X8))) -> 0 | T8: =IF(H8="trocken aufgestellt",M8,0) -> 0 | U8: =IF(H8="nass aufgestellt",M8,0) -> 0 | W8: 5 - 8 | X8: 6 - 10 | Y8: 7 - 12
A9: 9 | I9: =$I$5 -> 365 | L9: =(K9*J9*999.7*9.81)/(1000*3600) -> 0 | M9: =L9*G9 -> 0 | Q9: =IF(P9=0,0,J9-P9-O9) -> 0 | R9: =IF(N9=0,0,IF(N9<1000,W9,IF(N9>3000,Y9,X9))) -> 0 | T9: =IF(H9="trocken aufgestellt",M9,0) -> 0 | U9: =IF(H9="nass aufgestellt",M9,0) -> 0 | W9: 5 - 8 | X9: 6 - 10 | Y9: 7 - 12
A10: 10 | I10: =$I$5 -> 365 | L10: =(K10*J10*999.7*9.81)/(1000*3600) -> 0 | M10: =L10*G10 -> 0 | Q10: =IF(P10=0,0,J10-P10-O10) -> 0 | R10: =IF(N10=0,0,IF(N10<1000,W10,IF(N10>3000,Y10,X10))) -> 0 | T10: =IF(H10="trocken aufgestellt",M10,0) -> 0 | U10: =IF(H10="nass aufgestellt",M10,0) -> 0 | W10: 5 - 8 | X10: 6 - 10 | Y10: 7 - 12
A11: 11 | I11: =$I$5 -> 365 | L11: =(K11*J11*999.7*9.81)/(1000*3600) -> 0 | M11: =L11*G11 -> 0 | Q11: =IF(P11=0,0,J11-P11-O11) -> 0 | R11: =IF(N11=0,0,IF(N11<1000,W11,IF(N11>3000,Y11,X11))) -> 0 | T11: =IF(H11="trocken aufgestellt",M11,0) -> 0 | U11: =IF(H11="nass aufgestellt",M11,0) -> 0 | W11: 5 - 8 | X11: 6 - 10 | Y11: 7 - 12
A12: 12 | I12: =$I$5 -> 365 | L12: =(K12*J12*999.7*9.81)/(1000*3600) -> 0 | M12: =L12*G12 -> 0 | Q12: =IF(P12=0,0,J12-P12-O12) -> 0 | R12: =IF(N12=0,0,IF(N12<1000,W12,IF(N12>3000,Y12,X12))) -> 0 | T12: =IF(H12="trocken aufgestellt",M12,0) -> 0 | U12: =IF(H12="nass aufgestellt",M12,0) -> 0 | W12: 5 - 8 | X12: 6 - 10 | Y12: 7 - 12
A13: 13 | I13: =$I$5 -> 365 | L13: =(K13*J13*999.7*9.81)/(1000*3600) -> 0 | M13: =L13*G13 -> 0 | Q13: =IF(P13=0,0,J13-P13-O13) -> 0 | R13: =IF(N13=0,0,IF(N13<1000,W13,IF(N13>3000,Y13,X13))) -> 0 | T13: =IF(H13="trocken aufgestellt",M13,0) -> 0 | U13: =IF(H13="nass aufgestellt",M13,0) -> 0 | W13: 5 - 8 | X13: 6 - 10 | Y13: 7 - 12
A14: 14 | I14: =$I$5 -> 365 | L14: =(K14*J14*999.7*9.81)/(1000*3600) -> 0 | M14: =L14*G14 -> 0 | Q14: =IF(P14=0,0,J14-P14-O14) -> 0 | R14: =IF(N14=0,0,IF(N14<1000,W14,IF(N14>3000,Y14,X14))) -> 0 | T14: =IF(H14="trocken aufgestellt",M14,0) -> 0 | U14: =IF(H14="nass aufgestellt",M14,0) -> 0 | W14: 5 - 8 | X14: 6 - 10 | Y14: 7 - 12
A15: 15 | I15: =$I$5 -> 365 | L15: =(K15*J15*999.7*9.81)/(1000*3600) -> 0 | M15: =L15*G15 -> 0 | Q15: =IF(P15=0,0,J15-P15-O15) -> 0 | R15: =IF(N15=0,0,IF(N15<1000,W15,IF(N15>3000,Y15,X15))) -> 0 | T15: =IF(H15="trocken aufgestellt",M15,0) -> 0 | U15: =IF(H15="nass aufgestellt",M15,0) -> 0 | W15: 5 - 8 | X15: 6 - 10 | Y15: 7 - 12
A16: 16 | I16: =$I$5 -> 365 | L16: =(K16*J16*999.7*9.81)/(1000*3600) -> 0 | M16: =L16*G16 -> 0 | Q16: =IF(P16=0,0,J16-P16-O16) -> 0 | R16: =IF(N16=0,0,IF(N16<1000,W16,IF(N16>3000,Y16,X16))) -> 0 | T16: =IF(H16="trocken aufgestellt",M16,0) -> 0 | U16: =IF(H16="nass aufgestellt",M16,0) -> 0 | W16: 5 - 8 | X16: 6 - 10 | Y16: 7 - 12
A17: 17 | I17: =$I$5 -> 365 | L17: =(K17*J17*999.7*9.81)/(1000*3600) -> 0 | M17: =L17*G17 -> 0 | Q17: =IF(P17=0,0,J17-P17-O17) -> 0 | R17: =IF(N17=0,0,IF(N17<1000,W17,IF(N17>3000,Y17,X17))) -> 0 | T17: =IF(H17="trocken aufgestellt",M17,0) -> 0 | U17: =IF(H17="nass aufgestellt",M17,0) -> 0 | W17: 5 - 8 | X17: 6 - 10 | Y17: 7 - 12
... A100: 100 | I100: =$I$5 -> 365 | L100: =(K100*J100*999.7*9.81)/(1000*3600) -> 0 | M100: =L100*G100 -> 0 | Q100: =IF(P100=0,0,J100-P100-O100) -> 0 | R100: =IF(N100=0,0,IF(N100<1000,W100,IF(N100>3000,Y100,X100))) -> 0 | T100: =IF(H100="trocken aufgestellt",M100,0) -> 0 | U100: =IF(H100="nass aufgestellt",M100,0) -> 0 | W100: 5 - 8 | X100: 6 - 10 | Y100: 7 - 12

Sheet 1.3.2.2
B1: Pumpengruppen mit variablen Druckverhältnissen
B3: B | C3: C | D3: D | E3: E | F3: F | G3: G | H3: H | I3: I | J3: J | K3: K | L3: L | M3: M | N3: N | O3: O | P3: P | Q3: Q | S3: R | T3: S
B4: Name der Anlage | C4: Bezeichnung der Pumpengruppe | D4: Bezeichnung des Wasserzählers der Pumpengruppe | E4: Bezeichnung des Stromzählers der Pumpengruppe | F4: Laufende Nr. des Strom-zählers | G4: Mittlere Leistung der Pumpen in der Pumpengruppe in kW | H4: Aufstellungsart der Pumpen in der Pumpengruppe | I4: Gewählter Zeitraum t in Tagen | J4: hydraulische Energie in kWh | K4: G * L | L4: Leitungslänge zum Behälter bzw. kritischsten Punkt in m | M4: geodätischer Höhenunterschied zwischen Wasserspiegel und kritischsten Punkt in m | N4: Netzdruck im kritischsten Punkt in m | O4: mittlere Förderhöhe über den betrachteten Zeitraum t | P4: Reibungsverluste IST in m | Q4: Reibungsverluste RICHTWERT in m | S4: G * L trocken aufgestellt | T4: G * L nass aufgestellt | W4: < 1000 | X4: 1000-3000 | Y4: >3000
A5: 5 | B5: Anlage 1 | C5: Netzpumpen | D5: WZ002 | E5: SZ001 | F5: 1 | G5: 50 | H5: trocken aufgestellt | I5: ='1.3.2.1'!$I$5 -> 365 | J5: 1155 | K5: =J5*G5 -> 57750 | L5: 100 | M5: 30 | N5: 35 | O5: 73.3 | P5: =IF(O5=0,0,O5-(M5+N5)) -> 8.3 | Q5: =IF(L5=0,0,IF(L5<1000,W5,IF(L5>3000,Y5,X5))) -> 5 - 8 | S5: =IF(H5="trocken aufgestellt",K5,0) -> 57750 | T5: =IF(H5="nass aufgestellt",K5,0) -> 0 | W5: 5 - 8 | X5: 6 - 10 | Y5: 7 - 12
A6: 6 | I6: ='1.3.2.1'!$I$5 -> 365 | K6: =J6*G6 -> 0 | P6: =IF(O6=0,0,O6-(M6+N6)) -> 0 | Q6: =IF(L6=0,0,IF(L6<1000,W6,IF(L6>3000,Y6,X6))) -> 0 | S6: =IF(H6="trocken aufgestellt",K6,0) -> 0 | T6: =IF(H6="nass aufgestellt",K6,0) -> 0 | W6: 5 - 8 | X6: 6 - 10 | Y6: 7 - 12
A7: 7 | I7: ='1.3.2.1'!$I$5 -> 365 | K7: =J7*G7 -> 0 | P7: =IF(O7=0,0,O7-(M7+N7)) -> 0 | Q7: =IF(L7=0,0,IF(L7<1000,W7,IF(L7>3000,Y7,X7))) -> 0 | S7: =IF(H7="trocken aufgestellt",K7,0) -> 0 | T7: =IF(H7="nass aufgestellt",K7,0) -> 0 | W7: 5 - 8 | X7: 6 - 10 | Y7: 7 - 12
A8: 8 | I8: ='1.3.2.1'!$I$5 -> 365 | K8: =J8*G8 -> 0 | P8: =IF(O8=0,0,O8-(M8+N8)) -> 0 | Q8: =IF(L8=0,0,IF(L8<1000,W8,IF(L8>3000,Y8,X8))) -> 0 | S8: =IF(H8="trocken aufgestellt",K8,0) -> 0 | T8: =IF(H8="nass aufgestellt",K8,0) -> 0 | W8: 5 - 8 | X8: 6 - 10 | Y8: 7 - 12
A9: 9 | I9: ='1.3.2.1'!$I$5 -> 365 | K9: =J9*G9 -> 0 | P9: =IF(O9=0,0,O9-(M9+N9)) -> 0 | Q9: =IF(L9=0,0,IF(L9<1000,W9,IF(L9>3000,Y9,X9))) -> 0 | S9: =IF(H9="trocken aufgestellt",K9,0) -> 0 | T9: =IF(H9="nass aufgestellt",K9,0) -> 0 | W9: 5 - 8 | X9: 6 - 10 | Y9: 7 - 12
A10: 10 | I10: ='1.3.2.1'!$I$5 -> 365 | K10: =J10*G10 -> 0 | P10: =IF(O10=0,0,O10-(M10+N10)) -> 0 | Q10: =IF(L10=0,0,IF(L10<1000,W10,IF(L10>3000,Y10,X10))) -> 0 | S10: =IF(H10="trocken aufgestellt",K10,0) -> 0 | T10: =IF(H10="nass aufgestellt",K10,0) -> 0 | W10: 5 - 8 | X10: 6 - 10 | Y10: 7 - 12
A11: 11 | I11: ='1.3.2.1'!$I$5 -> 365 | K11: =J11*G11 -> 0 | P11: =IF(O11=0,0,O11-(M11+N11)) -> 0 | Q11: =IF(L11=0,0,IF(L11<1000,W11,IF(L11>3000,Y11,X11))) -> 0 | S11: =IF(H11="trocken aufgestellt",K11,0) -> 0 | T11: =IF(H11="nass aufgestellt",K11,0) -> 0 | W11: 5 - 8 | X11: 6 - 10 | Y11: 7 - 12
A12: 12 | I12: ='1.3.2.1'!$I$5 -> 365 | K12: =J12*G12 -> 0 | P12: =IF(O12=0,0,O12-(M12+N12)) -> 0 | Q12: =IF(L12=0,0,IF(L12<1000,W12,IF(L12>3000,Y12,X12))) -> 0 | S12: =IF(H12="trocken aufgestellt",K12,0) -> 0 | T12: =IF(H12="nass aufgestellt",K12,0) -> 0 | W12: 5 - 8 | X12: 6 - 10 | Y12: 7 - 12
A13: 13 | I13: ='1.3.2.1'!$I$5 -> 365 | K13: =J13*G13 -> 0 | P13: =IF(O13=0,0,O13-(M13+N13)) -> 0 | Q13: =IF(L13=0,0,IF(L13<1000,W13,IF(L13>3000,Y13,X13))) -> 0 | S13: =IF(H13="trocken aufgestellt",K13,0) -> 0 | T13: =IF(H13="nass aufgestellt",K13,0) -> 0 | W13: 5 - 8 | X13: 6 - 10 | Y13: 7 - 12
A14: 14 | I14: ='1.3.2.1'!$I$5 -> 365 | K14: =J14*G14 -> 0 | P14: =IF(O14=0,0,O14-(M14+N14)) -> 0 | Q14: =IF(L14=0,0,IF(L14<1000,W14,IF(L14>3000,Y14,X14))) -> 0 | S14: =IF(H14="trocken aufgestellt",K14,0) -> 0 | T14: =IF(H14="nass aufgestellt",K14,0) -> 0 | W14: 5 - 8 | X14: 6 - 10 | Y14: 7 - 12
A15: 15 | I15: ='1.3.2.1'!$I$5 -> 365 | K15: =J15*G15 -> 0 | P15: =IF(O15=0,0,O15-(M15+N15)) -> 0 | Q15: =IF(L15=0,0,IF(L15<1000,W15,IF(L15>3000,Y15,X15))) -> 0 | S15: =IF(H15="trocken aufgestellt",K15,0) -> 0 | T15: =IF(H15="nass aufgestellt",K15,0) -> 0 | W15: 5 - 8 | X15: 6 - 10 | Y15: 7 - 12
A16: 16 | I16: ='1.3.2.1'!$I$5 -> 365 | K16: =J16*G16 -> 0 | P16: =IF(O16=0,0,O16-(M16+N16)) -> 0 | Q16: =IF(L16=0,0,IF(L16<1000,W16,IF(L16>3000,Y16,X16))) -> 0 | S16: =IF(H16="trocken aufgestellt",K16,0) -> 0 | T16: =IF(H16="nass aufgestellt",K16,0) -> 0 | W16: 5 - 8 | X16: 6 - 10 | Y16: 7 - 12
A17: 17 | I17: ='1.3.2.1'!$I$5 -> 365 | K17: =J17*G17 -> 0 | P17: =IF(O17=0,0,O17-(M17+N17)) -> 0 | Q17: =IF(L17=0,0,IF(L17<1000,W17,IF(L17>3000,Y17,X17))) -> 0 | S17: =IF(H17="trocken aufgestellt",K17,0) -> 0 | T17: =IF(H17="nass aufgestellt",K17,0) -> 0 | W17: 5 - 8 | X17: 6 - 10 | Y17: 7 - 12
... A100: 100 | I100: ='1.3.2.1'!$I$5 -> 365 | K100: =J100*G100 -> 0 | P100: =IF(O100=0,0,O100-(M100+N100)) -> 0 | Q100: =IF(L100=0,0,IF(L100<1000,W100,IF(L100>3000,Y100,X100))) -> 0 | S100: =IF(H100="trocken aufgestellt",K100,0) -> 0 | T100: =IF(H100="nass aufgestellt",K100,0) -> 0 | W100: 5 - 8 | X100: 6 - 10 | Y100: 7 - 12

Sheet 1.3.2
B1: Pumpengruppen nach Stromzählern
B3: B | C3: C | D3: D | E3: E | F3: F | G3: G | H3: H | I3: I | J3: J | K3: K | L3: L | M3: M | N3: N | O3: O
B4: Name der Anlage | C4: Bezeichnung des Stromzählers | D4: Laufende Nr. des Strom-zählers | E4: Stromverbrauch der Pumpen an diesem Stromzähler im gewählten Zeitraum in kWh | F4: hydraulische Energie der Pumpengruppen aus Blatt 1.3.2.1 an diesem Stromzähler in kWh | G4: hydraulische Energie der Pumpengruppen aus Blatt 1.3.2.2 an diesem Stromzähler in kWh | H4: hydraulische Energie aller Pumpengruppen an diesem Stromzähler in kWh | I4: Summe (G * L) trocken aufgestellt aus Blatt 1.3.2.1 | J4: Summe (G * L) trocken aufgestellt aus Blatt 1.3.2.2 | K4: Summe (G * L) nass aufgestellt aus Blatt 1.3.2.1 | L4: Summe (G * L) nass aufgestellt aus Blatt 1.3.2.2 | M4: Summe (G * L) gesamt | N4: nach der hydraulischen Energie gewichtete mittlere Leistung der Pumpengruppen an diesem Stromzähler in kW | O4: Gesamt-wirkungsgrad in % | Q4: eta RW trocken aufgestellt in % | R4: eta RW nass aufgestellt in % | S4: eta RW gemittelt in %
A5: 5 | B5: Summe | E5: =SUM(E6:E100) -> 22500 | F5: =SUM(F6:F100) -> 15337.147 | G5: =SUM(G6:G100) -> 1155 | H5: =SUM(H6:H100) -> 16492.147 | I5: =SUM(I6:I100) -> 766857.37 | J5: =SUM(J6:J100) -> 57750 | K5: =SUM(K6:K100) -> 0 | L5: =SUM(L6:L100) -> 0 | M5: =SUM(M6:M100) -> 824607.37 | N5: =M5/H5 -> 50 | O5: =H5/E5 -> 0.73298433 | Q5: =IF($N5<RW_Pumpen!$B$1,RW_Pumpen!$B$2,IF($N5>RW_Pumpen!$D$1,RW_Pumpen!$D$2,RW_Pumpen!$C$2)) -> 0.56 | R5: =IF($N5<RW_Pumpen!$B$1,RW_Pumpen!$B$3,IF($N5>RW_Pumpen!$D$1,RW_Pumpen!$D$3,RW_Pumpen!$C$3)) -> 0.53 | S5: =(Q5*SUM(I5:J5)+R5*SUM(K5:L5))/(M5) -> 0.56
A6: 6 | B6: Anlage 1 | C6: SZ001 | D6: 1 | E6: 2500 | F6: {=SUMIF('1.3.2.1'!$F$5:$F$100,'1.3.2'!$D6,'1.3.2.1'!$L$5:$L$100)} -> 0 | G6: =SUMIF('1.3.2.2'!$F$5:$F$100,'1.3.2'!$D6,'1.3.2.2'!$J$5:$J$100) -> 1155 | H6: =SUM(F6:G6) -> 1155 | I6: =SUMIF('1.3.2.1'!$F$5:$F$100,'1.3.2'!$D6,'1.3.2.1'!$T$5:$T$100) -> 0 | J6: =SUMIF('1.3.2.2'!$F$5:$F$100,'1.3.2'!$D6,'1.3.2.2'!$S$5:$S$100) -> 57750 | K6: =SUMIF('1.3.2.1'!$F$5:$F$100,'1.3.2'!$D6,'1.3.2.1'!$U$5:$U$100) -> 0 | L6: =SUMIF('1.3.2.2'!$F$5:$F$100,'1.3.2'!$D6,'1.3.2.2'!$T$5:$T$100) -> 0 | M6: =SUM(I6:L6) -> 57750 | N6: =M6/H6 -> 50 | O6: =H6/E6 -> 0.462 | Q6: =IF($N6<RW_Pumpen!$B$1,RW_Pumpen!$B$2,IF($N6>RW_Pumpen!$D$1,RW_Pumpen!$D$2,RW_Pumpen!$C$2)) -> 0.56 | R6: =IF($N6<RW_Pumpen!$B$1,RW_Pumpen!$B$3,IF($N6>RW_Pumpen!$D$1,RW_Pumpen!$D$3,RW_Pumpen!$C$3)) -> 0.53 | S6: =(Q6*SUM(I6:J6)+R6*SUM(K6:L6))/(M6) -> 0.56
A7: 7 | B7: Anlage 2 | C7: SZ002 | D7: 2 | E7: 20000 | F7: {=SUMIF('1.3.2.1'!$F$5:$F$100,'1.3.2'!$D7,'1.3.2.1'!$L$5:$L$100)} -> 15337.147 | G7: =SUMIF('1.3.2.2'!$F$5:$F$100,'1.3.2'!$D7,'1.3.2.2'!$J$5:$J$100) -> 0 | H7: =SUM(F7:G7) -> 15337.147 | I7: =SUMIF('1.3.2.1'!$F$5:$F$100,'1.3.2'!$D7,'1.3.2.1'!$T$5:$T$100) -> 766857.37 | J7: =SUMIF('1.3.2.2'!$F$5:$F$100,'1.3.2'!$D7,'1.3.2.2'!$S$5:$S$100) -> 0 | K7: =SUMIF('1.3.2.1'!$F$5:$F$100,'1.3.2'!$D7,'1.3.2.1'!$U$5:$U$100) -> 0 | L7: =SUMIF('1.3.2.2'!$F$5:$F$100,'1.3.2'!$D7,'1.3.2.2'!$T$5:$T$100) -> 0 | M7: =SUM(I7:L7) -> 766857.37 | N7: =M7/H7 -> 50 | O7: =H7/E7 -> 0.76685737 | Q7: =IF($N7<RW_Pumpen!$B$1,RW_Pumpen!$B$2,IF($N7>RW_Pumpen!$D$1,RW_Pumpen!$D$2,RW_Pumpen!$C$2)) -> 0.56 | R7: =IF($N7<RW_Pumpen!$B$1,RW_Pumpen!$B$3,IF($N7>RW_Pumpen!$D$1,RW_Pumpen!$D$3,RW_Pumpen!$C$3)) -> 0.53 | S7: =(Q7*SUM(I7:J7)+R7*SUM(K7:L7))/(M7) -> 0.56
A8: 8 | F8: {=SUMIF('1.3.2.1'!$F$5:$F$100,'1.3.2'!$D8,'1.3.2.1'!$L$5:$L$100)} -> 0 | G8: =SUMIF('1.3.2.2'!$F$5:$F$100,'1.3.2'!$D8,'1.3.2.2'!$J$5:$J$100) -> 0 | H8: =SUM(F8:G8) -> 0 | I8: =SUMIF('1.3.2.1'!$F$5:$F$100,'1.3.2'!$D8,'1.3.2.1'!$T$5:$T$100) -> 0 | J8: =SUMIF('1.3.2.2'!$F$5:$F$100,'1.3.2'!$D8,'1.3.2.2'!$S$5:$S$100) -> 0 | K8: =SUMIF('1.3.2.1'!$F$5:$F$100,'1.3.2'!$D8,'1.3.2.1'!$U$5:$U$100) -> 0 | L8: =SUMIF('1.3.2.2'!$F$5:$F$100,'1.3.2'!$D8,'1.3.2.2'!$T$5:$T$100) -> 0 | M8: =SUM(I8:L8) -> 0 | N8: =M8/H8 -> #DIV/0! | O8: =H8/E8 -> #DIV/0! | Q8: =IF($N8<RW_Pumpen!$B$1,RW_Pumpen!$B$2,IF($N8>RW_Pumpen!$D$1,RW_Pumpen!$D$2,RW_Pumpen!$C$2)) -> #DIV/0! | R8: =IF($N8<RW_Pumpen!$B$1,RW_Pumpen!$B$3,IF($N8>RW_Pumpen!$D$1,RW_Pumpen!$D$3,RW_Pumpen!$C$3)) -> #DIV/0! | S8: =(Q8*SUM(I8:J8)+R8*SUM(K8:L8))/(M8) -> #DIV/0!
A9: 9 | F9: {=SUMIF('1.3.2.1'!$F$5:$F$100,'1.3.2'!$D9,'1.3.2.1'!$L$5:$L$100)} -> 0 | G9: =SUMIF('1.3.2.2'!$F$5:$F$100,'1.3.2'!$D9,'1.3.2.2'!$J$5:$J$100) -> 0 | H9: =SUM(F9:G9) -> 0 | I9: =SUMIF('1.3.2.1'!$F$5:$F$100,'1.3.2'!$D9,'1.3.2.1'!$T$5:$T$100) -> 0 | J9: =SUMIF('1.3.2.2'!$F$5:$F$100,'1.3.2'!$D9,'1.3.2.2'!$S$5:$S$100) -> 0 | K9: =SUMIF('1.3.2.1'!$F$5:$F$100,'1.3.2'!$D9,'1.3.2.1'!$U$5:$U$100) -> 0 | L9: =SUMIF('1.3.2.2'!$F$5:$F$100,'1.3.2'!$D9,'1.3.2.2'!$T$5:$T$100) -> 0 | M9: =SUM(I9:L9) -> 0 | N9: =M9/H9 -> #DIV/0! | O9: =H9/E9 -> #DIV/0! | Q9: =IF($N9<RW_Pumpen!$B$1,RW_Pumpen!$B$2,IF($N9>RW_Pumpen!$D$1,RW_Pumpen!$D$2,RW_Pumpen!$C$2)) -> #DIV/0! | R9: =IF($N9<RW_Pumpen!$B$1,RW_Pumpen!$B$3,IF($N9>RW_Pumpen!$D$1,RW_Pumpen!$D$3,RW_Pumpen!$C$3)) -> #DIV/0! | S9: =(Q9*SUM(I9:J9)+R9*SUM(K9:L9))/(M9) -> #DIV/0!
A10: 10 | F10: {=SUMIF('1.3.2.1'!$F$5:$F$100,'1.3.2'!$D10,'1.3.2.1'!$L$5:$L$100)} -> 0 | G10: =SUMIF('1.3.2.2'!$F$5:$F$100,'1.3.2'!$D10,'1.3.2.2'!$J$5:$J$100) -> 0 | H10: =SUM(F10:G10) -> 0 | I10: =SUMIF('1.3.2.1'!$F$5:$F$100,'1.3.2'!$D10,'1.3.2.1'!$T$5:$T$100) -> 0 | J10: =SUMIF('1.3.2.2'!$F$5:$F$100,'1.3.2'!$D10,'1.3.2.2'!$S$5:$S$100) -> 0 | K10: =SUMIF('1.3.2.1'!$F$5:$F$100,'1.3.2'!$D10,'1.3.2.1'!$U$5:$U$100) -> 0 | L10: =SUMIF('1.3.2.2'!$F$5:$F$100,'1.3.2'!$D10,'1.3.2.2'!$T$5:$T$100) -> 0 | M10: =SUM(I10:L10) -> 0 | N10: =M10/H10 -> #DIV/0! | O10: =H10/E10 -> #DIV/0! | Q10: =IF($N10<RW_Pumpen!$B$1,RW_Pumpen!$B$2,IF($N10>RW_Pumpen!$D$1,RW_Pumpen!$D$2,RW_Pumpen!$C$2)) -> #DIV/0! | R10: =IF($N10<RW_Pumpen!$B$1,RW_Pumpen!$B$3,IF($N10>RW_Pumpen!$D$1,RW_Pumpen!$D$3,RW_Pumpen!$C$3)) -> #DIV/0! | S10: =(Q10*SUM(I10:J10)+R10*SUM(K10:L10))/(M10) -> #DIV/0!
A11: 11 | F11: {=SUMIF('1.3.2.1'!$F$5:$F$100,'1.3.2'!$D11,'1.3.2.1'!$L$5:$L$100)} -> 0 | G11: =SUMIF('1.3.2.2'!$F$5:$F$100,'1.3.2'!$D11,'1.3.2.2'!$J$5:$J$100) -> 0 | H11: =SUM(F11:G11) -> 0 | I11: =SUMIF('1.3.2.1'!$F$5:$F$100,'1.3.2'!$D11,'1.3.2.1'!$T$5:$T$100) -> 0 | J11: =SUMIF('1.3.2.2'!$F$5:$F$100,'1.3.2'!$D11,'1.3.2.2'!$S$5:$S$100) -> 0 | K11: =SUMIF('1.3.2.1'!$F$5:$F$100,'1.3.2'!$D11,'1.3.2.1'!$U$5:$U$100) -> 0 | L11: =SUMIF('1.3.2.2'!$F$5:$F$100,'1.3.2'!$D11,'1.3.2.2'!$T$5:$T$100) -> 0 | M11: =SUM(I11:L11) -> 0 | N11: =M11/H11 -> #DIV/0! | O11: =H11/E11 -> #DIV/0! | Q11: =IF($N11<RW_Pumpen!$B$1,RW_Pumpen!$B$2,IF($N11>RW_Pumpen!$D$1,RW_Pumpen!$D$2,RW_Pumpen!$C$2)) -> #DIV/0! | R11: =IF($N11<RW_Pumpen!$B$1,RW_Pumpen!$B$3,IF($N11>RW_Pumpen!$D$1,RW_Pumpen!$D$3,RW_Pumpen!$C$3)) -> #DIV/0! | S11: =(Q11*SUM(I11:J11)+R11*SUM(K11:L11))/(M11) -> #DIV/0!
A12: 12 | F12: {=SUMIF('1.3.2.1'!$F$5:$F$100,'1.3.2'!$D12,'1.3.2.1'!$L$5:$L$100)} -> 0 | G12: =SUMIF('1.3.2.2'!$F$5:$F$100,'1.3.2'!$D12,'1.3.2.2'!$J$5:$J$100) -> 0 | H12: =SUM(F12:G12) -> 0 | I12: =SUMIF('1.3.2.1'!$F$5:$F$100,'1.3.2'!$D12,'1.3.2.1'!$T$5:$T$100) -> 0 | J12: =SUMIF('1.3.2.2'!$F$5:$F$100,'1.3.2'!$D12,'1.3.2.2'!$S$5:$S$100) -> 0 | K12: =SUMIF('1.3.2.1'!$F$5:$F$100,'1.3.2'!$D12,'1.3.2.1'!$U$5:$U$100) -> 0 | L12: =SUMIF('1.3.2.2'!$F$5:$F$100,'1.3.2'!$D12,'1.3.2.2'!$T$5:$T$100) -> 0 | M12: =SUM(I12:L12) -> 0 | N12: =M12/H12 -> #DIV/0! | O12: =H12/E12 -> #DIV/0! | Q12: =IF($N12<RW_Pumpen!$B$1,RW_Pumpen!$B$2,IF($N12>RW_Pumpen!$D$1,RW_Pumpen!$D$2,RW_Pumpen!$C$2)) -> #DIV/0! | R12: =IF($N12<RW_Pumpen!$B$1,RW_Pumpen!$B$3,IF($N12>RW_Pumpen!$D$1,RW_Pumpen!$D$3,RW_Pumpen!$C$3)) -> #DIV/0! | S12: =(Q12*SUM(I12:J12)+R12*SUM(K12:L12))/(M12) -> #DIV/0!
A13: 13 | F13: {=SUMIF('1.3.2.1'!$F$5:$F$100,'1.3.2'!$D13,'1.3.2.1'!$L$5:$L$100)} -> 0 | G13: =SUMIF('1.3.2.2'!$F$5:$F$100,'1.3.2'!$D13,'1.3.2.2'!$J$5:$J$100) -> 0 | H13: =SUM(F13:G13) -> 0 | I13: =SUMIF('1.3.2.1'!$F$5:$F$100,'1.3.2'!$D13,'1.3.2.1'!$T$5:$T$100) -> 0 | J13: =SUMIF('1.3.2.2'!$F$5:$F$100,'1.3.2'!$D13,'1.3.2.2'!$S$5:$S$100) -> 0 | K13: =SUMIF('1.3.2.1'!$F$5:$F$100,'1.3.2'!$D13,'1.3.2.1'!$U$5:$U$100) -> 0 | L13: =SUMIF('1.3.2.2'!$F$5:$F$100,'1.3.2'!$D13,'1.3.2.2'!$T$5:$T$100) -> 0 | M13: =SUM(I13:L13) -> 0 | N13: =M13/H13 -> #DIV/0! | O13: =H13/E13 -> #DIV/0! | Q13: =IF($N13<RW_Pumpen!$B$1,RW_Pumpen!$B$2,IF($N13>RW_Pumpen!$D$1,RW_Pumpen!$D$2,RW_Pumpen!$C$2)) -> #DIV/0! | R13: =IF($N13<RW_Pumpen!$B$1,RW_Pumpen!$B$3,IF($N13>RW_Pumpen!$D$1,RW_Pumpen!$D$3,RW_Pumpen!$C$3)) -> #DIV/0! | S13: =(Q13*SUM(I13:J13)+R13*SUM(K13:L13))/(M13) -> #DIV/0!
A14: 14 | F14: {=SUMIF('1.3.2.1'!$F$5:$F$100,'1.3.2'!$D14,'1.3.2.1'!$L$5:$L$100)} -> 0 | G14: =SUMIF('1.3.2.2'!$F$5:$F$100,'1.3.2'!$D14,'1.3.2.2'!$J$5:$J$100) -> 0 | H14: =SUM(F14:G14) -> 0 | I14: =SUMIF('1.3.2.1'!$F$5:$F$100,'1.3.2'!$D14,'1.3.2.1'!$T$5:$T$100) -> 0 | J14: =SUMIF('1.3.2.2'!$F$5:$F$100,'1.3.2'!$D14,'1.3.2.2'!$S$5:$S$100) -> 0 | K14: =SUMIF('1.3.2.1'!$F$5:$F$100,'1.3.2'!$D14,'1.3.2.1'!$U$5:$U$100) -> 0 | L14: =SUMIF('1.3.2.2'!$F$5:$F$100,'1.3.2'!$D14,'1.3.2.2'!$T$5:$T$100) -> 0 | M14: =SUM(I14:L14) -> 0 | N14: =M14/H14 -> #DIV/0! | O14: =H14/E14 -> #DIV/0! | Q14: =IF($N14<RW_Pumpen!$B$1,RW_Pumpen!$B$2,IF($N14>RW_Pumpen!$D$1,RW_Pumpen!$D$2,RW_Pumpen!$C$2)) -> #DIV/0! | R14: =IF($N14<RW_Pumpen!$B$1,RW_Pumpen!$B$3,IF($N14>RW_Pumpen!$D$1,RW_Pumpen!$D$3,RW_Pumpen!$C$3)) -> #DIV/0! | S14: =(Q14*SUM(I14:J14)+R14*SUM(K14:L14))/(M14) -> #DIV/0!
A15: 15 | F15: {=SUMIF('1.3.2.1'!$F$5:$F$100,'1.3.2'!$D15,'1.3.2.1'!$L$5:$L$100)} -> 0 | G15: =SUMIF('1.3.2.2'!$F$5:$F$100,'1.3.2'!$D15,'1.3.2.2'!$J$5:$J$100) -> 0 | H15: =SUM(F15:G15) -> 0 | I15: =SUMIF('1.3.2.1'!$F$5:$F$100,'1.3.2'!$D15,'1.3.2.1'!$T$5:$T$100) -> 0 | J15: =SUMIF('1.3.2.2'!$F$5:$F$100,'1.3.2'!$D15,'1.3.2.2'!$S$5:$S$100) -> 0 | K15: =SUMIF('1.3.2.1'!$F$5:$F$100,'1.3.2'!$D15,'1.3.2.1'!$U$5:$U$100) -> 0 | L15: =SUMIF('1.3.2.2'!$F$5:$F$100,'1.3.2'!$D15,'1.3.2.2'!$T$5:$T$100) -> 0 | M15: =SUM(I15:L15) -> 0 | N15: =M15/H15 -> #DIV/0! | O15: =H15/E15 -> #DIV/0! | Q15: =IF($N15<RW_Pumpen!$B$1,RW_Pumpen!$B$2,IF($N15>RW_Pumpen!$D$1,RW_Pumpen!$D$2,RW_Pumpen!$C$2)) -> #DIV/0! | R15: =IF($N15<RW_Pumpen!$B$1,RW_Pumpen!$B$3,IF($N15>RW_Pumpen!$D$1,RW_Pumpen!$D$3,RW_Pumpen!$C$3)) -> #DIV/0! | S15: =(Q15*SUM(I15:J15)+R15*SUM(K15:L15))/(M15) -> #DIV/0!
A16: 16 | F16: {=SUMIF('1.3.2.1'!$F$5:$F$100,'1.3.2'!$D16,'1.3.2.1'!$L$5:$L$100)} -> 0 | G16: =SUMIF('1.3.2.2'!$F$5:$F$100,'1.3.2'!$D16,'1.3.2.2'!$J$5:$J$100) -> 0 | H16: =SUM(F16:G16) -> 0 | I16: =SUMIF('1.3.2.1'!$F$5:$F$100,'1.3.2'!$D16,'1.3.2.1'!$T$5:$T$100) -> 0 | J16: =SUMIF('1.3.2.2'!$F$5:$F$100,'1.3.2'!$D16,'1.3.2.2'!$S$5:$S$100) -> 0 | K16: =SUMIF('1.3.2.1'!$F$5:$F$100,'1.3.2'!$D16,'1.3.2.1'!$U$5:$U$100) -> 0 | L16: =SUMIF('1.3.2.2'!$F$5:$F$100,'1.3.2'!$D16,'1.3.2.2'!$T$5:$T$100) -> 0 | M16: =SUM(I16:L16) -> 0 | N16: =M16/H16 -> #DIV/0! | O16: =H16/E16 -> #DIV/0! | Q16: =IF($N16<RW_Pumpen!$B$1,RW_Pumpen!$B$2,IF($N16>RW_Pumpen!$D$1,RW_Pumpen!$D$2,RW_Pumpen!$C$2)) -> #DIV/0! | R16: =IF($N16<RW_Pumpen!$B$1,RW_Pumpen!$B$3,IF($N16>RW_Pumpen!$D$1,RW_Pumpen!$D$3,RW_Pumpen!$C$3)) -> #DIV/0! | S16: =(Q16*SUM(I16:J16)+R16*SUM(K16:L16))/(M16) -> #DIV/0!
A17: 17 | F17: {=SUMIF('1.3.2.1'!$F$5:$F$100,'1.3.2'!$D17,'1.3.2.1'!$L$5:$L$100)} -> 0 | G17: =SUMIF('1.3.2.2'!$F$5:$F$100,'1.3.2'!$D17,'1.3.2.2'!$J$5:$J$100) -> 0 | H17: =SUM(F17:G17) -> 0 | I17: =SUMIF('1.3.2.1'!$F$5:$F$100,'1.3.2'!$D17,'1.3.2.1'!$T$5:$T$100) -> 0 | J17: =SUMIF('1.3.2.2'!$F$5:$F$100,'1.3.2'!$D17,'1.3.2.2'!$S$5:$S$100) -> 0 | K17: =SUMIF('1.3.2.1'!$F$5:$F$100,'1.3.2'!$D17,'1.3.2.1'!$U$5:$U$100) -> 0 | L17: =SUMIF('1.3.2.2'!$F$5:$F$100,'1.3.2'!$D17,'1.3.2.2'!$T$5:$T$100) -> 0 | M17: =SUM(I17:L17) -> 0 | N17: =M17/H17 -> #DIV/0! | O17: =H17/E17 -> #DIV/0! | Q17: =IF($N17<RW_Pumpen!$B$1,RW_Pumpen!$B$2,IF($N17>RW_Pumpen!$D$1,RW_Pumpen!$D$2,RW_Pumpen!$C$2)) -> #DIV/0! | R17: =IF($N17<RW_Pumpen!$B$1,RW_Pumpen!$B$3,IF($N17>RW_Pumpen!$D$1,RW_Pumpen!$D$3,RW_Pumpen!$C$3)) -> #DIV/0! | S17: =(Q17*SUM(I17:J17)+R17*SUM(K17:L17))/(M17) -> #DIV/0!
A18: 18 | F18: {=SUMIF('1.3.2.1'!$F$5:$F$100,'1.3.2'!$D18,'1.3.2.1'!$L$5:$L$100)} -> 0 | G18: =SUMIF('1.3.2.2'!$F$5:$F$100,'1.3.2'!$D18,'1.3.2.2'!$J$5:$J$100) -> 0 | H18: =SUM(F18:G18) -> 0 | I18: =SUMIF('1.3.2.1'!$F$5:$F$100,'1.3.2'!$D18,'1.3.2.1'!$T$5:$T$100) -> 0 | J18: =SUMIF('1.3.2.2'!$F$5:$F$100,'1.3.2'!$D18,'1.3.2.2'!$S$5:$S$100) -> 0 | K18: =SUMIF('1.3.2.1'!$F$5:$F$100,'1.3.2'!$D18,'1.3.2.1'!$U$5:$U$100) -> 0 | L18: =SUMIF('1.3.2.2'!$F$5:$F$100,'1.3.2'!$D18,'1.3.2.2'!$T$5:$T$100) -> 0 | M18: =SUM(I18:L18) -> 0 | N18: =M18/H18 -> #DIV/0! | O18: =H18/E18 -> #DIV/0! | Q18: =IF($N18<RW_Pumpen!$B$1,RW_Pumpen!$B$2,IF($N18>RW_Pumpen!$D$1,RW_Pumpen!$D$2,RW_Pumpen!$C$2)) -> #DIV/0! | R18: =IF($N18<RW_Pumpen!$B$1,RW_Pumpen!$B$3,IF($N18>RW_Pumpen!$D$1,RW_Pumpen!$D$3,RW_Pumpen!$C$3)) -> #DIV/0! | S18: =(Q18*SUM(I18:J18)+R18*SUM(K18:L18))/(M18) -> #DIV/0!
A19: 19 | F19: {=SUMIF('1.3.2.1'!$F$5:$F$100,'1.3.2'!$D19,'1.3.2.1'!$L$5:$L$100)} -> 0 | G19: =SUMIF('1.3.2.2'!$F$5:$F$100,'1.3.2'!$D19,'1.3.2.2'!$J$5:$J$100) -> 0 | H19: =SUM(F19:G19) -> 0 | I19: =SUMIF('1.3.2.1'!$F$5:$F$100,'1.3.2'!$D19,'1.3.2.1'!$T$5:$T$100) -> 0 | J19: =SUMIF('1.3.2.2'!$F$5:$F$100,'1.3.2'!$D19,'1.3.2.2'!$S$5:$S$100) -> 0 | K19: =SUMIF('1.3.2.1'!$F$5:$F$100,'1.3.2'!$D19,'1.3.2.1'!$U$5:$U$100) -> 0 | L19: =SUMIF('1.3.2.2'!$F$5:$F$100,'1.3.2'!$D19,'1.3.2.2'!$T$5:$T$100) -> 0 | M19: =SUM(I19:L19) -> 0 | N19: =M19/H19 -> #DIV/0! | O19: =H19/E19 -> #DIV/0! | Q19: =IF($N19<RW_Pumpen!$B$1,RW_Pumpen!$B$2,IF($N19>RW_Pumpen!$D$1,RW_Pumpen!$D$2,RW_Pumpen!$C$2)) -> #DIV/0! | R19: =IF($N19<RW_Pumpen!$B$1,RW_Pumpen!$B$3,IF($N19>RW_Pumpen!$D$1,RW_Pumpen!$D$3,RW_Pumpen!$C$3)) -> #DIV/0! | S19: =(Q19*SUM(I19:J19)+R19*SUM(K19:L19))/(M19) -> #DIV/0!
... A100: 100 | F100: {=SUMIF('1.3.2.1'!$F$5:$F$100,'1.3.2'!$D100,'1.3.2.1'!$L$5:$L$100)} -> 0 | G100: =SUMIF('1.3.2.2'!$F$5:$F$100,'1.3.2'!$D100,'1.3.2.2'!$J$5:$J$100) -> 0 | H100: =SUM(F100:G100) -> 0 | I100: =SUMIF('1.3.2.1'!$F$5:$F$100,'1.3.2'!$D100,'1.3.2.1'!$T$5:$T$100) -> 0 | J100: =SUMIF('1.3.2.2'!$F$5:$F$100,'1.3.2'!$D100,'1.3.2.2'!$S$5:$S$100) -> 0 | K100: =SUMIF('1.3.2.1'!$F$5:$F$100,'1.3.2'!$D100,'1.3.2.1'!$U$5:$U$100) -> 0 | L100: =SUMIF('1.3.2.2'!$F$5:$F$100,'1.3.2'!$D100,'1.3.2.2'!$T$5:$T$100) -> 0 | M100: =SUM(I100:L100) -> 0 | N100: =M100/H100 -> #DIV/0! | O100: =H100/E100 -> #DIV/0! | Q100: =IF($N100<RW_Pumpen!$B$1,RW_Pumpen!$B$2,IF($N100>RW_Pumpen!$D$1,RW_Pumpen!$D$2,RW_Pumpen!$C$2)) -> #DIV/0! | R100: =IF($N100<RW_Pumpen!$B$1,RW_Pumpen!$B$3,IF($N100>RW_Pumpen!$D$1,RW_Pumpen!$D$3,RW_Pumpen!$C$3)) -> #DIV/0! | S100: =(Q100*SUM(I100:J100)+R100*SUM(K100:L100))/(M100) -> #DIV/0!

Sheet 1.3.2.3
B1: Pumpenmessung
B3: B | C3: C | D3: D | E3: E | F3: F | G3: G | H3: H | I3: I | J3: J | K3: K | L3: L | N3: N | O3: O
B4: Name der Anlage | C4: Bezeichnung der Pumpe | D4: Datum der Pumpenmessung | E4: Nennleistung des Pumpenaggregates in kW | F4: Betriebs- stunden pro Jahr | G4: Aufstellungsart der Pumpen | H4: Wirkleistung aus der Pumpenmessung in kW | I4: Förderstrom zum Zeitpunkt der Pumpenmessung in l/s | J4: Förderhöhe zum Zeitpunkt der Pumpenmessung in m | K4: Gesamt-wirkungsgrad in % | L4: Leitungslänge zum Behälter bzw. kritischsten Punkt in m | M4: Netzdruck im kritischsten Punkt in m | N4: geodätischer Höhen-unterschied in m | O4: Reibungsverluste IST in m | P4: Reibungsverluste RICHTWERT in m | W4: < 1000 | X4: 1000-3000 | Y4: >3000
A5: 5 | W5: 5 - 8 | X5: 6 - 10 | Y5: 7 - 12
A6: 6 | B6: Anlage 2 | C6: Brunnenpumpe 1 | D6: 40574 | E6: 50 | F6: 2500 | G6: nass aufgestellt | H6: 40 | I6: 20 | J6: 93 | K6: 0.45 | L6: 50 | M6: 0 | N6: 87 | O6: =IF(N6=0,0,J6-(N6+M6)) -> 6 | P6: =IF(L6=0,0,IF(L6<1000,W6,IF(L6>3000,Y6,X6))) -> 5 - 8 | W6: 5 - 8 | X6: 6 - 10 | Y6: 7 - 12
A7: 7 | C7: Brunnenpumpe 3 | D7: 40574 | E7: 30 | F7: 125 | G7: nass aufgestellt | H7: 17 | I7: 20 | J7: 93 | K7: 0.37 | L7: 50 | M7: 0 | N7: 87 | O7: =IF(N7=0,0,J7-(N7+M7)) -> 6 | P7: =IF(L7=0,0,IF(L7<1000,W7,IF(L7>3000,Y7,X7))) -> 5 - 8 | W7: 5 - 8 | X7: 6 - 10 | Y7: 7 - 12
A8: 8 | C8: Brunnenpumpe 4 | D8: 40574 | E8: 150 | F8: 5400 | G8: nass aufgestellt | H8: 120 | I8: 100 | J8: 75 | K8: 0.65 | L8: 200 | M8: 0 | N8: 67 | O8: =IF(N8=0,0,J8-(N8+M8)) -> 8 | P8: =IF(L8=0,0,IF(L8<1000,W8,IF(L8>3000,Y8,X8))) -> 5 - 8 | W8: 5 - 8 | X8: 6 - 10 | Y8: 7 - 12
A9: 9 | O9: =IF(N9=0,0,J9-(N9+M9)) -> 0 | P9: =IF(L9=0,0,IF(L9<1000,W9,IF(L9>3000,Y9,X9))) -> 0 | W9: 5 - 8 | X9: 6 - 10 | Y9: 7 - 12
A10: 10 | O10: =IF(N10=0,0,J10-(N10+M10)) -> 0 | P10: =IF(L10=0,0,IF(L10<1000,W10,IF(L10>3000,Y10,X10))) -> 0 | W10: 5 - 8 | X10: 6 - 10 | Y10: 7 - 12
A11: 11 | O11: =IF(N11=0,0,J11-(N11+M11)) -> 0 | P11: =IF(L11=0,0,IF(L11<1000,W11,IF(L11>3000,Y11,X11))) -> 0 | W11: 5 - 8 | X11: 6 - 10 | Y11: 7 - 12
A12: 12 | O12: =IF(N12=0,0,J12-(N12+M12)) -> 0 | P12: =IF(L12=0,0,IF(L12<1000,W12,IF(L12>3000,Y12,X12))) -> 0 | W12: 5 - 8 | X12: 6 - 10 | Y12: 7 - 12
A13: 13 | O13: =IF(N13=0,0,J13-(N13+M13)) -> 0 | P13: =IF(L13=0,0,IF(L13<1000,W13,IF(L13>3000,Y13,X13))) -> 0 | W13: 5 - 8 | X13: 6 - 10 | Y13: 7 - 12
A14: 14 | O14: =IF(N14=0,0,J14-(N14+M14)) -> 0 | P14: =IF(L14=0,0,IF(L14<1000,W14,IF(L14>3000,Y14,X14))) -> 0 | W14: 5 - 8 | X14: 6 - 10 | Y14: 7 - 12
A15: 15 | O15: =IF(N15=0,0,J15-(N15+M15)) -> 0 | P15: =IF(L15=0,0,IF(L15<1000,W15,IF(L15>3000,Y15,X15))) -> 0 | W15: 5 - 8 | X15: 6 - 10 | Y15: 7 - 12
A16: 16 | O16: =IF(N16=0,0,J16-(N16+M16)) -> 0 | P16: =IF(L16=0,0,IF(L16<1000,W16,IF(L16>3000,Y16,X16))) -> 0 | W16: 5 - 8 | X16: 6 - 10 | Y16: 7 - 12
A17: 17 | O17: =IF(N17=0,0,J17-(N17+M17)) -> 0 | P17: =IF(L17=0,0,IF(L17<1000,W17,IF(L17>3000,Y17,X17))) -> 0 | W17: 5 - 8 | X17: 6 - 10 | Y17: 7 - 12
A18: 18 | O18: =IF(N18=0,0,J18-(N18+M18)) -> 0 | P18: =IF(L18=0,0,IF(L18<1000,W18,IF(L18>3000,Y18,X18))) -> 0 | W18: 5 - 8 | X18: 6 - 10 | Y18: 7 - 12
A19: 19 | O19: =IF(N19=0,0,J19-(N19+M19)) -> 0 | P19: =IF(L19=0,0,IF(L19<1000,W19,IF(L19>3000,Y19,X19))) -> 0 | W19: 5 - 8 | X19: 6 - 10 | Y19: 7 - 12
A20: 20 | O20: =IF(N20=0,0,J20-(N20+M20)) -> 0 | P20: =IF(L20=0,0,IF(L20<1000,W20,IF(L20>3000,Y20,X20))) -> 0 | W20: 5 - 8 | X20: 6 - 10 | Y20: 7 - 12
... A100: 100 | O100: =IF(N100=0,0,J100-(N100+M100)) -> 0 | P100: =IF(L100=0,0,IF(L100<1000,W100,IF(L100>3000,Y100,X100))) -> 0 | W100: 5 - 8 | X100: 6 - 10 | Y100: 7 - 12

Sheet 2.2.2
B1: Pumpengruppen nach Stromzähler
B3: B | C3: C | D3: D | E3: E | F3: F | G3: G
B4: Name der Anlage | C4: Bezeichnung des Stromzählers | D4: Laufende Nr. des Strom-zählers | E4: Stromverbrauch lt. Stromzähler im gewählten Zeitraum in kWh | F4: IST Gesamt-wirkungsgrad in % | G4: RICHTWERT Gesamt-wirkungsgrad in %
A5: 5 | B5: Summe | E5: ='1.3.2'!E5 -> 22500 | F5: ='1.3.2'!O5 -> 0.73298433 | G5: ='1.3.2'!S5 -> 0.56
A6: 6 | B6: ='1.3.2'!B6 -> Anlage 1 | C6: ='1.3.2'!C6 -> SZ001 | D6: ='1.3.2'!D6 -> 1 | E6: ='1.3.2'!E6 -> 2500 | F6: ='1.3.2'!O6 -> 0.462 | G6: =IF(F6=0,0,'1.3.2'!S6) -> 0.56
A7: 7 | B7: ='1.3.2'!B7 -> Anlage 2 | C7: ='1.3.2'!C7 -> SZ002 | D7: ='1.3.2'!D7 -> 2 | E7: ='1.3.2'!E7 -> 20000 | F7: ='1.3.2'!O7 -> 0.76685737 | G7: =IF(F7=0,0,'1.3.2'!S7) -> 0.56
A8: 8 | B8: ='1.3.2'!B8 -> 0 | C8: ='1.3.2'!C8 -> 0 | D8: ='1.3.2'!D8 -> 0 | E8: ='1.3.2'!E8 -> 0 | F8: ='1.3.2'!O8 -> #DIV/0! | G8: =IF(F8=0,0,'1.3.2'!S8) -> #DIV/0!
A9: 9 | B9: ='1.3.2'!B9 -> 0 | C9: ='1.3.2'!C9 -> 0 | D9: ='1.3.2'!D9 -> 0 | E9: ='1.3.2'!E9 -> 0 | F9: ='1.3.2'!O9 -> #DIV/0! | G9: =IF(F9=0,0,'1.3.2'!S9) -> #DIV/0!
A10: 10 | B10: ='1.3.2'!B10 -> 0 | C10: ='1.3.2'!C10 -> 0 | D10: ='1.3.2'!D10 -> 0 | E10: ='1.3.2'!E10 -> 0 | F10: ='1.3.2'!O10 -> #DIV/0! | G10: =IF(F10=0,0,'1.3.2'!S10) -> #DIV/0!
A11: 11 | B11: ='1.3.2'!B11 -> 0 | C11: ='1.3.2'!C11 -> 0 | D11: ='1.3.2'!D11 -> 0 | E11: ='1.3.2'!E11 -> 0 | F11: ='1.3.2'!O11 -> #DIV/0! | G11: =IF(F11=0,0,'1.3.2'!S11) -> #DIV/0!
A12: 12 | B12: ='1.3.2'!B12 -> 0 | C12: ='1.3.2'!C12 -> 0 | D12: ='1.3.2'!D12 -> 0 | E12: ='1.3.2'!E12 -> 0 | F12: ='1.3.2'!O12 -> #DIV/0! | G12: =IF(F12=0,0,'1.3.2'!S12) -> #DIV/0!
A13: 13 | B13: ='1.3.2'!B13 -> 0 | C13: ='1.3.2'!C13 -> 0 | D13: ='1.3.2'!D13 -> 0 | E13: ='1.3.2'!E13 -> 0 | F13: ='1.3.2'!O13 -> #DIV/0! | G13: =IF(F13=0,0,'1.3.2'!S13) -> #DIV/0!
A14: 14 | B14: ='1.3.2'!B14 -> 0 | C14: ='1.3.2'!C14 -> 0 | D14: ='1.3.2'!D14 -> 0 | E14: ='1.3.2'!E14 -> 0 | F14: ='1.3.2'!O14 -> #DIV/0! | G14: =IF(F14=0,0,'1.3.2'!S14) -> #DIV/0!
A15: 15 | B15: ='1.3.2'!B15 -> 0 | C15: ='1.3.2'!C15 -> 0 | D15: ='1.3.2'!D15 -> 0 | E15: ='1.3.2'!E15 -> 0 | F15: ='1.3.2'!O15 -> #DIV/0! | G15: =IF(F15=0,0,'1.3.2'!S15) -> #DIV/0!
A16: 16 | B16: ='1.3.2'!B16 -> 0 | C16: ='1.3.2'!C16 -> 0 | D16: ='1.3.2'!D16 -> 0 | E16: ='1.3.2'!E16 -> 0 | F16: ='1.3.2'!O16 -> #DIV/0! | G16: =IF(F16=0,0,'1.3.2'!S16) -> #DIV/0!
A17: 17 | B17: ='1.3.2'!B17 -> 0 | C17: ='1.3.2'!C17 -> 0 | D17: ='1.3.2'!D17 -> 0 | E17: ='1.3.2'!E17 -> 0 | F17: ='1.3.2'!O17 -> #DIV/0! | G17: =IF(F17=0,0,'1.3.2'!S17) -> #DIV/0!
... A100: 100 | B100: ='1.3.2'!B100 -> 0 | C100: ='1.3.2'!C100 -> 0 | D100: ='1.3.2'!D100 -> 0 | E100: ='1.3.2'!E100 -> 0 | F100: ='1.3.2'!O100 -> #DIV/0! | G100: =IF(F100=0,0,'1.3.2'!S100) -> #DIV/0!

Sheet 2.2.3
B1: Pumpenmessung
B3: B | C3: C | D3: D | E3: E | F3: F | G3: G | H3: H
B4: Name der Anlage | C4: Bezeichnung der Pumpe | D4: Aufstellungsart der Pumpe | E4: Wirkleistung aus der Pumpenmessung in kW | F4: Stromverbrauch berechnet nach Betriebsstunden der Pumpe pro Jahr in kWh/Jahr | G4: ISTWERT Gesamt-wirkungsgrad in % | H4: RICHTWERT Gesamt-wirkungsgrad in % | K4: trocken 0-5 | L4: UWP 0-5 | M4: trocken 5-50 | N4: UWP 5-50 | O4: trocken >50 | P4: UWP >50 | Q4: gewichteterISTWERT Gesamt-wirkungsgrad in % | R4: gewichteterRICHTWERT Gesamt-wirkungsgrad in %
A5: 5 | B5: Gesamt | F5: =SUM(F6:F100) -> 750125 | G5: =Q5/F5 -> 0.62254458 | H5: =R5/F5 -> 0.56863856 | K5: 0.44 | L5: 0.4 | M5: 0.56 | N5: 0.53 | O5: 0.64 | P5: 0.57 | Q5: =SUM(Q6:Q100) -> 466986.25 | R5: =SUM(R6:R100) -> 426550
A6: 6 | B6: ='1.3.2.3'!B6 -> Anlage 2 | C6: ='1.3.2.3'!C6 -> Brunnenpumpe 1 | D6: ='1.3.2.3'!G6 -> nass aufgestellt | E6: ='1.3.2.3'!H6 -> 40 | F6: ='1.3.2.3'!H6*'1.3.2.3'!F6 -> 100000 | G6: ='1.3.2.3'!K6 -> 0.45 | H6: =IF(AND(D6="trocken aufgestellt",E6<5),K5,IF(AND(D6="trocken aufgestellt",E6>50),O5,IF(AND(D6="nass aufgestellt",E6<5),L5,IF(AND(D6="nass aufgestellt",E6>50),P5,IF(AND(D6="nass aufgestellt",5>E6<50),N5,IF(G6=0,0,M5)))))) -> 0.56 | K6: 0.44 | L6: 0.4 | M6: 0.56 | N6: 0.53 | O6: 0.64 | P6: 0.57 | Q6: =F6*G6 -> 45000 | R6: =H6*F6 -> 56000
A7: 7 | B7: ='1.3.2.3'!B7 -> 0 | C7: ='1.3.2.3'!C7 -> Brunnenpumpe 3 | D7: ='1.3.2.3'!G7 -> nass aufgestellt | E7: ='1.3.2.3'!H7 -> 17 | F7: ='1.3.2.3'!H7*'1.3.2.3'!F7 -> 2125 | G7: ='1.3.2.3'!K7 -> 0.37 | H7: =IF(AND(D7="trocken aufgestellt",E7<5),K6,IF(AND(D7="trocken aufgestellt",E7>50),O6,IF(AND(D7="nass aufgestellt",E7<5),L6,IF(AND(D7="nass aufgestellt",E7>50),P6,IF(AND(D7="nass aufgestellt",5>E7<50),N6,IF(G7=0,0,M6)))))) -> 0.56 | K7: 0.44 | L7: 0.4 | M7: 0.56 | N7: 0.53 | O7: 0.64 | P7: 0.57 | Q7: =F7*G7 -> 786.25 | R7: =H7*F7 -> 1190
A8: 8 | B8: ='1.3.2.3'!B8 -> 0 | C8: ='1.3.2.3'!C8 -> Brunnenpumpe 4 | D8: ='1.3.2.3'!G8 -> nass aufgestellt | E8: ='1.3.2.3'!H8 -> 120 | F8: ='1.3.2.3'!H8*'1.3.2.3'!F8 -> 648000 | G8: ='1.3.2.3'!K8 -> 0.65 | H8: =IF(AND(D8="trocken aufgestellt",E8<5),K7,IF(AND(D8="trocken aufgestellt",E8>50),O7,IF(AND(D8="nass aufgestellt",E8<5),L7,IF(AND(D8="nass aufgestellt",E8>50),P7,IF(AND(D8="nass aufgestellt",5>E8<50),N7,IF(G8=0,0,M7)))))) -> 0.57 | K8: 0.44 | L8: 0.4 | M8: 0.56 | N8: 0.53 | O8: 0.64 | P8: 0.57 | Q8: =F8*G8 -> 421200 | R8: =H8*F8 -> 369360
A9: 9 | B9: ='1.3.2.3'!B9 -> 0 | C9: ='1.3.2.3'!C9 -> 0 | D9: ='1.3.2.3'!G9 -> 0 | E9: ='1.3.2.3'!H9 -> 0 | F9: ='1.3.2.3'!H9*'1.3.2.3'!F9 -> 0 | G9: ='1.3.2.3'!K9 -> 0 | H9: =IF(AND(D9="trocken aufgestellt",E9<5),K8,IF(AND(D9="trocken aufgestellt",E9>50),O8,IF(AND(D9="nass aufgestellt",E9<5),L8,IF(AND(D9="nass aufgestellt",E9>50),P8,IF(AND(D9="nass aufgestellt",5>E9<50),N8,IF(G9=0,0,M8)))))) -> 0 | K9: 0.44 | L9: 0.4 | M9: 0.56 | N9: 0.53 | O9: 0.64 | P9: 0.57 | Q9: =F9*G9 -> 0 | R9: =H9*F9 -> 0
A10: 10 | B10: ='1.3.2.3'!B10 -> 0 | C10: ='1.3.2.3'!C10 -> 0 | D10: ='1.3.2.3'!G10 -> 0 | E10: ='1.3.2.3'!H10 -> 0 | F10: ='1.3.2.3'!H10*'1.3.2.3'!F10 -> 0 | G10: ='1.3.2.3'!K10 -> 0 | H10: =IF(AND(D10="trocken aufgestellt",E10<5),K9,IF(AND(D10="trocken aufgestellt",E10>50),O9,IF(AND(D10="nass aufgestellt",E10<5),L9,IF(AND(D10="nass aufgestellt",E10>50),P9,IF(AND(D10="nass aufgestellt",5>E10<50),N9,IF(G10=0,0,M9)))))) -> 0 | K10: 0.44 | L10: 0.4 | M10: 0.56 | N10: 0.53 | O10: 0.64 | P10: 0.57 | Q10: =F10*G10 -> 0 | R10: =H10*F10 -> 0
A11: 11 | B11: ='1.3.2.3'!B11 -> 0 | C11: ='1.3.2.3'!C11 -> 0 | D11: ='1.3.2.3'!G11 -> 0 | E11: ='1.3.2.3'!H11 -> 0 | F11: ='1.3.2.3'!H11*'1.3.2.3'!F11 -> 0 | G11: ='1.3.2.3'!K11 -> 0 | H11: =IF(AND(D11="trocken aufgestellt",E11<5),K10,IF(AND(D11="trocken aufgestellt",E11>50),O10,IF(AND(D11="nass aufgestellt",E11<5),L10,IF(AND(D11="nass aufgestellt",E11>50),P10,IF(AND(D11="nass aufgestellt",5>E11<50),N10,IF(G11=0,0,M10)))))) -> 0 | K11: 0.44 | L11: 0.4 | M11: 0.56 | N11: 0.53 | O11: 0.64 | P11: 0.57 | Q11: =F11*G11 -> 0 | R11: =H11*F11 -> 0
A12: 12 | B12: ='1.3.2.3'!B12 -> 0 | C12: ='1.3.2.3'!C12 -> 0 | D12: ='1.3.2.3'!G12 -> 0 | E12: ='1.3.2.3'!H12 -> 0 | F12: ='1.3.2.3'!H12*'1.3.2.3'!F12 -> 0 | G12: ='1.3.2.3'!K12 -> 0 | H12: =IF(AND(D12="trocken aufgestellt",E12<5),K11,IF(AND(D12="trocken aufgestellt",E12>50),O11,IF(AND(D12="nass aufgestellt",E12<5),L11,IF(AND(D12="nass aufgestellt",E12>50),P11,IF(AND(D12="nass aufgestellt",5>E12<50),N11,IF(G12=0,0,M11)))))) -> 0 | K12: 0.44 | L12: 0.4 | M12: 0.56 | N12: 0.53 | O12: 0.64 | P12: 0.57 | Q12: =F12*G12 -> 0 | R12: =H12*F12 -> 0
A13: 13 | B13: ='1.3.2.3'!B13 -> 0 | C13: ='1.3.2.3'!C13 -> 0 | D13: ='1.3.2.3'!G13 -> 0 | E13: ='1.3.2.3'!H13 -> 0 | F13: ='1.3.2.3'!H13*'1.3.2.3'!F13 -> 0 | G13: ='1.3.2.3'!K13 -> 0 | H13: =IF(AND(D13="trocken aufgestellt",E13<5),K12,IF(AND(D13="trocken aufgestellt",E13>50),O12,IF(AND(D13="nass aufgestellt",E13<5),L12,IF(AND(D13="nass aufgestellt",E13>50),P12,IF(AND(D13="nass aufgestellt",5>E13<50),N12,IF(G13=0,0,M12)))))) -> 0 | K13: 0.44 | L13: 0.4 | M13: 0.56 | N13: 0.53 | O13: 0.64 | P13: 0.57 | Q13: =F13*G13 -> 0 | R13: =H13*F13 -> 0
A14: 14 | B14: ='1.3.2.3'!B14 -> 0 | C14: ='1.3.2.3'!C14 -> 0 | D14: ='1.3.2.3'!G14 -> 0 | E14: ='1.3.2.3'!H14 -> 0 | F14: ='1.3.2.3'!H14*'1.3.2.3'!F14 -> 0 | G14: ='1.3.2.3'!K14 -> 0 | H14: =IF(AND(D14="trocken aufgestellt",E14<5),K13,IF(AND(D14="trocken aufgestellt",E14>50),O13,IF(AND(D14="nass aufgestellt",E14<5),L13,IF(AND(D14="nass aufgestellt",E14>50),P13,IF(AND(D14="nass aufgestellt",5>E14<50),N13,IF(G14=0,0,M13)))))) -> 0 | K14: 0.44 | L14: 0.4 | M14: 0.56 | N14: 0.53 | O14: 0.64 | P14: 0.57 | Q14: =F14*G14 -> 0 | R14: =H14*F14 -> 0
A15: 15 | B15: ='1.3.2.3'!B15 -> 0 | C15: ='1.3.2.3'!C15 -> 0 | D15: ='1.3.2.3'!G15 -> 0 | E15: ='1.3.2.3'!H15 -> 0 | F15: ='1.3.2.3'!H15*'1.3.2.3'!F15 -> 0 | G15: ='1.3.2.3'!K15 -> 0 | H15: =IF(AND(D15="trocken aufgestellt",E15<5),K14,IF(AND(D15="trocken aufgestellt",E15>50),O14,IF(AND(D15="nass aufgestellt",E15<5),L14,IF(AND(D15="nass aufgestellt",E15>50),P14,IF(AND(D15="nass aufgestellt",5>E15<50),N14,IF(G15=0,0,M14)))))) -> 0 | K15: 0.44 | L15: 0.4 | M15: 0.56 | N15: 0.53 | O15: 0.64 | P15: 0.57 | Q15: =F15*G15 -> 0 | R15: =H15*F15 -> 0
A16: 16 | B16: ='1.3.2.3'!B16 -> 0 | C16: ='1.3.2.3'!C16 -> 0 | D16: ='1.3.2.3'!G16 -> 0 | E16: ='1.3.2.3'!H16 -> 0 | F16: ='1.3.2.3'!H16*'1.3.2.3'!F16 -> 0 | G16: ='1.3.2.3'!K16 -> 0 | H16: =IF(AND(D16="trocken aufgestellt",E16<5),K15,IF(AND(D16="trocken aufgestellt",E16>50),O15,IF(AND(D16="nass aufgestellt",E16<5),L15,IF(AND(D16="nass aufgestellt",E16>50),P15,IF(AND(D16="nass aufgestellt",5>E16<50),N15,IF(G16=0,0,M15)))))) -> 0 | K16: 0.44 | L16: 0.4 | M16: 0.56 | N16: 0.53 | O16: 0.64 | P16: 0.57 | Q16: =F16*G16 -> 0 | R16: =H16*F16 -> 0
A17: 17 | B17: ='1.3.2.3'!B17 -> 0 | C17: ='1.3.2.3'!C17 -> 0 | D17: ='1.3.2.3'!G17 -> 0 | E17: ='1.3.2.3'!H17 -> 0 | F17: ='1.3.2.3'!H17*'1.3.2.3'!F17 -> 0 | G17: ='1.3.2.3'!K17 -> 0 | H17: =IF(AND(D17="trocken aufgestellt",E17<5),K16,IF(AND(D17="trocken aufgestellt",E17>50),O16,IF(AND(D17="nass aufgestellt",E17<5),L16,IF(AND(D17="nass aufgestellt",E17>50),P16,IF(AND(D17="nass aufgestellt",5>E17<50),N16,IF(G17=0,0,M16)))))) -> 0 | K17: 0.44 | L17: 0.4 | M17: 0.56 | N17: 0.53 | O17: 0.64 | P17: 0.57 | Q17: =F17*G17 -> 0 | R17: =H17*F17 -> 0
... A100: 100 | B100: ='1.3.2.3'!B100 -> 0 | C100: ='1.3.2.3'!C100 -> 0 | D100: ='1.3.2.3'!G100 -> 0 | E100: ='1.3.2.3'!H100 -> 0 | F100: ='1.3.2.3'!H100*'1.3.2.3'!F100 -> 0 | G100: ='1.3.2.3'!K100 -> 0 | H100: =IF(AND(D100="trocken aufgestellt",E100<5),K99,IF(AND(D100="trocken aufgestellt",E100>50),O99,IF(AND(D100="nass aufgestellt",E100<5),L99,IF(AND(D100="nass aufgestellt",E100>50),P99,IF(AND(D100="nass aufgestellt",5>E100<50),N99,IF(G100=0,0,M99)))))) -> 0 | K100: 0.44 | L100: 0.4 | M100: 0.56 | N100: 0.53 | O100: 0.64 | P100: 0.57 | Q100: =F100*G100 -> 0 | R100: =H100*F100 -> 0
K101: 0.44 | L101: 0.4 | M101: 0.56 | N101: 0.53 | O101: 0.64 | P101: 0.57
K102: 0.44 | L102: 0.4 | M102: 0.56 | N102: 0.53 | O102: 0.64 | P102: 0.57
K103: 0.46 | L103: 0.41 | M103: 0.58 | N103: 0.55 | O103: 0.64 | P103: 0.58
K104: 0.46 | L104: 0.41 | M104: 0.58 | N104: 0.55 | O104: 0.64 | P104: 0.58
K105: 0.46 | L105: 0.41 | M105: 0.58 | N105: 0.55 | O105: 0.64 | P105: 0.58
K106: 0.46 | L106: 0.41 | M106: 0.58 | N106: 0.55 | O106: 0.64 | P106: 0.58
K107: 0.46 | L107: 0.41 | M107: 0.58 | N107: 0.55 | O107: 0.64 | P107: 0.58
K108: 0.46 | L108: 0.41 | M108: 0.58 | N108: 0.55 | O108: 0.64 | P108: 0.58
K109: 0.46 | L109: 0.41 | M109: 0.58 | N109: 0.55 | O109: 0.64 | P109: 0.58
K110: 0.46 | L110: 0.41 | M110: 0.58 | N110: 0.55 | O110: 0.64 | P110: 0.58
K111: 0.46 | L111: 0.41 | M111: 0.58 | N111: 0.55 | O111: 0.64 | P111: 0.58
K112: 0.46 | L112: 0.41 | M112: 0.58 | N112: 0.55 | O112: 0.64 | P112: 0.58
... K674: 0.46 | L674: 0.41 | M674: 0.58 | N674: 0.55 | O674: 0.64 | P674: 0.58

Sheet 2.3
B1: Wasserverluste
B3: B | C3: C | D3: D
B4: Stromverbrauch Aufbereitung, Desinfektion und Pumpen in kWh/m³ | C4: reale Wasserverluste in m³/Jahr | D4: Stromverbrauch durch Wasserverluste in kWh/Jahr
A5: 5
A6: 6 | B6: =('1.1.2'!F5+'1.1.2'!G5)/'1.1.1'!C12 -> 0.9 | C6: ='1.1.1'!C13 -> 50000 | D6: =B6*C6 -> 45000

Sheet 2.4
B1: Trinkwasserkraftwerke - Potentialabschätzung
B3: B | C3: C | D3: D | E3: E | F3: F | G3: G | H3: H | I3: I | J3: J | K3: K | L3: L | M3: M | N3: N | O3: O | P3: P
B4: Name der Variante Trinkwasserkraftwerk | C4: nutzbare Wassermenge als Durchfluss in l/s | D4: Bruttofallhöhe in m | E4: Länge der Fallleitung in m | F4: Durchmesser der Fallleitung als DN | G4: Kosten der Adaptierung bzw. Neuverlegung der Fallleitung in EUR/m | H4: Länge der zu verlegenden Stromleitung zum nächsten Einspeisepunkt in m | I4: geschätzte Gesamtkosten für die Adaptierung der Räumlichkeiten bzw. Errichtung eines Turbinenhauses in EUR | J4: Gesamtkosten der elektromaschinellen Ausrüstung lt. Leitfaden in Abhängigkeit der Leistung (Spalte L) in EUR | K4: Erzielbarer Einspeistarif in EUR/kWh | L4: Leistung in kW | M4: Jahres-stromproduktion in kWh/Jahr | N4: Investitions-kosten in EUR | O4: Erlöse in EUR/Jahr | P4: kumulierter Barwert nach 30 Jahren in EUR | R4: Nettofallhöhe in m | S4: Rohr- querschnitt m2 | T4: v in m/s | U4: kinematische Viskosität m2/s | V4: Reynoldszahl | W4: Reibungsbeiwert mm | X4: k/d | Y4: Rohreibungsbeiwert λ Startwert | Z4: Rohreibungsbeiwert λ Iteration 1 | AA4: Rohreibungsbeiwert λ Iteration 2 | AB4: Rohreibungsbeiwert λ Iteration 3 | AC4: Rohreibungsbeiwert λ Iteration 4 | AD4: Rohreibungsbeiwert λ Iteration 5 | AE4: Rohrreibungsgefälle | AF4: Rohrreibungsgefälle m/km | AG4: Druckverlusthöhe m | BN4: Kalkulationszinsfuß = 3% | CT4: Barwert | DY4: Barwert kummuliert
A5: 5 | AI5: n | BO5: Abzinsusfaktor | CT5: 0 | CU5: 1 | CV5: 2 | CW5: 3 | CX5: 4 | CY5: 5 | CZ5: 6 | DA5: 7 | DB5: 8 | DC5: 9 | DD5: 10 | DE5: 11 | DF5: 12 | DG5: 13 | DH5: 14 | DI5: 15 | DJ5: 16 | DK5: 17 | DL5: 18 | DM5: 19 | DN5: 20 | DO5: 21 | DP5: 22 | DQ5: 23 | DR5: 24 | DS5: 25 | DT5: 26 | DU5: 27 | DV5: 28 | DW5: 29 | DX5: 30 | DY5: 0 | DZ5: 1 | EA5: 2 | EB5: 3 | EC5: 4 | ED5: 5 | EE5: 6 | EF5: 7 | EG5: 8 | EH5: 9 | EI5: 10 | EJ5: 11 | EK5: 12 | EL5: 13 | EM5: 14 | EN5: 15 | EO5: 16 | EP5: 17 | EQ5: 18 | ER5: 19 | ES5: 20 | ET5: 21 | EU5: 22 | EV5: 23 | EW5: 24 | EX5: 25 | EY5: 26 | EZ5: 27 | FA5: 28 | FB5: 29 | FC5: 30
A6: 6 | B6: TWKW 3 | C6: 25 | D6: 200 | E6: 3000 | F6: 200 | G6: 0 | H6: 100 | I6: 150000 | J6: 50000 | K6: 0.0568 | L6: =9.81*C6/1000*R6*0.63 -> 29.044943 | M6: =L6*330*24 -> 230035.95 | N6: =G6*E6+H6*75+I6+J6 -> 207500 | O6: =M6*K6 -> 13066.042 | P6: =FC6 -> 48600.191 | R6: =D6-AG6 -> 187.98404 | S6: =(F6/1000/2)^2*PI() -> 0.031415927 | T6: =C6/1000/S6 -> 0.79577472 | U6: 1.31e-06 | V6: =T6*F6/1000/U6 -> 121492.32 | W6: 0.4 | X6: =W6/F6 -> 0.002 | Y6: 0.025 | Z6: =(1/(2*LOG((2.51/(V6*(SQRT(Y6))))+(W6/(3.71*F6)))))^2 -> 0.024814286 | AA6: =(1/(2*LOG((2.51/(V6*(SQRT(Z6))))+(W6/(3.71*F6)))))^2 -> 0.024819233 | AB6: =(1/(2*LOG((2.51/(V6*(SQRT(AA6))))+(W6/(3.71*F6)))))^2 -> 0.024819101 | AC6: =(1/(2*LOG((2.51/(V6*(SQRT(AB6))))+(W6/(3.71*F6)))))^2 -> 0.024819105 | AD6: =(1/(2*LOG((2.51/(V6*(SQRT(AC6))))+(W6/(3.71*F6)))))^2 -> 0.024819104 | AE6: =(AD6*T6*T6)/(2*9.81*F6/1000) -> 0.0040053215 | AF6: =AE6*1000 -> 4.0053215 | AG6: =AE6*E6 -> 12.015964 | AI6: 0 | AJ6: 1 | AK6: 2 | AL6: 3 | AM6: 4 | AN6: 5 | AO6: 6 | AP6: 7 | AQ6: 8 | AR6: 9 | AS6: 10 | AT6: 11 | AU6: 12 | AV6: 13 | AW6: 14 | AX6: 15 | AY6: 16 | AZ6: 17 | BA6: 18 | BB6: 19 | BC6: 20 | BD6: 21 | BE6: 22 | BF6: 23 | BG6: 24 | BH6: 25 | BI6: 26 | BJ6: 27 | BK6: 28 | BL6: 29 | BM6: 30 | BN6: 0.03 | BO6: =1/(1+$BN$6)^AI6 -> 1 | BP6: =1/(1+$BN$6)^AJ6 -> 0.97087379 | BQ6: =1/(1+$BN$6)^AK6 -> 0.94259591 | BR6: =1/(1+$BN$6)^AL6 -> 0.91514166 | BS6: =1/(1+$BN$6)^AM6 -> 0.88848705 | BT6: =1/(1+$BN$6)^AN6 -> 0.86260878 | BU6: =1/(1+$BN$6)^AO6 -> 0.83748426 | BV6: =1/(1+$BN$6)^AP6 -> 0.81309151 | ... CS6: =1/(1+$BN$6)^BM6 -> 0.41198676 | CT6: =(-($N6))*BO6 -> -207500 | CU6: =$O6*BP6 -> 12685.478 | CV6: =$O6*BQ6 -> 12315.998 | CW6: =$O6*BR6 -> 11957.279 | CX6: =$O6*BS6 -> 11609.009 | CY6: =$O6*BT6 -> 11270.883 | CZ6: =$O6*BU6 -> 10942.605 | DA6: =$O6*BV6 -> 10623.888 | DB6: =$O6*BW6 -> 10314.454 | ... DX6: =$O6*CS6 -> 5383.0363 | DY6: =CT6 -> -207500 | DZ6: =DY6+CU6 -> -194814.52 | EA6: =DZ6+CV6 -> -182498.52 | EB6: =EA6+CW6 -> -170541.25 | EC6: =EB6+CX6 -> -158932.24 | ED6: =EC6+CY6 -> -147661.35 | EE6: =ED6+CZ6 -> -136718.75 | EF6: =EE6+DA6 -> -126094.86 | EG6: =EF6+DB6 -> -115780.41 | ... FC6: =FB6+DX6 -> 48600.191
A7: 7 | L7: =9.81*C7/1000*R7*0.63 -> #DIV/0! | M7: =L7*330*24 -> #DIV/0! | N7: =G7*E7+H7*75+I7+J7 -> 0 | O7: =M7*K7 -> #DIV/0! | P7: =FC7 -> #DIV/0! | R7: =D7-AG7 -> #DIV/0! | S7: =(F7/1000/2)^2*PI() -> 0 | T7: =C7/1000/S7 -> #DIV/0! | U7: 1.31e-06 | V7: =T7*F7/1000/U7 -> #DIV/0! | W7: 0.4 | X7: =W7/F7 -> #DIV/0! | Y7: 0.025 | Z7: =(1/(2*LOG((2.51/(V7*(SQRT(Y7))))+(W7/(3.71*F7)))))^2 -> #DIV/0! | AA7: =(1/(2*LOG((2.51/(V7*(SQRT(Z7))))+(W7/(3.71*F7)))))^2 -> #DIV/0! | AB7: =(1/(2*LOG((2.51/(V7*(SQRT(AA7))))+(W7/(3.71*F7)))))^2 -> #DIV/0! | AC7: =(1/(2*LOG((2.51/(V7*(SQRT(AB7))))+(W7/(3.71*F7)))))^2 -> #DIV/0! | AD7: =(1/(2*LOG((2.51/(V7*(SQRT(AC7))))+(W7/(3.71*F7)))))^2 -> #DIV/0! | AE7: =(AD7*T7*T7)/(2*9.81*F7/1000) -> #DIV/0! | AF7: =AE7*1000 -> #DIV/0! | AG7: =AE7*E7 -> #DIV/0! | AI7: 0 | AJ7: 1 | AK7: 2 | AL7: 3 | AM7: 4 | AN7: 5 | AO7: 6 | AP7: 7 | AQ7: 8 | AR7: 9 | AS7: 10 | AT7: 11 | AU7: 12 | AV7: 13 | AW7: 14 | AX7: 15 | AY7: 16 | AZ7: 17 | BA7: 18 | BB7: 19 | BC7: 20 | BD7: 21 | BE7: 22 | BF7: 23 | BG7: 24 | BH7: 25 | BI7: 26 | BJ7: 27 | BK7: 28 | BL7: 29 | BM7: 30 | BN7: 0.03 | BO7: =1/(1+$BN$6)^AI7 -> 1 | BP7: =1/(1+$BN$6)^AJ7 -> 0.97087379 | BQ7: =1/(1+$BN$6)^AK7 -> 0.94259591 | BR7: =1/(1+$BN$6)^AL7 -> 0.91514166 | BS7: =1/(1+$BN$6)^AM7 -> 0.88848705 | BT7: =1/(1+$BN$6)^AN7 -> 0.86260878 | BU7: =1/(1+$BN$6)^AO7 -> 0.83748426 | BV7: =1/(1+$BN$6)^AP7 -> 0.81309151 | ... CS7: =1/(1+$BN$6)^BM7 -> 0.41198676 | CT7: =(-($N7))*BO7 -> 0 | CU7: =$O7*BP7 -> #DIV/0! | CV7: =$O7*BQ7 -> #DIV/0! | CW7: =$O7*BR7 -> #DIV/0! | CX7: =$O7*BS7 -> #DIV/0! | CY7: =$O7*BT7 -> #DIV/0! | CZ7: =$O7*BU7 -> #DIV/0! | DA7: =$O7*BV7 -> #DIV/0! | DB7: =$O7*BW7 -> #DIV/0! | ... DX7: =$O7*CS7 -> #DIV/0! | DY7: =CT7 -> 0 | DZ7: =DY7+CU7 -> #DIV/0! | EA7: =DZ7+CV7 -> #DIV/0! | EB7: =EA7+CW7 -> #DIV/0! | EC7: =EB7+CX7 -> #DIV/0! | ED7: =EC7+CY7 -> #DIV/0! | EE7: =ED7+CZ7 -> #DIV/0! | EF7: =EE7+DA7 -> #DIV/0! | EG7: =EF7+DB7 -> #DIV/0! | ... FC7: =FB7+DX7 -> #DIV/0!
A8: 8 | L8: =9.81*C8/1000*R8*0.63 -> #DIV/0! | M8: =L8*330*24 -> #DIV/0! | N8: =G8*E8+H8*75+I8+J8 -> 0 | O8: =M8*K8 -> #DIV/0! | P8: =FC8 -> #DIV/0! | R8: =D8-AG8 -> #DIV/0! | S8: =(F8/1000/2)^2*PI() -> 0 | T8: =C8/1000/S8 -> #DIV/0! | U8: 1.31e-06 | V8: =T8*F8/1000/U8 -> #DIV/0! | W8: 0.4 | X8: =W8/F8 -> #DIV/0! | Y8: 0.025 | Z8: =(1/(2*LOG((2.51/(V8*(SQRT(Y8))))+(W8/(3.71*F8)))))^2 -> #DIV/0! | AA8: =(1/(2*LOG((2.51/(V8*(SQRT(Z8))))+(W8/(3.71*F8)))))^2 -> #DIV/0! | AB8: =(1/(2*LOG((2.51/(V8*(SQRT(AA8))))+(W8/(3.71*F8)))))^2 -> #DIV/0! | AC8: =(1/(2*LOG((2.51/(V8*(SQRT(AB8))))+(W8/(3.71*F8)))))^2 -> #DIV/0! | AD8: =(1/(2*LOG((2.51/(V8*(SQRT(AC8))))+(W8/(3.71*F8)))))^2 -> #DIV/0! | AE8: =(AD8*T8*T8)/(2*9.81*F8/1000) -> #DIV/0! | AF8: =AE8*1000 -> #DIV/0! | AG8: =AE8*E8 -> #DIV/0! | AI8: 0 | AJ8: 1 | AK8: 2 | AL8: 3 | AM8: 4 | AN8: 5 | AO8: 6 | AP8: 7 | AQ8: 8 | AR8: 9 | AS8: 10 | AT8: 11 | AU8: 12 | AV8: 13 | AW8: 14 | AX8: 15 | AY8: 16 | AZ8: 17 | BA8: 18 | BB8: 19 | BC8: 20 | BD8: 21 | BE8: 22 | BF8: 23 | BG8: 24 | BH8: 25 | BI8: 26 | BJ8: 27 | BK8: 28 | BL8: 29 | BM8: 30 | BN8: 0.03 | BO8: =1/(1+$BN$6)^AI8 -> 1 | BP8: =1/(1+$BN$6)^AJ8 -> 0.97087379 | BQ8: =1/(1+$BN$6)^AK8 -> 0.94259591 | BR8: =1/(1+$BN$6)^AL8 -> 0.91514166 | BS8: =1/(1+$BN$6)^AM8 -> 0.88848705 | BT8: =1/(1+$BN$6)^AN8 -> 0.86260878 | BU8: =1/(1+$BN$6)^AO8 -> 0.83748426 | BV8: =1/(1+$BN$6)^AP8 -> 0.81309151 | ... CS8: =1/(1+$BN$6)^BM8 -> 0.41198676 | CT8: =(-($N8))*BO8 -> 0 | CU8: =$O8*BP8 -> #DIV/0! | CV8: =$O8*BQ8 -> #DIV/0! | CW8: =$O8*BR8 -> #DIV/0! | CX8: =$O8*BS8 -> #DIV/0! | CY8: =$O8*BT8 -> #DIV/0! | CZ8: =$O8*BU8 -> #DIV/0! | DA8: =$O8*BV8 -> #DIV/0! | DB8: =$O8*BW8 -> #DIV/0! | ... DX8: =$O8*CS8 -> #DIV/0! | DY8: =CT8 -> 0 | DZ8: =DY8+CU8 -> #DIV/0! | EA8: =DZ8+CV8 -> #DIV/0! | EB8: =EA8+CW8 -> #DIV/0! | EC8: =EB8+CX8 -> #DIV/0! | ED8: =EC8+CY8 -> #DIV/0! | EE8: =ED8+CZ8 -> #DIV/0! | EF8: =EE8+DA8 -> #DIV/0! | EG8: =EF8+DB8 -> #DIV/0! | ... FC8: =FB8+DX8 -> #DIV/0!
A9: 9 | L9: =9.81*C9/1000*R9*0.63 -> #DIV/0! | M9: =L9*330*24 -> #DIV/0! | N9: =G9*E9+H9*75+I9+J9 -> 0 | O9: =M9*K9 -> #DIV/0! | P9: =FC9 -> #DIV/0! | R9: =D9-AG9 -> #DIV/0! | S9: =(F9/1000/2)^2*PI() -> 0 | T9: =C9/1000/S9 -> #DIV/0! | U9: 1.31e-06 | V9: =T9*F9/1000/U9 -> #DIV/0! | W9: 0.4 | X9: =W9/F9 -> #DIV/0! | Y9: 0.025 | Z9: =(1/(2*LOG((2.51/(V9*(SQRT(Y9))))+(W9/(3.71*F9)))))^2 -> #DIV/0! | AA9: =(1/(2*LOG((2.51/(V9*(SQRT(Z9))))+(W9/(3.71*F9)))))^2 -> #DIV/0! | AB9: =(1/(2*LOG((2.51/(V9*(SQRT(AA9))))+(W9/(3.71*F9)))))^2 -> #DIV/0! | AC9: =(1/(2*LOG((2.51/(V9*(SQRT(AB9))))+(W9/(3.71*F9)))))^2 -> #DIV/0! | AD9: =(1/(2*LOG((2.51/(V9*(SQRT(AC9))))+(W9/(3.71*F9)))))^2 -> #DIV/0! | AE9: =(AD9*T9*T9)/(2*9.81*F9/1000) -> #DIV/0! | AF9: =AE9*1000 -> #DIV/0! | AG9: =AE9*E9 -> #DIV/0! | AI9: 0 | AJ9: 1 | AK9: 2 | AL9: 3 | AM9: 4 | AN9: 5 | AO9: 6 | AP9: 7 | AQ9: 8 | AR9: 9 | AS9: 10 | AT9: 11 | AU9: 12 | AV9: 13 | AW9: 14 | AX9: 15 | AY9: 16 | AZ9: 17 | BA9: 18 | BB9: 19 | BC9: 20 | BD9: 21 | BE9: 22 | BF9: 23 | BG9: 24 | BH9: 25 | BI9: 26 | BJ9: 27 | BK9: 28 | BL9: 29 | BM9: 30 | BN9: 0.03 | BO9: =1/(1+$BN$6)^AI9 -> 1 | BP9: =1/(1+$BN$6)^AJ9 -> 0.97087379 | BQ9: =1/(1+$BN$6)^AK9 -> 0.94259591 | BR9: =1/(1+$BN$6)^AL9 -> 0.91514166 | BS9: =1/(1+$BN$6)^AM9 -> 0.88848705 | BT9: =1/(1+$BN$6)^AN9 -> 0.86260878 | BU9: =1/(1+$BN$6)^AO9 -> 0.83748426 | BV9: =1/(1+$BN$6)^AP9 -> 0.81309151 | ... CS9: =1/(1+$BN$6)^BM9 -> 0.41198676 | CT9: =(-($N9))*BO9 -> 0 | CU9: =$O9*BP9 -> #DIV/0! | CV9: =$O9*BQ9 -> #DIV/0! | CW9: =$O9*BR9 -> #DIV/0! | CX9: =$O9*BS9 -> #DIV/0! | CY9: =$O9*BT9 -> #DIV/0! | CZ9: =$O9*BU9 -> #DIV/0! | DA9: =$O9*BV9 -> #DIV/0! | DB9: =$O9*BW9 -> #DIV/0! | ... DX9: =$O9*CS9 -> #DIV/0! | DY9: =CT9 -> 0 | DZ9: =DY9+CU9 -> #DIV/0! | EA9: =DZ9+CV9 -> #DIV/0! | EB9: =EA9+CW9 -> #DIV/0! | EC9: =EB9+CX9 -> #DIV/0! | ED9: =EC9+CY9 -> #DIV/0! | EE9: =ED9+CZ9 -> #DIV/0! | EF9: =EE9+DA9 -> #DIV/0! | EG9: =EF9+DB9 -> #DIV/0! | ... FC9: =FB9+DX9 -> #DIV/0!
A10: 10 | L10: =9.81*C10/1000*R10*0.63 -> #DIV/0! | M10: =L10*330*24 -> #DIV/0! | N10: =G10*E10+H10*75+I10+J10 -> 0 | O10: =M10*K10 -> #DIV/0! | P10: =FC10 -> #DIV/0! | R10: =D10-AG10 -> #DIV/0! | S10: =(F10/1000/2)^2*PI() -> 0 | T10: =C10/1000/S10 -> #DIV/0! | U10: 1.31e-06 | V10: =T10*F10/1000/U10 -> #DIV/0! | W10: 0.4 | X10: =W10/F10 -> #DIV/0! | Y10: 0.025 | Z10: =(1/(2*LOG((2.51/(V10*(SQRT(Y10))))+(W10/(3.71*F10)))))^2 -> #DIV/0! | AA10: =(1/(2*LOG((2.51/(V10*(SQRT(Z10))))+(W10/(3.71*F10)))))^2 -> #DIV/0! | AB10: =(1/(2*LOG((2.51/(V10*(SQRT(AA10))))+(W10/(3.71*F10)))))^2 -> #DIV/0! | AC10: =(1/(2*LOG((2.51/(V10*(SQRT(AB10))))+(W10/(3.71*F10)))))^2 -> #DIV/0! | AD10: =(1/(2*LOG((2.51/(V10*(SQRT(AC10))))+(W10/(3.71*F10)))))^2 -> #DIV/0! | AE10: =(AD10*T10*T10)/(2*9.81*F10/1000) -> #DIV/0! | AF10: =AE10*1000 -> #DIV/0! | AG10: =AE10*E10 -> #DIV/0! | AI10: 0 | AJ10: 1 | AK10: 2 | AL10: 3 | AM10: 4 | AN10: 5 | AO10: 6 | AP10: 7 | AQ10: 8 | AR10: 9 | AS10: 10 | AT10: 11 | AU10: 12 | AV10: 13 | AW10: 14 | AX10: 15 | AY10: 16 | AZ10: 17 | BA10: 18 | BB10: 19 | BC10: 20 | BD10: 21 | BE10: 22 | BF10: 23 | BG10: 24 | BH10: 25 | BI10: 26 | BJ10: 27 | BK10: 28 | BL10: 29 | BM10: 30 | BN10: 0.03 | BO10: =1/(1+$BN$6)^AI10 -> 1 | BP10: =1/(1+$BN$6)^AJ10 -> 0.97087379 | BQ10: =1/(1+$BN$6)^AK10 -> 0.94259591 | BR10: =1/(1+$BN$6)^AL10 -> 0.91514166 | BS10: =1/(1+$BN$6)^AM10 -> 0.88848705 | BT10: =1/(1+$BN$6)^AN10 -> 0.86260878 | BU10: =1/(1+$BN$6)^AO10 -> 0.83748426 | BV10: =1/(1+$BN$6)^AP10 -> 0.81309151 | ... CS10: =1/(1+$BN$6)^BM10 -> 0.41198676 | CT10: =(-($N10))*BO10 -> 0 | CU10: =$O10*BP10 -> #DIV/0! | CV10: =$O10*BQ10 -> #DIV/0! | CW10: =$O10*BR10 -> #DIV/0! | CX10: =$O10*BS10 -> #DIV/0! | CY10: =$O10*BT10 -> #DIV/0! | CZ10: =$O10*BU10 -> #DIV/0! | DA10: =$O10*BV10 -> #DIV/0! | DB10: =$O10*BW10 -> #DIV/0! | ... DX10: =$O10*CS10 -> #DIV/0! | DY10: =CT10 -> 0 | DZ10: =DY10+CU10 -> #DIV/0! | EA10: =DZ10+CV10 -> #DIV/0! | EB10: =EA10+CW10 -> #DIV/0! | EC10: =EB10+CX10 -> #DIV/0! | ED10: =EC10+CY10 -> #DIV/0! | EE10: =ED10+CZ10 -> #DIV/0! | EF10: =EE10+DA10 -> #DIV/0! | EG10: =EF10+DB10 -> #DIV/0! | ... FC10: =FB10+DX10 -> #DIV/0!
A11: 11 | L11: =9.81*C11/1000*R11*0.63 -> #DIV/0! | M11: =L11*330*24 -> #DIV/0! | N11: =G11*E11+H11*75+I11+J11 -> 0 | O11: =M11*K11 -> #DIV/0! | P11: =FC11 -> #DIV/0! | R11: =D11-AG11 -> #DIV/0! | S11: =(F11/1000/2)^2*PI() -> 0 | T11: =C11/1000/S11 -> #DIV/0! | U11: 1.31e-06 | V11: =T11*F11/1000/U11 -> #DIV/0! | W11: 0.4 | X11: =W11/F11 -> #DIV/0! | Y11: 0.025 | Z11: =(1/(2*LOG((2.51/(V11*(SQRT(Y11))))+(W11/(3.71*F11)))))^2 -> #DIV/0! | AA11: =(1/(2*LOG((2.51/(V11*(SQRT(Z11))))+(W11/(3.71*F11)))))^2 -> #DIV/0! | AB11: =(1/(2*LOG((2.51/(V11*(SQRT(AA11))))+(W11/(3.71*F11)))))^2 -> #DIV/0! | AC11: =(1/(2*LOG((2.51/(V11*(SQRT(AB11))))+(W11/(3.71*F11)))))^2 -> #DIV/0! | AD11: =(1/(2*LOG((2.51/(V11*(SQRT(AC11))))+(W11/(3.71*F11)))))^2 -> #DIV/0! | AE11: =(AD11*T11*T11)/(2*9.81*F11/1000) -> #DIV/0! | AF11: =AE11*1000 -> #DIV/0! | AG11: =AE11*E11 -> #DIV/0! | AI11: 0 | AJ11: 1 | AK11: 2 | AL11: 3 | AM11: 4 | AN11: 5 | AO11: 6 | AP11: 7 | AQ11: 8 | AR11: 9 | AS11: 10 | AT11: 11 | AU11: 12 | AV11: 13 | AW11: 14 | AX11: 15 | AY11: 16 | AZ11: 17 | BA11: 18 | BB11: 19 | BC11: 20 | BD11: 21 | BE11: 22 | BF11: 23 | BG11: 24 | BH11: 25 | BI11: 26 | BJ11: 27 | BK11: 28 | BL11: 29 | BM11: 30 | BN11: 0.03 | BO11: =1/(1+$BN$6)^AI11 -> 1 | BP11: =1/(1+$BN$6)^AJ11 -> 0.97087379 | BQ11: =1/(1+$BN$6)^AK11 -> 0.94259591 | BR11: =1/(1+$BN$6)^AL11 -> 0.91514166 | BS11: =1/(1+$BN$6)^AM11 -> 0.88848705 | BT11: =1/(1+$BN$6)^AN11 -> 0.86260878 | BU11: =1/(1+$BN$6)^AO11 -> 0.83748426 | BV11: =1/(1+$BN$6)^AP11 -> 0.81309151 | ... CS11: =1/(1+$BN$6)^BM11 -> 0.41198676 | CT11: =(-($N11))*BO11 -> 0 | CU11: =$O11*BP11 -> #DIV/0! | CV11: =$O11*BQ11 -> #DIV/0! | CW11: =$O11*BR11 -> #DIV/0! | CX11: =$O11*BS11 -> #DIV/0! | CY11: =$O11*BT11 -> #DIV/0! | CZ11: =$O11*BU11 -> #DIV/0! | DA11: =$O11*BV11 -> #DIV/0! | DB11: =$O11*BW11 -> #DIV/0! | ... DX11: =$O11*CS11 -> #DIV/0! | DY11: =CT11 -> 0 | DZ11: =DY11+CU11 -> #DIV/0! | EA11: =DZ11+CV11 -> #DIV/0! | EB11: =EA11+CW11 -> #DIV/0! | EC11: =EB11+CX11 -> #DIV/0! | ED11: =EC11+CY11 -> #DIV/0! | EE11: =ED11+CZ11 -> #DIV/0! | EF11: =EE11+DA11 -> #DIV/0! | EG11: =EF11+DB11 -> #DIV/0! | ... FC11: =FB11+DX11 -> #DIV/0!
A12: 12 | L12: =9.81*C12/1000*R12*0.63 -> #DIV/0! | M12: =L12*330*24 -> #DIV/0! | N12: =G12*E12+H12*75+I12+J12 -> 0 | O12: =M12*K12 -> #DIV/0! | P12: =FC12 -> #DIV/0! | R12: =D12-AG12 -> #DIV/0! | S12: =(F12/1000/2)^2*PI() -> 0 | T12: =C12/1000/S12 -> #DIV/0! | U12: 1.31e-06 | V12: =T12*F12/1000/U12 -> #DIV/0! | W12: 0.4 | X12: =W12/F12 -> #DIV/0! | Y12: 0.025 | Z12: =(1/(2*LOG((2.51/(V12*(SQRT(Y12))))+(W12/(3.71*F12)))))^2 -> #DIV/0! | AA12: =(1/(2*LOG((2.51/(V12*(SQRT(Z12))))+(W12/(3.71*F12)))))^2 -> #DIV/0! | AB12: =(1/(2*LOG((2.51/(V12*(SQRT(AA12))))+(W12/(3.71*F12)))))^2 -> #DIV/0! | AC12: =(1/(2*LOG((2.51/(V12*(SQRT(AB12))))+(W12/(3.71*F12)))))^2 -> #DIV/0! | AD12: =(1/(2*LOG((2.51/(V12*(SQRT(AC12))))+(W12/(3.71*F12)))))^2 -> #DIV/0! | AE12: =(AD12*T12*T12)/(2*9.81*F12/1000) -> #DIV/0! | AF12: =AE12*1000 -> #DIV/0! | AG12: =AE12*E12 -> #DIV/0! | AI12: 0 | AJ12: 1 | AK12: 2 | AL12: 3 | AM12: 4 | AN12: 5 | AO12: 6 | AP12: 7 | AQ12: 8 | AR12: 9 | AS12: 10 | AT12: 11 | AU12: 12 | AV12: 13 | AW12: 14 | AX12: 15 | AY12: 16 | AZ12: 17 | BA12: 18 | BB12: 19 | BC12: 20 | BD12: 21 | BE12: 22 | BF12: 23 | BG12: 24 | BH12: 25 | BI12: 26 | BJ12: 27 | BK12: 28 | BL12: 29 | BM12: 30 | BN12: 0.03 | BO12: =1/(1+$BN$6)^AI12 -> 1 | BP12: =1/(1+$BN$6)^AJ12 -> 0.97087379 | BQ12: =1/(1+$BN$6)^AK12 -> 0.94259591 | BR12: =1/(1+$BN$6)^AL12 -> 0.91514166 | BS12: =1/(1+$BN$6)^AM12 -> 0.88848705 | BT12: =1/(1+$BN$6)^AN12 -> 0.86260878 | BU12: =1/(1+$BN$6)^AO12 -> 0.83748426 | BV12: =1/(1+$BN$6)^AP12 -> 0.81309151 | ... CS12: =1/(1+$BN$6)^BM12 -> 0.41198676 | CT12: =(-($N12))*BO12 -> 0 | CU12: =$O12*BP12 -> #DIV/0! | CV12: =$O12*BQ12 -> #DIV/0! | CW12: =$O12*BR12 -> #DIV/0! | CX12: =$O12*BS12 -> #DIV/0! | CY12: =$O12*BT12 -> #DIV/0! | CZ12: =$O12*BU12 -> #DIV/0! | DA12: =$O12*BV12 -> #DIV/0! | DB12: =$O12*BW12 -> #DIV/0! | ... DX12: =$O12*CS12 -> #DIV/0! | DY12: =CT12 -> 0 | DZ12: =DY12+CU12 -> #DIV/0! | EA12: =DZ12+CV12 -> #DIV/0! | EB12: =EA12+CW12 -> #DIV/0! | EC12: =EB12+CX12 -> #DIV/0! | ED12: =EC12+CY12 -> #DIV/0! | EE12: =ED12+CZ12 -> #DIV/0! | EF12: =EE12+DA12 -> #DIV/0! | EG12: =EF12+DB12 -> #DIV/0! | ... FC12: =FB12+DX12 -> #DIV/0!
A13: 13 | L13: =9.81*C13/1000*R13*0.63 -> #DIV/0! | M13: =L13*330*24 -> #DIV/0! | N13: =G13*E13+H13*75+I13+J13 -> 0 | O13: =M13*K13 -> #DIV/0! | P13: =FC13 -> #DIV/0! | R13: =D13-AG13 -> #DIV/0! | S13: =(F13/1000/2)^2*PI() -> 0 | T13: =C13/1000/S13 -> #DIV/0! | U13: 1.31e-06 | V13: =T13*F13/1000/U13 -> #DIV/0! | W13: 0.4 | X13: =W13/F13 -> #DIV/0! | Y13: 0.025 | Z13: =(1/(2*LOG((2.51/(V13*(SQRT(Y13))))+(W13/(3.71*F13)))))^2 -> #DIV/0! | AA13: =(1/(2*LOG((2.51/(V13*(SQRT(Z13))))+(W13/(3.71*F13)))))^2 -> #DIV/0! | AB13: =(1/(2*LOG((2.51/(V13*(SQRT(AA13))))+(W13/(3.71*F13)))))^2 -> #DIV/0! | AC13: =(1/(2*LOG((2.51/(V13*(SQRT(AB13))))+(W13/(3.71*F13)))))^2 -> #DIV/0! | AD13: =(1/(2*LOG((2.51/(V13*(SQRT(AC13))))+(W13/(3.71*F13)))))^2 -> #DIV/0! | AE13: =(AD13*T13*T13)/(2*9.81*F13/1000) -> #DIV/0! | AF13: =AE13*1000 -> #DIV/0! | AG13: =AE13*E13 -> #DIV/0! | AI13: 0 | AJ13: 1 | AK13: 2 | AL13: 3 | AM13: 4 | AN13: 5 | AO13: 6 | AP13: 7 | AQ13: 8 | AR13: 9 | AS13: 10 | AT13: 11 | AU13: 12 | AV13: 13 | AW13: 14 | AX13: 15 | AY13: 16 | AZ13: 17 | BA13: 18 | BB13: 19 | BC13: 20 | BD13: 21 | BE13: 22 | BF13: 23 | BG13: 24 | BH13: 25 | BI13: 26 | BJ13: 27 | BK13: 28 | BL13: 29 | BM13: 30 | BN13: 0.03 | BO13: =1/(1+$BN$6)^AI13 -> 1 | BP13: =1/(1+$BN$6)^AJ13 -> 0.97087379 | BQ13: =1/(1+$BN$6)^AK13 -> 0.94259591 | BR13: =1/(1+$BN$6)^AL13 -> 0.91514166 | BS13: =1/(1+$BN$6)^AM13 -> 0.88848705 | BT13: =1/(1+$BN$6)^AN13 -> 0.86260878 | BU13: =1/(1+$BN$6)^AO13 -> 0.83748426 | BV13: =1/(1+$BN$6)^AP13 -> 0.81309151 | ... CS13: =1/(1+$BN$6)^BM13 -> 0.41198676 | CT13: =(-($N13))*BO13 -> 0 | CU13: =$O13*BP13 -> #DIV/0! | CV13: =$O13*BQ13 -> #DIV/0! | CW13: =$O13*BR13 -> #DIV/0! | CX13: =$O13*BS13 -> #DIV/0! | CY13: =$O13*BT13 -> #DIV/0! | CZ13: =$O13*BU13 -> #DIV/0! | DA13: =$O13*BV13 -> #DIV/0! | DB13: =$O13*BW13 -> #DIV/0! | ... DX13: =$O13*CS13 -> #DIV/0! | DY13: =CT13 -> 0 | DZ13: =DY13+CU13 -> #DIV/0! | EA13: =DZ13+CV13 -> #DIV/0! | EB13: =EA13+CW13 -> #DIV/0! | EC13: =EB13+CX13 -> #DIV/0! | ED13: =EC13+CY13 -> #DIV/0! | EE13: =ED13+CZ13 -> #DIV/0! | EF13: =EE13+DA13 -> #DIV/0! | EG13: =EF13+DB13 -> #DIV/0! | ... FC13: =FB13+DX13 -> #DIV/0!
A14: 14 | L14: =9.81*C14/1000*R14*0.63 -> #DIV/0! | M14: =L14*330*24 -> #DIV/0! | N14: =G14*E14+H14*75+I14+J14 -> 0 | O14: =M14*K14 -> #DIV/0! | P14: =FC14 -> #DIV/0! | R14: =D14-AG14 -> #DIV/0! | S14: =(F14/1000/2)^2*PI() -> 0 | T14: =C14/1000/S14 -> #DIV/0! | U14: 1.31e-06 | V14: =T14*F14/1000/U14 -> #DIV/0! | W14: 0.4 | X14: =W14/F14 -> #DIV/0! | Y14: 0.025 | Z14: =(1/(2*LOG((2.51/(V14*(SQRT(Y14))))+(W14/(3.71*F14)))))^2 -> #DIV/0! | AA14: =(1/(2*LOG((2.51/(V14*(SQRT(Z14))))+(W14/(3.71*F14)))))^2 -> #DIV/0! | AB14: =(1/(2*LOG((2.51/(V14*(SQRT(AA14))))+(W14/(3.71*F14)))))^2 -> #DIV/0! | AC14: =(1/(2*LOG((2.51/(V14*(SQRT(AB14))))+(W14/(3.71*F14)))))^2 -> #DIV/0! | AD14: =(1/(2*LOG((2.51/(V14*(SQRT(AC14))))+(W14/(3.71*F14)))))^2 -> #DIV/0! | AE14: =(AD14*T14*T14)/(2*9.81*F14/1000) -> #DIV/0! | AF14: =AE14*1000 -> #DIV/0! | AG14: =AE14*E14 -> #DIV/0! | AI14: 0 | AJ14: 1 | AK14: 2 | AL14: 3 | AM14: 4 | AN14: 5 | AO14: 6 | AP14: 7 | AQ14: 8 | AR14: 9 | AS14: 10 | AT14: 11 | AU14: 12 | AV14: 13 | AW14: 14 | AX14: 15 | AY14: 16 | AZ14: 17 | BA14: 18 | BB14: 19 | BC14: 20 | BD14: 21 | BE14: 22 | BF14: 23 | BG14: 24 | BH14: 25 | BI14: 26 | BJ14: 27 | BK14: 28 | BL14: 29 | BM14: 30 | BN14: 0.03 | BO14: =1/(1+$BN$6)^AI14 -> 1 | BP14: =1/(1+$BN$6)^AJ14 -> 0.97087379 | BQ14: =1/(1+$BN$6)^AK14 -> 0.94259591 | BR14: =1/(1+$BN$6)^AL14 -> 0.91514166 | BS14: =1/(1+$BN$6)^AM14 -> 0.88848705 | BT14: =1/(1+$BN$6)^AN14 -> 0.86260878 | BU14: =1/(1+$BN$6)^AO14 -> 0.83748426 | BV14: =1/(1+$BN$6)^AP14 -> 0.81309151 | ... CS14: =1/(1+$BN$6)^BM14 -> 0.41198676 | CT14: =(-($N14))*BO14 -> 0 | CU14: =$O14*BP14 -> #DIV/0! | CV14: =$O14*BQ14 -> #DIV/0! | CW14: =$O14*BR14 -> #DIV/0! | CX14: =$O14*BS14 -> #DIV/0! | CY14: =$O14*BT14 -> #DIV/0! | CZ14: =$O14*BU14 -> #DIV/0! | DA14: =$O14*BV14 -> #DIV/0! | DB14: =$O14*BW14 -> #DIV/0! | ... DX14: =$O14*CS14 -> #DIV/0! | DY14: =CT14 -> 0 | DZ14: =DY14+CU14 -> #DIV/0! | EA14: =DZ14+CV14 -> #DIV/0! | EB14: =EA14+CW14 -> #DIV/0! | EC14: =EB14+CX14 -> #DIV/0! | ED14: =EC14+CY14 -> #DIV/0! | EE14: =ED14+CZ14 -> #DIV/0! | EF14: =EE14+DA14 -> #DIV/0! | EG14: =EF14+DB14 -> #DIV/0! | ... FC14: =FB14+DX14 -> #DIV/0!
A15: 15 | L15: =9.81*C15/1000*R15*0.63 -> #DIV/0! | M15: =L15*330*24 -> #DIV/0! | N15: =G15*E15+H15*75+I15+J15 -> 0 | O15: =M15*K15 -> #DIV/0! | P15: =FC15 -> #DIV/0! | R15: =D15-AG15 -> #DIV/0! | S15: =(F15/1000/2)^2*PI() -> 0 | T15: =C15/1000/S15 -> #DIV/0! | U15: 1.31e-06 | V15: =T15*F15/1000/U15 -> #DIV/0! | W15: 0.4 | X15: =W15/F15 -> #DIV/0! | Y15: 0.025 | Z15: =(1/(2*LOG((2.51/(V15*(SQRT(Y15))))+(W15/(3.71*F15)))))^2 -> #DIV/0! | AA15: =(1/(2*LOG((2.51/(V15*(SQRT(Z15))))+(W15/(3.71*F15)))))^2 -> #DIV/0! | AB15: =(1/(2*LOG((2.51/(V15*(SQRT(AA15))))+(W15/(3.71*F15)))))^2 -> #DIV/0! | AC15: =(1/(2*LOG((2.51/(V15*(SQRT(AB15))))+(W15/(3.71*F15)))))^2 -> #DIV/0! | AD15: =(1/(2*LOG((2.51/(V15*(SQRT(AC15))))+(W15/(3.71*F15)))))^2 -> #DIV/0! | AE15: =(AD15*T15*T15)/(2*9.81*F15/1000) -> #DIV/0! | AF15: =AE15*1000 -> #DIV/0! | AG15: =AE15*E15 -> #DIV/0! | AI15: 0 | AJ15: 1 | AK15: 2 | AL15: 3 | AM15: 4 | AN15: 5 | AO15: 6 | AP15: 7 | AQ15: 8 | AR15: 9 | AS15: 10 | AT15: 11 | AU15: 12 | AV15: 13 | AW15: 14 | AX15: 15 | AY15: 16 | AZ15: 17 | BA15: 18 | BB15: 19 | BC15: 20 | BD15: 21 | BE15: 22 | BF15: 23 | BG15: 24 | BH15: 25 | BI15: 26 | BJ15: 27 | BK15: 28 | BL15: 29 | BM15: 30 | BN15: 0.03 | BO15: =1/(1+$BN$6)^AI15 -> 1 | BP15: =1/(1+$BN$6)^AJ15 -> 0.97087379 | BQ15: =1/(1+$BN$6)^AK15 -> 0.94259591 | BR15: =1/(1+$BN$6)^AL15 -> 0.91514166 | BS15: =1/(1+$BN$6)^AM15 -> 0.88848705 | BT15: =1/(1+$BN$6)^AN15 -> 0.86260878 | BU15: =1/(1+$BN$6)^AO15 -> 0.83748426 | BV15: =1/(1+$BN$6)^AP15 -> 0.81309151 | ... CS15: =1/(1+$BN$6)^BM15 -> 0.41198676 | CT15: =(-($N15))*BO15 -> 0 | CU15: =$O15*BP15 -> #DIV/0! | CV15: =$O15*BQ15 -> #DIV/0! | CW15: =$O15*BR15 -> #DIV/0! | CX15: =$O15*BS15 -> #DIV/0! | CY15: =$O15*BT15 -> #DIV/0! | CZ15: =$O15*BU15 -> #DIV/0! | DA15: =$O15*BV15 -> #DIV/0! | DB15: =$O15*BW15 -> #DIV/0! | ... DX15: =$O15*CS15 -> #DIV/0! | DY15: =CT15 -> 0 | DZ15: =DY15+CU15 -> #DIV/0! | EA15: =DZ15+CV15 -> #DIV/0! | EB15: =EA15+CW15 -> #DIV/0! | EC15: =EB15+CX15 -> #DIV/0! | ED15: =EC15+CY15 -> #DIV/0! | EE15: =ED15+CZ15 -> #DIV/0! | EF15: =EE15+DA15 -> #DIV/0! | EG15: =EF15+DB15 -> #DIV/0! | ... FC15: =FB15+DX15 -> #DIV/0!
A16: 16 | L16: =9.81*C16/1000*R16*0.63 -> #DIV/0! | M16: =L16*330*24 -> #DIV/0! | N16: =G16*E16+H16*75+I16+J16 -> 0 | O16: =M16*K16 -> #DIV/0! | P16: =FC16 -> #DIV/0! | R16: =D16-AG16 -> #DIV/0! | S16: =(F16/1000/2)^2*PI() -> 0 | T16: =C16/1000/S16 -> #DIV/0! | U16: 1.31e-06 | V16: =T16*F16/1000/U16 -> #DIV/0! | W16: 0.4 | X16: =W16/F16 -> #DIV/0! | Y16: 0.025 | Z16: =(1/(2*LOG((2.51/(V16*(SQRT(Y16))))+(W16/(3.71*F16)))))^2 -> #DIV/0! | AA16: =(1/(2*LOG((2.51/(V16*(SQRT(Z16))))+(W16/(3.71*F16)))))^2 -> #DIV/0! | AB16: =(1/(2*LOG((2.51/(V16*(SQRT(AA16))))+(W16/(3.71*F16)))))^2 -> #DIV/0! | AC16: =(1/(2*LOG((2.51/(V16*(SQRT(AB16))))+(W16/(3.71*F16)))))^2 -> #DIV/0! | AD16: =(1/(2*LOG((2.51/(V16*(SQRT(AC16))))+(W16/(3.71*F16)))))^2 -> #DIV/0! | AE16: =(AD16*T16*T16)/(2*9.81*F16/1000) -> #DIV/0! | AF16: =AE16*1000 -> #DIV/0! | AG16: =AE16*E16 -> #DIV/0! | AI16: 0 | AJ16: 1 | AK16: 2 | AL16: 3 | AM16: 4 | AN16: 5 | AO16: 6 | AP16: 7 | AQ16: 8 | AR16: 9 | AS16: 10 | AT16: 11 | AU16: 12 | AV16: 13 | AW16: 14 | AX16: 15 | AY16: 16 | AZ16: 17 | BA16: 18 | BB16: 19 | BC16: 20 | BD16: 21 | BE16: 22 | BF16: 23 | BG16: 24 | BH16: 25 | BI16: 26 | BJ16: 27 | BK16: 28 | BL16: 29 | BM16: 30 | BN16: 0.03 | BO16: =1/(1+$BN$6)^AI16 -> 1 | BP16: =1/(1+$BN$6)^AJ16 -> 0.97087379 | BQ16: =1/(1+$BN$6)^AK16 -> 0.94259591 | BR16: =1/(1+$BN$6)^AL16 -> 0.91514166 | BS16: =1/(1+$BN$6)^AM16 -> 0.88848705 | BT16: =1/(1+$BN$6)^AN16 -> 0.86260878 | BU16: =1/(1+$BN$6)^AO16 -> 0.83748426 | BV16: =1/(1+$BN$6)^AP16 -> 0.81309151 | ... CS16: =1/(1+$BN$6)^BM16 -> 0.41198676 | CT16: =(-($N16))*BO16 -> 0 | CU16: =$O16*BP16 -> #DIV/0! | CV16: =$O16*BQ16 -> #DIV/0! | CW16: =$O16*BR16 -> #DIV/0! | CX16: =$O16*BS16 -> #DIV/0! | CY16: =$O16*BT16 -> #DIV/0! | CZ16: =$O16*BU16 -> #DIV/0! | DA16: =$O16*BV16 -> #DIV/0! | DB16: =$O16*BW16 -> #DIV/0! | ... DX16: =$O16*CS16 -> #DIV/0! | DY16: =CT16 -> 0 | DZ16: =DY16+CU16 -> #DIV/0! | EA16: =DZ16+CV16 -> #DIV/0! | EB16: =EA16+CW16 -> #DIV/0! | EC16: =EB16+CX16 -> #DIV/0! | ED16: =EC16+CY16 -> #DIV/0! | EE16: =ED16+CZ16 -> #DIV/0! | EF16: =EE16+DA16 -> #DIV/0! | EG16: =EF16+DB16 -> #DIV/0! | ... FC16: =FB16+DX16 -> #DIV/0!
A17: 17 | L17: =9.81*C17/1000*R17*0.63 -> #DIV/0! | M17: =L17*330*24 -> #DIV/0! | N17: =G17*E17+H17*75+I17+J17 -> 0 | O17: =M17*K17 -> #DIV/0! | P17: =FC17 -> #DIV/0! | R17: =D17-AG17 -> #DIV/0! | S17: =(F17/1000/2)^2*PI() -> 0 | T17: =C17/1000/S17 -> #DIV/0! | U17: 1.31e-06 | V17: =T17*F17/1000/U17 -> #DIV/0! | W17: 0.4 | X17: =W17/F17 -> #DIV/0! | Y17: 0.025 | Z17: =(1/(2*LOG((2.51/(V17*(SQRT(Y17))))+(W17/(3.71*F17)))))^2 -> #DIV/0! | AA17: =(1/(2*LOG((2.51/(V17*(SQRT(Z17))))+(W17/(3.71*F17)))))^2 -> #DIV/0! | AB17: =(1/(2*LOG((2.51/(V17*(SQRT(AA17))))+(W17/(3.71*F17)))))^2 -> #DIV/0! | AC17: =(1/(2*LOG((2.51/(V17*(SQRT(AB17))))+(W17/(3.71*F17)))))^2 -> #DIV/0! | AD17: =(1/(2*LOG((2.51/(V17*(SQRT(AC17))))+(W17/(3.71*F17)))))^2 -> #DIV/0! | AE17: =(AD17*T17*T17)/(2*9.81*F17/1000) -> #DIV/0! | AF17: =AE17*1000 -> #DIV/0! | AG17: =AE17*E17 -> #DIV/0! | AI17: 0 | AJ17: 1 | AK17: 2 | AL17: 3 | AM17: 4 | AN17: 5 | AO17: 6 | AP17: 7 | AQ17: 8 | AR17: 9 | AS17: 10 | AT17: 11 | AU17: 12 | AV17: 13 | AW17: 14 | AX17: 15 | AY17: 16 | AZ17: 17 | BA17: 18 | BB17: 19 | BC17: 20 | BD17: 21 | BE17: 22 | BF17: 23 | BG17: 24 | BH17: 25 | BI17: 26 | BJ17: 27 | BK17: 28 | BL17: 29 | BM17: 30 | BN17: 0.03 | BO17: =1/(1+$BN$6)^AI17 -> 1 | BP17: =1/(1+$BN$6)^AJ17 -> 0.97087379 | BQ17: =1/(1+$BN$6)^AK17 -> 0.94259591 | BR17: =1/(1+$BN$6)^AL17 -> 0.91514166 | BS17: =1/(1+$BN$6)^AM17 -> 0.88848705 | BT17: =1/(1+$BN$6)^AN17 -> 0.86260878 | BU17: =1/(1+$BN$6)^AO17 -> 0.83748426 | BV17: =1/(1+$BN$6)^AP17 -> 0.81309151 | ... CS17: =1/(1+$BN$6)^BM17 -> 0.41198676 | CT17: =(-($N17))*BO17 -> 0 | CU17: =$O17*BP17 -> #DIV/0! | CV17: =$O17*BQ17 -> #DIV/0! | CW17: =$O17*BR17 -> #DIV/0! | CX17: =$O17*BS17 -> #DIV/0! | CY17: =$O17*BT17 -> #DIV/0! | CZ17: =$O17*BU17 -> #DIV/0! | DA17: =$O17*BV17 -> #DIV/0! | DB17: =$O17*BW17 -> #DIV/0! | ... DX17: =$O17*CS17 -> #DIV/0! | DY17: =CT17 -> 0 | DZ17: =DY17+CU17 -> #DIV/0! | EA17: =DZ17+CV17 -> #DIV/0! | EB17: =EA17+CW17 -> #DIV/0! | EC17: =EB17+CX17 -> #DIV/0! | ED17: =EC17+CY17 -> #DIV/0! | EE17: =ED17+CZ17 -> #DIV/0! | EF17: =EE17+DA17 -> #DIV/0! | EG17: =EF17+DB17 -> #DIV/0! | ... FC17: =FB17+DX17 -> #DIV/0!
A18: 18 | L18: =9.81*C18/1000*R18*0.63 -> #DIV/0! | M18: =L18*330*24 -> #DIV/0! | N18: =G18*E18+H18*75+I18+J18 -> 0 | O18: =M18*K18 -> #DIV/0! | P18: =FC18 -> #DIV/0! | R18: =D18-AG18 -> #DIV/0! | S18: =(F18/1000/2)^2*PI() -> 0 | T18: =C18/1000/S18 -> #DIV/0! | U18: 1.31e-06 | V18: =T18*F18/1000/U18 -> #DIV/0! | W18: 0.4 | X18: =W18/F18 -> #DIV/0! | Y18: 0.025 | Z18: =(1/(2*LOG((2.51/(V18*(SQRT(Y18))))+(W18/(3.71*F18)))))^2 -> #DIV/0! | AA18: =(1/(2*LOG((2.51/(V18*(SQRT(Z18))))+(W18/(3.71*F18)))))^2 -> #DIV/0! | AB18: =(1/(2*LOG((2.51/(V18*(SQRT(AA18))))+(W18/(3.71*F18)))))^2 -> #DIV/0! | AC18: =(1/(2*LOG((2.51/(V18*(SQRT(AB18))))+(W18/(3.71*F18)))))^2 -> #DIV/0! | AD18: =(1/(2*LOG((2.51/(V18*(SQRT(AC18))))+(W18/(3.71*F18)))))^2 -> #DIV/0! | AE18: =(AD18*T18*T18)/(2*9.81*F18/1000) -> #DIV/0! | AF18: =AE18*1000 -> #DIV/0! | AG18: =AE18*E18 -> #DIV/0! | AI18: 0 | AJ18: 1 | AK18: 2 | AL18: 3 | AM18: 4 | AN18: 5 | AO18: 6 | AP18: 7 | AQ18: 8 | AR18: 9 | AS18: 10 | AT18: 11 | AU18: 12 | AV18: 13 | AW18: 14 | AX18: 15 | AY18: 16 | AZ18: 17 | BA18: 18 | BB18: 19 | BC18: 20 | BD18: 21 | BE18: 22 | BF18: 23 | BG18: 24 | BH18: 25 | BI18: 26 | BJ18: 27 | BK18: 28 | BL18: 29 | BM18: 30 | BN18: 0.03 | BO18: =1/(1+$BN$6)^AI18 -> 1 | BP18: =1/(1+$BN$6)^AJ18 -> 0.97087379 | BQ18: =1/(1+$BN$6)^AK18 -> 0.94259591 | BR18: =1/(1+$BN$6)^AL18 -> 0.91514166 | BS18: =1/(1+$BN$6)^AM18 -> 0.88848705 | BT18: =1/(1+$BN$6)^AN18 -> 0.86260878 | BU18: =1/(1+$BN$6)^AO18 -> 0.83748426 | BV18: =1/(1+$BN$6)^AP18 -> 0.81309151 | ... CS18: =1/(1+$BN$6)^BM18 -> 0.41198676 | CT18: =(-($N18))*BO18 -> 0 | CU18: =$O18*BP18 -> #DIV/0! | CV18: =$O18*BQ18 -> #DIV/0! | CW18: =$O18*BR18 -> #DIV/0! | CX18: =$O18*BS18 -> #DIV/0! | CY18: =$O18*BT18 -> #DIV/0! | CZ18: =$O18*BU18 -> #DIV/0! | DA18: =$O18*BV18 -> #DIV/0! | DB18: =$O18*BW18 -> #DIV/0! | ... DX18: =$O18*CS18 -> #DIV/0! | DY18: =CT18 -> 0 | DZ18: =DY18+CU18 -> #DIV/0! | EA18: =DZ18+CV18 -> #DIV/0! | EB18: =EA18+CW18 -> #DIV/0! | EC18: =EB18+CX18 -> #DIV/0! | ED18: =EC18+CY18 -> #DIV/0! | EE18: =ED18+CZ18 -> #DIV/0! | EF18: =EE18+DA18 -> #DIV/0! | EG18: =EF18+DB18 -> #DIV/0! | ... FC18: =FB18+DX18 -> #DIV/0!
... A100: 100 | L100: =9.81*C100/1000*R100*0.63 -> #DIV/0! | M100: =L100*330*24 -> #DIV/0! | N100: =G100*E100+H100*75+I100+J100 -> 0 | O100: =M100*K100 -> #DIV/0! | P100: =FC100 -> #DIV/0! | R100: =D100-AG100 -> #DIV/0! | S100: =(F100/1000/2)^2*PI() -> 0 | T100: =C100/1000/S100 -> #DIV/0! | U100: 1.31e-06 | V100: =T100*F100/1000/U100 -> #DIV/0! | W100: 0.4 | X100: =W100/F100 -> #DIV/0! | Y100: 0.025 | Z100: =(1/(2*LOG((2.51/(V100*(SQRT(Y100))))+(W100/(3.71*F100)))))^2 -> #DIV/0! | AA100: =(1/(2*LOG((2.51/(V100*(SQRT(Z100))))+(W100/(3.71*F100)))))^2 -> #DIV/0! | AB100: =(1/(2*LOG((2.51/(V100*(SQRT(AA100))))+(W100/(3.71*F100)))))^2 -> #DIV/0! | AC100: =(1/(2*LOG((2.51/(V100*(SQRT(AB100))))+(W100/(3.71*F100)))))^2 -> #DIV/0! | AD100: =(1/(2*LOG((2.51/(V100*(SQRT(AC100))))+(W100/(3.71*F100)))))^2 -> #DIV/0! | AE100: =(AD100*T100*T100)/(2*9.81*F100/1000) -> #DIV/0! | AF100: =AE100*1000 -> #DIV/0! | AG100: =AE100*E100 -> #DIV/0! | AI100: 0 | AJ100: 1 | AK100: 2 | AL100: 3 | AM100: 4 | AN100: 5 | AO100: 6 | AP100: 7 | AQ100: 8 | AR100: 9 | AS100: 10 | AT100: 11 | AU100: 12 | AV100: 13 | AW100: 14 | AX100: 15 | AY100: 16 | AZ100: 17 | BA100: 18 | BB100: 19 | BC100: 20 | BD100: 21 | BE100: 22 | BF100: 23 | BG100: 24 | BH100: 25 | BI100: 26 | BJ100: 27 | BK100: 28 | BL100: 29 | BM100: 30 | BN100: 0.03 | BO100: =1/(1+$BN$6)^AI100 -> 1 | BP100: =1/(1+$BN$6)^AJ100 -> 0.97087379 | BQ100: =1/(1+$BN$6)^AK100 -> 0.94259591 | BR100: =1/(1+$BN$6)^AL100 -> 0.91514166 | BS100: =1/(1+$BN$6)^AM100 -> 0.88848705 | BT100: =1/(1+$BN$6)^AN100 -> 0.86260878 | BU100: =1/(1+$BN$6)^AO100 -> 0.83748426 | BV100: =1/(1+$BN$6)^AP100 -> 0.81309151 | ... CS100: =1/(1+$BN$6)^BM100 -> 0.41198676 | CT100: =(-($N100))*BO100 -> 0 | CU100: =$O100*BP100 -> #DIV/0! | CV100: =$O100*BQ100 -> #DIV/0! | CW100: =$O100*BR100 -> #DIV/0! | CX100: =$O100*BS100 -> #DIV/0! | CY100: =$O100*BT100 -> #DIV/0! | CZ100: =$O100*BU100 -> #DIV/0! | DA100: =$O100*BV100 -> #DIV/0! | DB100: =$O100*BW100 -> #DIV/0! | ... DX100: =$O100*CS100 -> #DIV/0! | DY100: =CT100 -> 0 | DZ100: =DY100+CU100 -> #DIV/0! | EA100: =DZ100+CV100 -> #DIV/0! | EB100: =EA100+CW100 -> #DIV/0! | EC100: =EB100+CX100 -> #DIV/0! | ED100: =EC100+CY100 -> #DIV/0! | EE100: =ED100+CZ100 -> #DIV/0! | EF100: =EE100+DA100 -> #DIV/0! | EG100: =EF100+DB100 -> #DIV/0! | ... FC100: =FB100+DX100 -> #DIV/0!

Sheet Listen
A1: status | B1: aufstellung | C1: kritischster Punkt
A2: vollständig | B2: trocken aufgestellt | C2: Behälter
A3: unvollständig | B3: nass aufgestellt | C3: Netz

Sheet RW_Pumpen
B1: 5 | D1: 50
A2: trocken aufgestellt | B2: 0.44 | C2: 0.56 | D2: 0.64
A3: nass aufgestellt | B3: 0.4 | C3: 0.53 | D3: 0.57

Sheet 3.1
B1: Beurteilung Gesamtsystem Pumpen
B3: Gesamtsystem lt. Stromzählerdaten für ein Jahr
B4: Strombezug lt. Rechnung | C4: kWh/Jahr | D4: ='1.1.1'!C16 -> 1000000
B5: Stromverbrauch Pumpen | C5: kWh/Jahr | D5: ='1.1.2'!G5 -> 800000
B7: B | C7: C | D7: D | E7: E | F7: F | G7: G | H7: H
B8: Art der Pumpenbeurteilung | C8: Stromverbrauch in kWh/Jahr | D8: ='2.2.2'!F4 -> IST Gesamt-wirkungsgrad in % | E8: ='2.2.3'!H4 -> RICHTWERT Gesamt-wirkungsgrad in % | J8: gewichteter IST | K8: gewichteter RICHT
B9: Pumpengruppen | C9: ='2.2.2'!E5/'1.3.2.1'!I5*365 -> 22500 | D9: ='2.2.2'!F5 -> 0.73298433 | E9: ='2.2.2'!G5 -> 0.56 | J9: =IF('1.3.2.1'!I5=0,0,D9*C9) -> 16492.147 | K9: =IF('1.3.2.1'!J5=0,0,E9*C9) -> 12600
B10: Pumpenmessung | C10: ='2.2.3'!F5 -> 750125 | D10: ='2.2.3'!G5 -> 0.62254458 | E10: ='2.2.3'!H5 -> 0.56863856 | J10: =IF(C10=0,0,D10*C10) -> 466986.25 | K10: =IF(C10=0,0,E10*C10) -> 426550
J11: =SUM(J9:J10) -> 483478.4 | K11: =SUM(K9:K10) -> 439150 | M11: Gesamt
B12: Pumpenbeurteilung GESAMT | C12: =SUM(C9:C10) -> 772625 | D12: =J11/C12 -> 0.62576075 | E12: =K11/C12 -> 0.56838699 | G12: Gesamtbeurteilung erfolgte für % des Gesamtstromverbrauchs von Pumpen | H12: =C12/D5 -> 0.96578125
