Workbook
Name _Ang004: Rohrnetzverlustberechnung!$C$9
Name Anlagenauswahl: IF(Projektdaten!$C$5="Fernkälte",INDIRECT("KaelteAnlagen"),INDIRECT("WaermeAnlagen"))

Sheet Projektdaten
B1: Eine Förderung – managed by Kommunalkredit Public Consulting
B2: Technisches Datenblatt "Fernwärme und Fernkälte" zur Endabrechnung Wärmeerzeuger, Kälteerzeuger inklusive Wärmeverteilnetz beziehungsweise Kälteverteilnetz (Modul 1+2)
B3: Kurzbezeichnung:
B4: Förderungsnehmende Person:
B5: Auswahl Fernwärme / Fernkälte:
B6: =IF(Projektdaten!$C$5="Fernkälte","KPC Antragsnummer Kälteerzeuger:","KPC Antragsnummer Wärmeerzeuger:") -> KPC Antragsnummer Wärmeerzeuger:
B7: =IF(Projektdaten!$C$5="Fernkälte","KPC Antragsnummer Kältenetz:","KPC Antragsnummer Wärmenetz:") -> KPC Antragsnummer Wärmenetz:
B9: Projektbeschreibung
B10: Beschreibung der umgesetzten Anlage
B13: Durchführungszeitraum
B14: Baubeginn
B15: Fertigstellung

Sheet Anlagenkomponenten
B1: Eine Förderung – managed by Kommunalkredit Public Consulting
B2: Technisches Datenblatt für Anlagenkomponenten - Modul 1 + 2
B3: Kurzbezeichnung: | C3: =IF(Projektdaten!C3=0,"",Projektdaten!C3)
B4: Förderungsnehmende Person: | C4: =IF(Projektdaten!C4=0,"",Projektdaten!C4)
B6: =IF(Projektdaten!$C$5="Fernkälte","Kälteerzeugungseinrichtungen der Bestandsanlage","(Strom- und) Wärmeerzeugungseinrichtungen der Bestandsanlage") -> (Strom- und) Wärmeerzeugungseinrichtungen der Bestandsanlage
C8: Anlagen- komponente 1 | D8: Anlagen- komponente 2 | E8: Anlagen- komponente 3 | F8: Anlagen- komponente 4 | G8: Anlagen- komponente 5 | H8: Anlagen- komponente 6 | I8: Anlagen- komponente 7 | J8: Anlagen- komponente 8 | K8: Anlagen- komponente 9 | L8: Anlagen- komponente 10 | M8: Anlagen- komponente 11 | N8: Anlagen- komponente 12 | O8: Anlagen- komponente 13 | P8: Anlagen- komponente 14 | Q8: Anlagen- komponente 15 | R8: Anlagen- komponente 16 | S8: Anlagen- komponente 17 | T8: Anlagen- komponente 18 | U8: Anlagen- komponente 19 | V8: Anlagen- komponente 20 | W8: Anlagen- komponente 21 | X8: Anlagen- komponente 22 | Y8: Anlagen- komponente 23 | Z8: Anlagen- komponente 24 | AA8: Anlagen- komponente 25 | AB8: Anlagen- komponente 26
B9: Bezeichnung
B10: Inbetriebnahme
B11: Brennstoffwärmeleistung [kW]
B12: =IF(Projektdaten!$C$5="Fernkälte","Nenn-Kälteleistung [kW]","Thermische Nennwärmeleistung [kW]") -> Thermische Nennwärmeleistung [kW]
B13: =IF(Projektdaten!$C$5="Fernkälte","Erzeugte Kältemenge [MWh/a]","Erzeugte Wärmemenge [MWh/a]") -> Erzeugte Wärmemenge [MWh/a]
B14: =IF(Projektdaten!$C$5="Fernkälte","Jahresvolllaststunden [h]","Jahresvolllaststunden Wärmeauskopplung [h]") -> Jahresvolllaststunden Wärmeauskopplung [h] | C14: =IFERROR(1000*C13/C12,0) -> 0 | D14: =IFERROR(1000*D13/D12,0) -> 0 | E14: =IFERROR(1000*E13/E12,0) -> 0 | F14: =IFERROR(1000*F13/F12,0) -> 0 | G14: =IFERROR(1000*G13/G12,0) -> 0 | H14: =IFERROR(1000*H13/H12,0) -> 0 | I14: =IFERROR(1000*I13/I12,0) -> 0 | J14: =IFERROR(1000*J13/J12,0) -> 0 | ... AB14: =IFERROR(1000*AB13/AB12,0) -> 0
B15: Wirkungsgrad bei Nennleistung [%] | C15: =IFERROR(C12/C11,0) -> 0 | D15: =IFERROR(D12/D11,0) -> 0 | E15: =IFERROR(E12/E11,0) -> 0 | F15: =IFERROR(F12/F11,0) -> 0 | G15: =IFERROR(G12/G11,0) -> 0 | H15: =IFERROR(H12/H11,0) -> 0 | I15: =IFERROR(I12/I11,0) -> 0 | J15: =IFERROR(J12/J11,0) -> 0 | ... AB15: =IFERROR(AB12/AB11,0) -> 0
B16: =IF(Projektdaten!$C$5="Fernkälte","Energieträger Antriebsenergie","Brennstoffart 1") -> Brennstoffart 1
B17: Brennstoffart 2
B18: Brennstoffart 3
B19: Nennleistung elektrisch [kW]:
B20: E-Jahresbedarf [MWh/a]:
B21: E-Jahreserzeugung [MWh/a]:
B22: =IF(Projektdaten!$C$5="Fernkälte","Antriebsenergie Kälteerzeuger [MWh/a]:","Antriebsenergie Wärmepumpe [MWh/a]:") -> Antriebsenergie Wärmepumpe [MWh/a]:
B23: =IF(Projektdaten!$C$5="Fernkälte","Kältemittel:","Kollektorfläche [m²]:") -> Kollektorfläche [m²]:
B24: =IF(Projektdaten!$C$5="Fernkälte","GWP:","Pufferspeicher [m³]:") -> Pufferspeicher [m³]:
B25: Jahresarbeitszahl:
B28: =IF(Projektdaten!$C$5="Fernkälte","Kälteerzeugungseinrichtungen für den umgesetzten Ausbaus beziehungsweise zur umgesetzten Neuanlage","(Strom- und) Wärmeerzeugungseinrichtungen für den umgesetzten Ausbau beziehungsweise zur umgesetzten Neuanlage") -> (Strom- und) Wärmeerzeugungseinrichtungen für den umgesetzten Ausbau beziehungsweise zur umgesetzten Neuanlage
C30: Anlagen- komponente 1 | D30: Anlagen- komponente 2 | E30: Anlagen- komponente 3 | F30: Anlagen- komponente 4 | G30: Anlagen- komponente 5 | H30: Anlagen- komponente 6 | I30: Anlagen- komponente 7 | J30: Anlagen- komponente 8 | K30: Anlagen- komponente 9 | L30: Anlagen- komponente 10 | M30: Anlagen- komponente 11 | N30: Anlagen- komponente 12 | O30: Anlagen- komponente 13 | P30: Anlagen- komponente 14 | Q30: Anlagen- komponente 15 | R30: Anlagen- komponente 16 | S30: Anlagen- komponente 17 | T30: Anlagen- komponente 18 | U30: Anlagen- komponente 19 | V30: Anlagen- komponente 20 | W30: Anlagen- komponente 21 | X30: Anlagen- komponente 22 | Y30: Anlagen- komponente 23 | Z30: Anlagen- komponente 24 | AA30: Anlagen- komponente 25 | AB30: Anlagen- komponente 26
B31: Bezeichnung
B32: Inbetriebnahme
B33: Brennstoffwärmeleistung [kW]
B34: =IF(Projektdaten!$C$5="Fernkälte","Nenn-Kälteleistung [kW]","Thermische Nennwärmeleistung [kW]") -> Thermische Nennwärmeleistung [kW]
B35: =IF(Projektdaten!$C$5="Fernkälte","Erzeugte Kältemenge [MWh/a]","Erzeugte Wärmemenge [MWh/a]") -> Erzeugte Wärmemenge [MWh/a]
B36: =IF(Projektdaten!$C$5="Fernkälte","Jahresvolllaststunden [h]","Jahresvolllaststunden Wärmeauskopplung [h]") -> Jahresvolllaststunden Wärmeauskopplung [h] | C36: =IFERROR(1000*C35/C34,0) -> 0 | D36: =IFERROR(1000*D35/D34,0) -> 0 | E36: =IFERROR(1000*E35/E34,0) -> 0 | F36: =IFERROR(1000*F35/F34,0) -> 0 | G36: =IFERROR(1000*G35/G34,0) -> 0 | H36: =IFERROR(1000*H35/H34,0) -> 0 | I36: =IFERROR(1000*I35/I34,0) -> 0 | J36: =IFERROR(1000*J35/J34,0) -> 0 | ... AB36: =IFERROR(1000*AB35/AB34,0) -> 0
B37: Wirkungsgrad bei Nennleistung [%] | C37: =IFERROR(C34/C33,0) -> 0 | D37: =IFERROR(D34/D33,0) -> 0 | E37: =IFERROR(E34/E33,0) -> 0 | F37: =IFERROR(F34/F33,0) -> 0 | G37: =IFERROR(G34/G33,0) -> 0 | H37: =IFERROR(H34/H33,0) -> 0 | I37: =IFERROR(I34/I33,0) -> 0 | J37: =IFERROR(J34/J33,0) -> 0 | ... AB37: =IFERROR(AB34/AB33,0) -> 0
B38: =IF(Projektdaten!$C$5="Fernkälte","Energieträger Antriebsenergie","Brennstoffart 1") -> Brennstoffart 1
B39: Brennstoffart 2
B40: Brennstoffart 3
B41: Nennleistung elektrisch [kW]:
B42: E-Jahresbedarf [MWh/a]:
B43: E-Jahreserzeugung [MWh/a]:
B44: =IF(Projektdaten!$C$5="Fernkälte","Antriebsenergie Kälteerzeuger [MWh/a]:","Antriebsenergie Wärmepumpe [MWh/a]:") -> Antriebsenergie Wärmepumpe [MWh/a]:
B45: =IF(Projektdaten!$C$5="Fernkälte","Kältemittel:","Kollektorfläche [m²]:") -> Kollektorfläche [m²]:
B46: =IF(Projektdaten!$C$5="Fernkälte","GWP:","Pufferspeicher [m³]:") -> Pufferspeicher [m³]:
B47: Jahresarbeitszahl:

Sheet Anlagendetails
B1: Eine Förderung – managed by Kommunalkredit Public Consulting
B2: Technisches Datenblatt für Anlagendetails - Modul 1 + 2
B3: Kurzbezeichnung: | C3: =IF(Projektdaten!C3=0,"",Projektdaten!C3)
B4: Förderungsnehmende Person: | C4: =IF(Projektdaten!C4=0,"",Projektdaten!C4)
B6: Angaben zur Bestandsanlage
B8: Wärmeverteilung der Bestandsanlage
B9: =IF(Projektdaten!$C$5="Fernkälte","Verkaufte Kältemenge [MWh/a]","Verkaufte Wärmemenge [MWh/a]") -> Verkaufte Wärmemenge [MWh/a]
B10: Anschlussleistung [kW]
B11: =IF(Projektdaten!$C$5="Fernkälte","Anzahl der Kälteabnehmer und Kälteabnehmerinnen","Anzahl der Wärmeabnehmer und Wärmeabnehmerinnen") -> Anzahl der Wärmeabnehmer und Wärmeabnehmerinnen
B12: Trassenlänge [m]
B14: Eingesetzte Brennstoffe
B16: Detailangaben zum Brennstoffeinsatz der Bestandsanlage
C18: Menge [srm/a] | D18: Preis [Euro/srm] | E18: Brennstoffwärme [MWh/a] | F18: Transportdistanz [km]
B19: Waldhackgut (Weichholz)
B20: Waldhackgut (Hartholz)
B21: Rinde
B22: Sägenebenprodukte
B23: Sonstige
B24: Summe | C24: =SUM(C19:C23) -> 0 | E24: =SUM(E19:E23) -> 0
C26: Menge [l/a] / [kWh/a] | D26: Preis [Euro/l] beziehungsweise [Euro/kWh]
B27: Heizöl
B28: Erdgas
B30: Angaben zur Gesamtanlage nach umgesetzten Ausbau beziehungsweise zur umgesetzten Neuanlage
B31: Wärmeverteilung des umgesetzten Ausbaus beziehungsweise zur umgesetzten Neuanlage
B33: =IF(Projektdaten!$C$5="Fernkälte","Verkaufte Kältemenge [MWh/a]","Verkaufte Wärmemenge [MWh/a]") -> Verkaufte Wärmemenge [MWh/a] | C33: =Abnehmerliste!J201/1000 -> 0
B34: Anschlussleistung [kW] | C34: =Abnehmerliste!I201 -> 0
B35: =IF(Projektdaten!$C$5="Fernkälte","Anzahl der Kälteabnehmer und Kälteabnehmerinnen","Anzahl der Wärmeabnehmer und Wärmeabnehmerinnen") -> Anzahl der Wärmeabnehmer und Wärmeabnehmerinnen | C35: =COUNTA(Abnehmerliste!D11:D200) -> 0
B36: Trassenlänge [m] | C36: =Rohrnetzverlustberechnung!E34 -> 0
B37: =IFERROR(IF(Projektdaten!$C$5="Fernkälte","Trassenlänge (Manuelle Eingabe für Fernkälte) [m]",""),"")
B39: Eingesetzte Brennstoffe
B40: Detailangaben zum Brennstoffeinsatz nach dem umgesetzten Ausbaus beziehungsweise für die umgesetzte Neuanlage
C42: Menge [srm/a] | D42: Preis [Euro/srm] | E42: Brennstoffwärme [MWh/a] | F42: Transportdistanz [km]
B43: Waldhackgut (Weichholz)
B44: Waldhackgut (Hartholz)
B45: Rinde
B46: Sägenebenprodukte
B47: Sonstige
B48: Summe | C48: =SUM(C43:C47) -> 0 | E48: =SUM(E43:E47) -> 0
D49: Anteil Waldhackgut am Gesamtbiomasseeinsatz [%] | E49: =IFERROR(100*(E43+E44)/E48,0) -> 0
D50: gewichtete Transportdistanz für Waldhackgut [km] | E50: =IFERROR((E43/(E43+E44)*F43)+(E44/(E43+E44)*F44),0) -> 0
C52: Menge [l/a] / [kWh/a] | D52: Preis [Euro/l] beziehungsweise [Euro/kWh]
B53: Heizöl
B54: Erdgas
B56: Kennwerte
C57: Vor umgesetzten Ausbau (Bestandsanlage) | E57: Nach umgesetzten Ausbau
B58: Thermische Nennwärmeleistung Heizzentrale [MW] | C58: =SUM(Anlagenkomponenten!C12:AB12) -> 0 | E58: =SUM(Anlagenkomponenten!C34:AB34) -> 0
B59: Jahresvolllaststunden der gesamten Biomasseanlage [h] | C59: =IFERROR(SUM(SUMIF(Anlagenkomponenten!9:9,'Drop Down'!B3,Anlagenkomponenten!13:13),SUMIF(Anlagenkomponenten!9:9,'Drop Down'!B4,Anlagenkomponenten!13:13))*1000/SUM(SUMIF(Anlagenkomponenten!9:9,'Drop Down'!B3,Anlagenkomponenten!12:12),SUMIF(Anlagenkomponenten!9:9,'Drop Down'!B4,Anlagenkomponenten!12:12)),0) -> 0 | E59: =IFERROR(SUM(SUMIF(Anlagenkomponenten!31:31,'Drop Down'!B3,Anlagenkomponenten!35:35),SUMIF(Anlagenkomponenten!31:31,'Drop Down'!B4,Anlagenkomponenten!35:35))*1000/SUM(SUMIF(Anlagenkomponenten!31:31,'Drop Down'!B3,Anlagenkomponenten!34:34),SUMIF(Anlagenkomponenten!31:31,'Drop Down'!B4,Anlagenkomponenten!34:34)),0) -> 0
B60: Jahresnutzungsgrad Biomassenanlagen [%] | C60: =IFERROR(SUM(SUMIF(Anlagenkomponenten!9:9,'Drop Down'!B3,Anlagenkomponenten!13:13),SUMIF(Anlagenkomponenten!9:9,'Drop Down'!B4,Anlagenkomponenten!13:13),SUMIF(Anlagenkomponenten!9:9,'Drop Down'!B5,Anlagenkomponenten!13:13),SUMIF(Anlagenkomponenten!9:9,'Drop Down'!B6,Anlagenkomponenten!13:13))*100/E24,0) -> 0 | E60: =IFERROR(SUM(SUMIF(Anlagenkomponenten!31:31,'Drop Down'!B3,Anlagenkomponenten!35:35),SUMIF(Anlagenkomponenten!31:31,'Drop Down'!B4,Anlagenkomponenten!35:35),SUMIF(Anlagenkomponenten!31:31,'Drop Down'!B5,Anlagenkomponenten!35:35),SUMIF(Anlagenkomponenten!31:31,'Drop Down'!B6,Anlagenkomponenten!35:35))*100/E48,0) -> 0
B61: Jahresnutzungsgrad Stromerzeugung [%] | C61: =IFERROR(SUMIF(Anlagenkomponenten!9:9,'Drop Down'!B4,Anlagenkomponenten!21:21)*100000/(SUMIF(Anlagenkomponenten!9:9,'Drop Down'!B4,Anlagenkomponenten!11:11)*SUMIF(Anlagenkomponenten!9:9,'Drop Down'!B4,Anlagenkomponenten!14:14)),0) -> 0 | E61: =IFERROR(SUMIF(Anlagenkomponenten!31:31,'Drop Down'!B4,Anlagenkomponenten!43:43)*100000/(SUMIF(Anlagenkomponenten!31:31,'Drop Down'!B4,Anlagenkomponenten!33:33)*SUMIF(Anlagenkomponenten!31:31,'Drop Down'!B4,Anlagenkomponenten!36:36)),0) -> 0
B62: Erzeugte, ins Netz abgegebene Wärme [MWh/a] | C62: =SUM(Anlagenkomponenten!C13:AB13) -> 0 | E62: =SUM(Anlagenkomponenten!C35:AB35) -> 0
B63: Davon fossil erzeugte Wärme [MWh/a] | C63: =IFERROR(SUM(SUMIF(Anlagenkomponenten!9:9,'Drop Down'!B7,Anlagenkomponenten!13:13),SUMIF(Anlagenkomponenten!9:9,'Drop Down'!B8,Anlagenkomponenten!13:13)),0) -> 0 | E63: =IFERROR(SUM(SUMIF(Anlagenkomponenten!31:31,'Drop Down'!B7,Anlagenkomponenten!35:35),SUMIF(Anlagenkomponenten!31:31,'Drop Down'!B8,Anlagenkomponenten!35:35)),0) -> 0
B64: Netzverluste [MWh/a] | E64: =Rohrnetzverlustberechnung!E39+C64 -> 0
B65: =IF(Projektdaten!$C$5="Fernkälte","Jahresnutzungsgrad Fernkältenetz [%]","Jahresnutzungsgrad Fernwärmenetz [%]") -> Jahresnutzungsgrad Fernwärmenetz [%] | C65: =IFERROR(100*C67/C62,0) -> 0 | E65: =IFERROR(100*E67/E62,0) -> 0
B66: Gesamtnutzungsgrad der Anlage [%] | C66: =(C65/100)*C60 -> 0 | E66: =IFERROR(E65*E60/100,0) -> 0
B67: =IF(Projektdaten!$C$5="Fernkälte","Genutzte beziehungsweise verkaufte Kältemenge [MWh/a]","Genutzte beziehungsweise verkaufte Wärmemenge [MWh/a]") -> Genutzte beziehungsweise verkaufte Wärmemenge [MWh/a] | E67: =C33+C67 -> 0
B68: Anschlussleistung Abnehmer [kW] | E68: =Abnehmerliste!I201 -> 0
B69: Trassenlänge inklusive Hausanschlüsse [m] | C69: =C12 -> 0 | E69: =IF(Projektdaten!$C$5="Fernkälte",C12+C37,C12+C36) -> 0
B70: Spezifische Anschlussleistung [kW/trm] | C70: =IFERROR(C68*1000/C69,0) -> 0 | E70: =IFERROR(E68*1000/E69,0) -> 0
B71: Wärmebelegung [kWh/trm] | C71: =IFERROR(C67*1000/C69,0) -> 0 | E71: =IFERROR(E67*1000/E69,0) -> 0
B72: Nenndurchmesser des Hauptstranges [DN]
B73: Temperatur Hauptvorlauf am Wärmeerzeuger [°C]
B74: Temperaturspreizung des Netzes [°C]
B75: Gleichzeitigkeitsfaktor [-]
B76: Nutzvolumen Brennstofflager [m³]
B77: Nutzvolumen Brennstofflager als Anteil am jährlichen Brennstoffbedarf [%] | C77: =IFERROR(100*C76/C24,0) -> 0 | E77: =IFERROR(100*E76/C48,0) -> 0

Sheet Projektkosten
B1: Eine Förderung – managed by Kommunalkredit Public Consulting
B2: Projektkosten - Modul 1 + 2
B3: Kurzbezeichnung: | C3: =IF(Projektdaten!C3=0,"",Projektdaten!C3)
B4: Förderungsnehmende Person: | C4: =IF(Projektdaten!C4=0,"",Projektdaten!C4)
C6: Rechnung (Firma, Datum, Nummer) | D6: Betrag [Euro]
B7: =IF(Projektdaten!$C$5="Fernkälte","Kosten der Kälteerzeugungsanlage","Kosten der Wärmeerzeugungsanlage") -> Kosten der Wärmeerzeugungsanlage | D7: =SUM(D8:D18) -> 0
B8: =IF(Projektdaten!$C$5="Fernkälte","Kälteanlage","Feuerung und Kessel") -> Feuerung und Kessel
B9: Rauchgasreinigung
B10: Mess- und Regelungstechnik
B11: Wärmerückgewinnung
B12: Brennstoffbeschickung
B13: Elektroinstallation
B14: =IF(Projektdaten!$C$5="Fernkälte","Kältetechnikinstallation","Heizungstechnikinstallation") -> Heizungstechnikinstallation
B15: Stahlbau
B16: KWK-Modul
B17: Spitzenlastabdeckung*
B18: Fahrzeuge*
B20: =IF(Projektdaten!$C$5="Fernkälte","Kosten des Kälteverteilnetzes","Kosten des Wärmeverteilnetzes") -> Kosten des Wärmeverteilnetzes | D20: =SUM(D21:D25) -> 0
B21: Rohrleitungen
B22: Grabungsarbeiten
B23: =IF(Projektdaten!$C$5="Fernkälte","Kälteübergabestationen","Wärmeübergabestationen") -> Wärmeübergabestationen
B24: =IF(Projektdaten!$C$5="Klimafreundliche Fernwärme","Planung (Gesamtkosten: Wärmeverteilnetz + Heizwerk)","Planung") -> Planung
B25: =IF(Projektdaten!$C$5="Klimafreundliche Fernwärme","Kosten qm heizwerke (Gesamtkosten: Wärmeverteilnetz + Heizwerk)","Kosten qm heizwerke") -> Kosten qm heizwerke
B27: =IF(Projektdaten!$C$5="Fernkälte","Baukosten","Baukosten des Heizwerkes") -> Baukosten des Heizwerkes | D27: =SUM(D28:D34) -> 0
B28: =IF(Projektdaten!$C$5="Fernkälte","Energiezentrale","Heizhaus bzw. Einbindung im Heizhaus") -> Heizhaus bzw. Einbindung im Heizhaus
B29: Lager
B30: Außenanlage
B31: Aufschließungskosten*
B32: Sonstiges *
B33: Planung
B34: Kosten qm heizwerke
B36: Gesamtinvestitionskosten | D36: =D7+D20+D27 -> 0
B37: Förderbare Investitionskosten | D37: =D36-D17-D18-D31-D32 -> 0
B38: * keine förderfähigen Investitionskostenanteile
B40: Unterschriften
B41: Bestätigung der Richtigkeit der Angaben zur geplanten Anlage durch die Planerin oder den Planer
D44: VERPFLICHTEND - Unterfertigung (Unterschrift und Stempel) durch die Planerin oder den Planer
B45: Ort, Datum | D45: VERPFLICHTEND - Unterfertigung (Unterschrift und Stempel) durch die Planerin oder den Planer
D48: NAME UND FUNKTION IN BLOCKBUCHSTABEN
B50: Bestätigung der Richtigkeit der Angaben zur geplanten Anlage durch die förderungsnehmende Person
D53: VERPFLICHTEND - Unterfertigung (Unterschrift und Stempel) durch die antragstellende Person
B54: Ort, Datum | D54: VERPFLICHTEND - Unterfertigung (Unterschrift und Stempel) durch die förderungsnehmende Person
D57: NAME UND FUNKTION IN BLOCKBUCHSTABEN

Sheet Abnehmerliste
C1: Eine Förderung – managed by Kommunalkredit Public Consulting
C2: Liste der Abnehmer und Abnehmerinnen - Modul 1 + 2
C3: Kurzbezeichnung: | F3: =IF(Projektdaten!C3=0,"",Projektdaten!C3)
C4: Förderungsnehmende Person: | F4: =IF(Projektdaten!C4=0,"",Projektdaten!C4)
C6: Nummer | D6: Name | E6: Adresse | F6: Bezeichnung | G6: Art des Objekts | I6: Anschluss-leistung [kW] | J6: Nutz-energie [kWh/a] | K6: substituierter Energieträger (nur bei Bestandsgebäuden auszufüllen) | Q6: Objekt | S6: Angabe der laufenden Nummer aus Zahlungantrag/Endabrechnungs-formular | V6: =IF(Projektdaten!$C$5="Fernkälte","Kälteübergabe- station im Eigentum des:","Wärmeübergabe- station im Eigentum des:") -> Wärmeübergabe- station im Eigentum des: | X6: In Betrieb seit
K7: Öl [l/a] | L7: Gas [kWh/a] | M7: Kohle [kg/a] | N7: Strom [kWh/a] | O7: Holz [rm/a] | P7: Pellets [kg/a] | Q7: Neubau | R7: Bestands-gebäude | S7: Hauszu-leitung | T7: Übergabe-station | U7: Sonstiges | V7: =IF(Projektdaten!$C$5="Fernkälte","Kälte-lieferanten","Wärme-lieferanten") -> Wärme-lieferanten | W7: =IF(Projektdaten!$C$5="Fernkälte","Kälte-abnehmers","Wärme-abnehmers") -> Wärme-abnehmers
D8: Max Muster | E8: Stulpenweg 1 | G8: privater Abnehmer | I8: 15 | J8: 20000 | Q8: 1 | S8: 1 | V8: 1 | X8: 2019
D9: Gemeinde Mustern | E9: Hauptstrasse 12 | F9: Volksschule | G9: Öffentl. Gebäude | I9: 80 | J9: 120000 | L9: 14035 | R9: 1 | U9: 1 | V9: 1 | X9: 2019
D10: Erika Musterfrau | E10: Kirchenplatz 2 | F10: Hotel Post | G10: gewerbl. Abnehmer | I10: 65 | J10: 110000 | M10: 15000 | R10: 1 | T10: 1 | V10: 1 | X10: 2020
C11: 1
C12: 2
C13: 3
C14: 4
C15: 5
C16: 6
C17: 7
C18: 8
C19: 9
C20: 10
C21: 11
C22: 12
... C200: 190
G201: Summe | I201: =SUM(I11:I200) -> 0 | J201: =SUM(J11:J200) -> 0 | K201: =SUM(K11:K200) -> 0 | L201: =SUM(L11:L200) -> 0 | M201: =SUM(M11:M200) -> 0 | N201: =SUM(N11:N200) -> 0 | O201: =SUM(O11:O200) -> 0 | P201: =SUM(P11:P200) -> 0
T202: =IF(Projektdaten!$C$5="Fernkälte","gesicherte Kälteabgabe:","gesicherte Wärmeabgabe:") -> gesicherte Wärmeabgabe: | U202: =IFERROR((SUMPRODUCT(J11:J200,S11:S200))/J201,0) -> 0
C204: =IF(Projektdaten!$C$5="Fernkälte","Beilage: laut angegebenem Vertragsstatus vorhandene Kältelieferverträge in Kopie","Beilage: laut angegebenem Vertragsstatus vorhandene Wärmelieferverträge in Kopie") -> Beilage: laut angegebenem Vertragsstatus vorhandene Wärmelieferverträge in Kopie

Sheet Rohrnetzverlustberechnung
A1: Eine Förderung – managed by Kommunalkredit Public Consulting
A2: =IF(Projektdaten!$C$5="Fernkälte","Verlustberechnung Rohrnetz (Maximaler Kälteverlust im Auslegungsfall) - Modul 1 + 2 aus spezifischen Verlustangaben [W/m]","Verlustberechnung Rohrnetz (Maximaler Wärmeverlust im Auslegungsfall) - Modul 1 + 2 aus spezifischen Verlustangaben [W/m]") -> Verlustberechnung Rohrnetz (Maximaler Wärmeverlust im Auslegungsfall) - Modul 1 + 2 aus spezifischen Verlustangaben [W/m]
A5: Hinweis: Üblicherweise werden von Hersteller oder Herstellerin Angaben zum Wärme- beziehungsweise Kälteverlust entweder als spezifischen Verlust in [W/m] bei einer bestimmten Spreizung oder als Wärmedurchgangskoeffizient in [W/mK] angegeben. Bitte wählen Sie eine der beiden Berechnungsmethoden für die Ihr Hersteller oder Ihre Herstellerin Angaben bereitstellt durch Wahl des entsprechenden Tabellenblattes.
B6: Erstellende Person
B7: Projekt - Bezeichnung, Projekt Nummer
B8: Verwendete Rohrtype
B9: Betriebszeit [h] | C9: 0
B10: Temperatur Vorlauf [°C] | C10: 0
B11: Temperatur Rücklauf [°C] | C11: 0
B12: Temperatur Erdreich [°C] | C12: 0
B13: =IF(Projektdaten!$C$5="Fernkälte","Verkaufte Jahreskältemenge [MWh]","Verkaufte Jahreswärmemenge [MWh]") -> Verkaufte Jahreswärmemenge [MWh] | C13: =Abnehmerliste!J201/1000 -> 0
B15: Rohrdimension | C15: Rohrlänge [m] | D15: Spez. Verlust Rohr (A) [W/m] | E15: Wärmedurch- gangskoeff. T-abhängig (B) [W/mK] | F15: Verlustleistung [kW] | G15: =IF(Projektdaten!$C$5="Fernkälte","Fiktiver Jahreskälte-verlust [kWh/a]","Fiktiver Jahreswärme-verlust [kWh/a]") -> Fiktiver Jahreswärme-verlust [kWh/a]
B17: DN 20 | C17: 0 | D17: 0 | E17: 0 | F17: =IF(AND(E17>0,D17>0),"A oder B wählen",IF(E17>0,C17*E17*(($C$10+$C$11)/2-$C$12)/1000,D17*C17/1000)) -> 0 | G17: =F17*8760 -> 0
B18: DN 25 | C18: 0 | D18: 0 | E18: 0 | F18: =IF(AND(E18>0,D18>0),"A oder B wählen",IF(E18>0,C18*E18*(($C$10+$C$11)/2-$C$12)/1000,D18*C18/1000)) -> 0 | G18: =F18*8760 -> 0
B19: DN 32 | C19: 0 | D19: 0 | E19: 0 | F19: =IF(AND(E19>0,D19>0),"A oder B wählen",IF(E19>0,C19*E19*(($C$10+$C$11)/2-$C$12)/1000,D19*C19/1000)) -> 0 | G19: =F19*8760 -> 0
B20: DN 40 | C20: 0 | D20: 0 | E20: 0 | F20: =IF(AND(E20>0,D20>0),"A oder B wählen",IF(E20>0,C20*E20*(($C$10+$C$11)/2-$C$12)/1000,D20*C20/1000)) -> 0 | G20: =F20*8760 -> 0
B21: DN 50 | C21: 0 | D21: 0 | E21: 0 | F21: =IF(AND(E21>0,D21>0),"A oder B wählen",IF(E21>0,C21*E21*(($C$10+$C$11)/2-$C$12)/1000,D21*C21/1000)) -> 0 | G21: =F21*8760 -> 0
B22: DN 65 | C22: 0 | D22: 0 | E22: 0 | F22: =IF(AND(E22>0,D22>0),"A oder B wählen",IF(E22>0,C22*E22*(($C$10+$C$11)/2-$C$12)/1000,D22*C22/1000)) -> 0 | G22: =F22*8760 -> 0
B23: DN 80 | C23: 0 | D23: 0 | E23: 0 | F23: =IF(AND(E23>0,D23>0),"A oder B wählen",IF(E23>0,C23*E23*(($C$10+$C$11)/2-$C$12)/1000,D23*C23/1000)) -> 0 | G23: =F23*8760 -> 0
B24: DN 100 | C24: 0 | D24: 0 | E24: 0 | F24: =IF(AND(E24>0,D24>0),"A oder B wählen",IF(E24>0,C24*E24*(($C$10+$C$11)/2-$C$12)/1000,D24*C24/1000)) -> 0 | G24: =F24*8760 -> 0
B25: DN 125 | C25: 0 | D25: 0 | E25: 0 | F25: =IF(AND(E25>0,D25>0),"A oder B wählen",IF(E25>0,C25*E25*(($C$10+$C$11)/2-$C$12)/1000,D25*C25/1000)) -> 0 | G25: =F25*8760 -> 0
B26: DN 150 | C26: 0 | D26: 0 | E26: 0 | F26: =IF(AND(E26>0,D26>0),"A oder B wählen",IF(E26>0,C26*E26*(($C$10+$C$11)/2-$C$12)/1000,D26*C26/1000)) -> 0 | G26: =F26*8760 -> 0
B27: DN 200 | C27: 0 | D27: 0 | E27: 0 | F27: =IF(AND(E27>0,D27>0),"A oder B wählen",IF(E27>0,C27*E27*(($C$10+$C$11)/2-$C$12)/1000,D27*C27/1000)) -> 0 | G27: =F27*8760 -> 0
B28: DN 250 | C28: 0 | D28: 0 | E28: 0 | F28: =IF(AND(E28>0,D28>0),"A oder B wählen",IF(E28>0,C28*E28*(($C$10+$C$11)/2-$C$12)/1000,D28*C28/1000)) -> 0 | G28: =F28*8760 -> 0
B29: DN 300 | C29: 0 | D29: 0 | E29: 0 | F29: =IF(AND(E29>0,D29>0),"A oder B wählen",IF(E29>0,C29*E29*(($C$10+$C$11)/2-$C$12)/1000,D29*C29/1000)) -> 0 | G29: =F29*8760 -> 0
C30: 0 | D30: 0 | E30: 0 | F30: =IF(AND(E30>0,D30>0),"A oder B wählen",IF(E30>0,C30*E30*(($C$10+$C$11)/2-$C$12)/1000,D30*C30/1000)) -> 0 | G30: =F30*8760 -> 0
B31: Summe | C31: =SUM(C17:C30) -> 0 | F31: =SUM(F17:F30) -> 0 | G31: =SUM(G17:G30) -> 0
E33: Ergebnis
D34: Netzlänge-Trasse [trm] | E34: =C31/2 -> 0
D35: Netzlänge Rohrleitungsnetz [m] | E35: =C31 -> 0
D36: Spreizung im Auslegungsfall [°C] | E36: =C10-C11 -> 0
D37: =IF(Projektdaten!$C$5="Fernkälte","Kälteverlustleistung Netz [kW]","Wärmeverlustleistung Netz [kW]") -> Wärmeverlustleistung Netz [kW] | E37: =F31 -> 0
B38: =IF(Projektdaten!$C$5="Fernkälte","Jahreskälteverlust (auf Basis der derzeit angenommenen Betriebsweise) [MWh]","Jahreswärmeverlust (auf Basis der derzeit angenommenen Betriebsweise) [MWh]") -> Jahreswärmeverlust (auf Basis der derzeit angenommenen Betriebsweise) [MWh] | E38: =(SUM(F17:F30))*_Ang004/1000 -> 0
D39: =IF(Projektdaten!$C$5="Fernkälte","Maximalkälteverlust-Referenzwert [MWh]","Maximalwärmeverlust-Referenzwert [MWh]") -> Maximalwärmeverlust-Referenzwert [MWh] | E39: =G31/1000 -> 0
D40: =IF(Projektdaten!$C$5="Fernkälte","Verkaufte Jahreskältemenge inklusive Netzverlust [MWh]","Verkaufte Jahreswärmemenge inklusive Netzverlust [MWh]") -> Verkaufte Jahreswärmemenge inklusive Netzverlust [MWh] | E40: =E39+C13 -> 0
D41: Prozentueller Referenzwert Netzverlust [%] | E41: =IF(E40>0,E39/(E40/100),0) -> 0
B44: Datenblätter aller verwendeten Rohrtypen der Hersteller oder Herstellerin an diese Berechnung anhängen.

Sheet Drop Down
B2: Wärme-Anlagenkomponenten | C2: Kälte-Anlagenkomponenten | F2: Brennstoffart
B3: Biomassekessel | C3: Kompressionskältemaschinen | F3: Erdgas
B4: Biomasse-KWK | C4: Absorptionskältemaschinen | F4: Gewerbliche / Industrielle Abwärme
B5: Economizer | C5: Adsorptionskältemaschinen | F5: Biogene Abwärme
B6: Rauchgaskondensator | C6: Free-Cooling | F6: Flüssiggas
B7: Ölkessel | C7: Sonstige | F7: Holz
B8: Gaskessel | F8: Kohle
B9: Pflanzenölkessel | F9: Heizöl
B10: Solaranlage | F10: Pellets
B11: Wärmezukauf | F11: Strom
B12: Sonstige | F12: Ökostrom (Umweltzeichen)
B13: Lastausgleichspeicher | F13: Strom für WP (Standard)
B14: Rauchgasreinigung | F14: Strom für WP (Ökostrom UZ)
B15: Waermepumpe | F15: Brennholz Buche
B16: Absorptionswaermepumpe | F16: Hackgut Fichte
F17: Diesel (inkl. Beimischung * )
F18: Benzin (inkl. Beimischung * )
F19: Biodiesel
F20: Bioethanol
