Workbook
Name Anlagenart: [1]Allgemein!$Y$26
Name Antragseingang: [1]Allgemein!$F$21
Name Bescheid_Hinweis: #REF!
Name Best_vorh_n: #REF!
Name Best_vorh_n: #REF!
Name Best_vorh_n: #REF!
Name CO2_JNG: '[1]CO2-JNG'!$A$4:$L$28
Name Energietr1: #REF!
Name Energieträger: '[1]CO2-JNG'!$A$4:$A$28
Name ET: #REF!
Name ET: #REF!
Name ET: #REF!
Name ET: Dropdownliste!$G$2:$G$20
Name ETS: #REF!
Name ETS_Hinweis: #REF!
Name ETS_Hinweis_ZielGr: #REF!
Name ETS_nein: #REF!
Name GWPListe: #REF!
Name KA_bkz: #REF!
Name KA_bkz: #REF!
Name KA_bkz: 'D - Kühlung'!#REF!
Name KA_bkz: #REF!
Name KA_bkz: #REF!
Name KA_ek: #REF!
Name KA_ek: #REF!
Name KA_ek: 'D - Kühlung'!#REF!
Name KA_ek: #REF!
Name KA_ek: #REF!
Name KA_fertigstell: #REF!
Name KA_fertigstell: #REF!
Name KA_fertigstell: 'D - Kühlung'!#REF!
Name KA_fertigstell: #REF!
Name KA_fertigstell: #REF!
Name KA_förder_quote: #REF!
Name KA_förder_quote: #REF!
Name KA_förder_quote: 'D - Kühlung'!#REF!
Name KA_förder_quote: #REF!
Name KA_förder_quote: #REF!
Name KA_Habkurzf_Zins: 'D - Kühlung'!#REF!
Name KA_Habkurzf_Zins: #REF!
Name KA_Habkurzf_Zins: #REF!
Name KA_invstk_asche: 'D - Kühlung'!#REF!
Name KA_invstk_asche: #REF!
Name KA_invstk_asche: #REF!
Name KA_invstk_aufschl: 'D - Kühlung'!#REF!
Name KA_invstk_aufschl: #REF!
Name KA_invstk_aufschl: #REF!
Name KA_invstk_aussenanl: 'D - Kühlung'!#REF!
Name KA_invstk_aussenanl: #REF!
Name KA_invstk_aussenanl: #REF!
Name KA_invstk_beschick: 'D - Kühlung'!#REF!
Name KA_invstk_beschick: #REF!
Name KA_invstk_beschick: #REF!
Name KA_invstk_einst: 'D - Kühlung'!#REF!
Name KA_invstk_einst: #REF!
Name KA_invstk_einst: #REF!
Name KA_invstk_fahrz: 'D - Kühlung'!#REF!
Name KA_invstk_fahrz: #REF!
Name KA_invstk_fahrz: #REF!
Name KA_invstk_grabung: 'D - Kühlung'!#REF!

Sheet Projektbeschreibung
B4: Technisch-wirtschaftliches Datenblatt - Klimafitte Kulturbetriebe: Schwerpunkt Energieeffizienz / Energieeffiziente Rettungsorganisationen / Energieeffiziente Sportstätten
B6: Antragstellende Person:
B7: Themenbereich: | D7: bitte auswählen
B8: Projektname:
B9: Projektstandort:
B11: =IF(D7="bitte auswählen","Projektbeschreibung","Projektbeschreibung für " &D7) -> Projektbeschreibung
B12: Allgemeine Projektbeschreibung (Übersicht über die Maßnahmen/das Gesamtprojekt)
R14: 2 | S14: 3 | T14: 4
Q15: Klimafitte Kulturbetriebe | R15: Die verfügbaren Nutzungszeiten bzw. Räumlichkeiten der geförderten Kultureinrichtung werden für zu mindestens 80% für kulturelle Zwecke genutzt.
Q16: Energieeffiziente Rettungsorganisation | R16: Es existiert eine Bestätigung des Bundeslandes oder der Gemeinde(n) über die überwiegende Nutzung des Gebäudes zur Erbringung von Dienstleistungen von allgemeinem wirtschaftlichem Interesse (DAWI). | S16: Das Gebäude/der Grund kann für die Nächsten 10 Jahre von der Rettungsorganisation genutzt werden.
Q17: Energieeffiziente Sportstätten | R17: Die Sportstätte steht dem Amateursport für zumidest 20 % zur Verfügung. | S17: Das Gebäude/die Anlage wird überwiegend als Sportstätte genutzt (mehr als 50% der Bruttogrundfläche und tatsächlichen Nutzungszeit). | T17: Das Gebäude/der Grund kann für die nächsten 10 Jahre als Sportstätte genutzt werden.
Q18: bitte auswählen
B21: Erforderliche Voraussetzungen zur Antragsstellung
C24: =VLOOKUP($D$7,$Q$15:$T$18,2,0) | F24: bitte auswählen | H24: =IF(F24="Nein","Bitte beachten Sie, dass die Mindestvoraussetzungen nicht erfüllt sind!","")
C25: =VLOOKUP($D$7,$Q$15:$T$18,3,0) | F25: bitte auswählen | H25: =IF(F25="Nein","Bitte beachten Sie, dass die Mindestvoraussetzungen nicht erfüllt sind!","")
C26: =VLOOKUP($D$7,$Q$15:$T$18,4,0) | F26: bitte auswählen | H26: =IF(F26="Nein","Bitte beachten Sie, dass die Mindestvoraussetzungen nicht erfüllt sind!","")
B28: Kontaktdaten
B30: Bestätigung der Richtigkeit der Angaben zur Beschreibung und des Technisch-wirtschaftlichen Datenblatts durch
B32: Name
B33: Betrieb/Verein
B34: Kontakt (für Rückfragen) | E34: E-Mail
E35: Telefon

Sheet A - Thermische Gebäudesanierung
B3: A. Thermische Gebäudesanierung
B5: HINWEIS | D5: Das betroffene Gebäude muss zum Zeitpunkt der Antragstellung älter als 15 Jahre sein (Datum der Baubewilligung).
B7: Angaben zum Projekt
B9: Allgemeine Angaben | I9: =IF(F10=Dropdownliste!D4,"Bitte scrollen Sie zu der entsprechenden Maßnahme nach unten","")
C10: Art der Maßnahme | F10: bitte auswählen
C11: Baujahr des Gebäudes (Datum der Baubewilligung): | I11: =IF(F11>YEAR(TODAY())-20,"Keine Förderung möglich","")
C12: =IF(F10=Dropdownliste!D4,"Ist das Gebäude denkmalgeschützt?","")
C13: =IF(F10=Dropdownliste!D4,"Ist eine Dach- bzw. Fassadenbegrünung Teil der eingereichten Maßnahmen?","")
C15: =IF(F13="Ja","Fläche der fassadengebungdenen Begrünung [m²]","")
C16: =IF(F13="Ja","Fläche der bodengebungdenen Begrünung [m²]","")
C17: =IF(F13="Ja","Fläche der begrüunten Dachfläche [m²]","")
C18: =IF(F10=Dropdownliste!D4,"Sind außenliegende Verschattungssysteme zur Reduzierung des Kühlbedarfs Teil der Maßnahme?","")
B22: Beschreibung der geplanten Maßnahmen
B32: A1. Maßnahmen- / Bauteilaufstellungen - Einzelmaßnahmen
B34: Kostenaufstellung
B35: Nr. | C35: Art der Einzelmaßnahme lt. Leitfaden | G35: U-Wert [W/m²K] | H35: Gesamtfläche [m²] | I35: Nettokosten [EUR]
B37: 1 | C37: bitte auswählen | I37: 0 | O37: Kategorie | P37: Uwert
B38: 2 | C38: bitte auswählen | I38: 0 | O38: Fenster / Außentüren | P38: 1.1
B39: 3 | C39: bitte auswählen | I39: 0 | O39: Sektionaltore / Rollentore | P39: 1.7
B40: 4 | C40: bitte auswählen | I40: 0 | O40: Lichtkuppeln | P40: 1.4
B41: 5 | C41: bitte auswählen | I41: 0 | O41: Oberste Geschoßdecke | P41: 0.14
B42: 6 | C42: bitte auswählen | I42: 0 | O42: Steil- und Flachdach | P42: 0.14
B43: 7 | C43: bitte auswählen | I43: 0 | O43: bitte auswählen
B44: 8 | C44: bitte auswählen | I44: 0
B45: 9 | C45: bitte auswählen | I45: 0
B46: 10 | C46: bitte auswählen | I46: 0
B47: 11 | C47: bitte auswählen | I47: 0
B48: 12 | C48: bitte auswählen | I48: 0
B49: 13 | C49: bitte auswählen | I49: 0
B50: 14 | C50: bitte auswählen | I50: 0
B51: 15 | C51: bitte auswählen | I51: 0
B52: 16 | C52: bitte auswählen | I52: 0
B53: 17 | C53: bitte auswählen | I53: 0
B54: 18 | C54: bitte auswählen | I54: 0
B55: 19 | C55: bitte auswählen | I55: 0
B56: 20 | C56: bitte auswählen | I56: 0
F57: Gesamtkosten | I57: =SUM(I37:J56) -> 0
F58: =IF(AND(I57>0,I57<10000),"Bitte beachten Sie, dass die Mindestinvestitionskosten von 10.000 EUR nicht gegeben sind.","")
C59: Die in der Tabelle angeführtem Einzelmaßnahmen entsprechen den Anforderungen an den U-Wert lt. Leitfaden. | G59: bitte auswählen | I59: =IF(G59="Trifft nicht zu ","Bitte beachten Sie, dass die Mindestvoraussetzungen nicht erfüllt sind!","")
C60: Erf. Nachweis über U-Wert Berechnungen (z.B. Energieausweis) | G60: bitte auswählen | I60: =IF(G60=Dropdownliste!D24,"",IF(OR(G60=Dropdownliste!D25),"Upload der entsprechenden Unterlagen in der Online-Einreichung","Nachreichungen per E-Mail an umwelt@kommunalkredit.at (Betreff: Antragsnummer)"))
...

Sheet B - Klimafreundlich Heizen
B3: B. Klimafreundlich Heizen
B5: Hinweis | D5: Bitte beachten Sie, dass nur eine Umstellung von bestehenden fossilen Heizungsanlagen auf umwelt- und klimafreundliche Wärmeerzeuger (Holzheizung, Wärmepumpe, hocheffiziente und klimafreundliche Nah-/Fernwärme) sowie Anlagen zur Wärmespeicherung, förderfähig sind.
B7: Beschreibung der geplanten Maßnahmen
B16: Allgemeine Angaben
C17: Standort in einem Fernwärmeversorgungsgebiet? | F17: bitte auswählen | G17: {=IFERROR(_xlfn.IFS(F17="Ja","Holz- bzw. Biomasseheizungen sowie Wärmepumpen sind nur in Gebieten förderungsfähig, in denen keine Möglichkeit zum Anschluss an eine klimafreundlich beziehungsweise hocheffiziente Fernwärmeversorgung besteht.",F18="Nein","Bitte beachten Sie, dass nur eine Umstellung von bestehenden fossilen Heizungsanlagen auf umwelt- und klimafreundliche Wärmeerzeuger förderfähig ist."),"")} | M17: =NOT(OR($F$20=Dropdownliste!F3,$F$21=Dropdownliste!F3)) -> TRUE
C18: Ist bereits eine Wärmeerzeugungsanlage vorhanden? | F18: bitte auswählen | M18: =NOT(OR($F$20=Dropdownliste!F4,$F$21=Dropdownliste!F4)) -> TRUE
C19: =IF(F18="Ja","Ersetzter Energieträger","") | M19: =NOT(OR($F$20=Dropdownliste!F5,$F$21=Dropdownliste!F5)) -> TRUE
C20: Art der Maßnahme | F20: bitte auswählen | G20: =IF(F20="bitte auswählen","","Bitte scrollen Sie zu der entsprechenden Maßnahme nach unten") | M20: =NOT(OR($F$20=Dropdownliste!F6,$F$21=Dropdownliste!F6)) -> TRUE
C21: Weitere Maßnahme | F21: bitte auswählen | G21: =IF(F21="bitte auswählen","","Bitte scrollen Sie zu der entsprechenden Maßnahme nach unten")
B23: Wärmepumpe
B25: Allgemeine Angaben
C26: Art der Wärmepumpe | F26: bitte auswählen | G26: =IF(F26="Sonstige","Beschreibung:","")
C27: Wärmepumpenhersteller
C28: Typenbezeichnung
C29: thermische Leistung (Gesamt) [kW]
C30: elektrische Leistung (Gesamt) [kW]
C31: Vorlauftemperatur des Wärmeabgabesystems | F31: bis zu 55°C
C32: =IF(F31="über 55°C","Jahresarbeitszahl (JAZ) der Wärmepumpe","")
C33: Art des Kältemittels | F33: bitte auswählen | G33: mit einem GWP von ... | I33: =IF(F33='GWP-Liste'!I2,"-",VLOOKUP(F33,'GWP-Liste'!$I$3:$K$66,3,0)) -> -
C34: =IF(F33="Sonstige","Sonstiges Kältemittel angeben:","") | G34: =IF(F33="Sonstige","mit einem GWP von ...","")
B35: Art der Nutzung
C36: Wird die Anlage überwiegend zur Wärmebereitstellung genutzt? | F36: bitte auswählen
B38: Strombezug
C39: Herkunft des eingesetzten Stroms? | F39: bitte auswählen | H39: =IF(F39="kein Strom aus erneuerbaren Energieträgern","keine Förderung möglich!","")
B41: Projektkosten gesamt (netto, exkl. Ust.)
F42: Nettokosten [EUR] | G42: Beschreibung
C43: Wärmepumpe | F43: 0
C44: Wärmequellenanlage (z.B. Erdwärme) | F44: 0
C45: Pufferspeicher | F45: 0
C46: primärseitige hydraulische Installation | F46: 0
C47: Anlagenregelung | F47: 0
C48: elektrische Installation | F48: 0
C49: Montage | F49: 0
C50: Planung (max. 10% der Gesamtkosten) | F50: 0
C51: Gesamtkosten | F51: =SUM(F43:F50) -> 0
C52: =IF(AND(F51>0,F51<10000),"Bitte beachten Sie, dass die Mindestinvestitionskosten von 10.000 EUR nicht gegeben sind.","")
B53: Holzheizung / Biomasse Einzelanlage
B55: Allgemeine Angaben
C56: Thermische Nennwärmeleistung [kW]
C57: Kesselhersteller
...

Sheet C1 - Energiesparmaßnahmen
B3: C.1 Energiesparmaßnahmen
B5: HINWEIS | D5: Gegenüberstellung der Bestandsanlagen zur neuen/optimierten Gesamtanlage. Bitte legen Sie dem Online-Antrag eine ausführliche und nachvollziehbare "Technische Beschreibung" der eingereichten Maßnahme(n) bei. Bei Beleuchtungsoptimierung nutzen sie das Tabellenblatt C2 - Beleuchtungsoptimierung
B7: HINWEIS | D7: Heizungsoptimierung in Bestandsgebäuden (Nachrüstung Speichersystem, Drehzahlregelungen, effiziente Pumpen, Heizungsverteiler, Steuerungstechnik) müssen mindestens eine Energieeinsparung von 10 % aufweisen. Bei einer gleichzeitigen Umstellung des Heizkessels/der Wärmeversorgung können nur die Maßnahmen welche zusätzlich zum neuen Kessel bzw. zum Energieträgerwechsel erforderlich sind, als "Heizungsoptimierung" anerkannt werden. Beispiel 1 - Die notwendigen Installation und Adaptierungen für einen neuen Biomassekessel und die damit erreichte Effizienzsteigerung (z.B. höherer Kesselwirkungsgrad) sind unter "Heizungsoptimierung" nicht förderungsfähig bzw. kann der Umwelteffekt nicht anerkannt werden. Beispiel 2 - zusätzliche Maßnahmen zur Effizienzsteigerung von bestehenden und funktionsfähigen Anlagen (Optimierung von Verteiler, Pumpen, MSR,...) zählen als "Heizungsoptimierung" und können gefördert werden.
B9: Beschreibung der geplanten Maßnahmen
B18: Wärmebereitstellung Bestand*
B19: Wärmereitstellung | E19: Anlage 1 | F19: Anlage 2 | G19: Anlage 3 | H19: Anlage 4 | I19: Anlage 5 | J19: Summe
B20: Anlagen-Name/Bezeichnung
B21: Wärmeversorgung Bestand [Art]
B22: Brennstoff | D22: [-] | E22: bitte auswählen | F22: bitte auswählen | G22: bitte auswählen | H22: bitte auswählen | I22: bitte auswählen
B23: Brennstoffenergie [kWh/a] | D23: [kWh/a] | J23: =IF(SUM(E23:I23)>0,SUM(E23:I23),"-") -> -
B24: Wirkungsrad Wärmebereitstellung [-] | D24: [-]
B25: Leistung [kW] | D25: [kW] | J25: =IF(SUM(E25:I25)>0,SUM(E25:I25),"-") -> -
B26: Nutzenergie (Wärme) [kWh/a] | D26: [kWh/a] | J26: =IF(SUM(E26:I26)>0,SUM(E26:I26),"-") -> -
B27: * Bei gleichzeitiger Umstellung des Heizkessels bzw. einem Energieträgerwechsel geben Sie als Basis der Heizungsoptimierung die NEUE Wärmeversorgung als "Bestand" an.
B29: Optimierungsmaßnahmen
B30: Optimierungsmaßnahmen | D30: Einsparung Nutzenergie (Wärme) | F30: Eingesparter Energieträger | G30: Beschreibung der Maßnahme und Nachvollziehbare Darstellung wie die angegebenen Einsparungen berechnet bzw. abgeschätzt wurden
D31: kWh/a | E31: %
B32: Maßnahme 1 | F32: bitte auswählen
B33: Maßnahme 2 | F33: bitte auswählen
B34: Maßnahme 3 | F34: bitte auswählen
B35: Maßnahme 4 | F35: bitte auswählen
B36: Maßnahme 5 | F36: bitte auswählen
B37: Maßnahme 6 | F37: bitte auswählen
B38: Maßnahme 7 | F38: bitte auswählen
B39: Maßnahme 8 | F39: bitte auswählen
B40: Maßnahme 9 | F40: bitte auswählen
B41: Maßnahme 10 | F41: bitte auswählen
B43: Pumpentausch
B44: Pumpentausch | E44: Bestand | F44: Optimiert
B45: Anzahl
B46: Gesamtleistung [kW] | D46: [kW]
B47: Laufzeit [h/a] | D47: [h/a]
B48: Energiebedarf [kWh/a] | D48: [kWh/a] | E48: =E46*E47 -> 0 | F48: =F46*F47 -> 0
B50: Weitere Anmerkungen/Ergänzungen zu den Energiesparmaßnahmen
B59: Kostenaufstellung
B61: Nr. | C61: Art der Leistungen | G61: Firma / Planerin / Planer | H61: Angebotsnummer / Kostenschätzung | I61: Nettokosten [EUR]
B62: 1 | I62: 0
B63: 2 | I63: 0
B64: 3 | I64: 0
B65: 4 | I65: 0
...

Sheet C2 - Beleuchtungsoptimierung
B3: C.2 Beleuchtungsoptimierung / Leuchtenaufstellung
B5: Beschreibung der geplanten Maßnahmen
B14: Allgemeine Angaben
C15: Maßnahme 1 | E15: bitte auswählen | I15: =IF(E15="bitte auswählen","","Bitte scrollen Sie zu der entsprechenden Maßnahme nach unten")
C16: Maßnahme 2 | E16: bitte auswählen
C17: Maßnahme 3 | E17: bitte auswählen
B19: LEUCHTENAUFSTELLUNG: Sportstättenbeleuchtung (Flutlichtanlagen) | M19: {=NOT(OR(E15="Sportstättenbeleuchtung",'C2 - Beleuchtungsoptimierung'!E16:F16="Sportstättenbeleuchtung",'C2 - Beleuchtungsoptimierung'!E17:F17="Sportstättenbeleuchtung"))} -> TRUE
B21: Trainingsplatz - Beleuchtungsklasse III lt. ÖNORM EN 12193
B22: lfd. Nr. | C22: Bezeichnung der NEUEN Leuchten gemäß Angebot | E22: Nenn- leistung pro Leuchte [W] | F22: Anzahl | G22: Leistung Gesamt NEU [kW] | H22: Nutzungs- gerechte Steuerung? Ja / Nein | I22: Anmerkungen
B23: Beispiel | C23: Beispielleuchte | E23: 150 | F23: 2 | G23: =E23*F23/1000 -> 0.3 | H23: ja | I23: Trainingsplatz 1
B24: 1 | G24: =E24*F24/1000 -> 0
B25: 2 | G25: =E25*F25/1000 -> 0
B26: 3 | G26: =E26*F26/1000 -> 0
B27: 4 | G27: =E27*F27/1000 -> 0
B28: 5 | G28: =E28*F28/1000 -> 0
B29: 6 | G29: =E29*F29/1000 -> 0
B30: 7 | G30: =E30*F30/1000 -> 0
B31: 8 | G31: =E31*F31/1000 -> 0
B32: 9 | G32: =E32*F32/1000 -> 0
B33: 10 | G33: =E33*F33/1000 -> 0
B34: 11 | G34: =E34*F34/1000 -> 0
B35: 12 | G35: =E35*F35/1000 -> 0
... B53: 30 | G53: =E53*F53/1000 -> 0
B54: Summe | G54: =SUM(G24:G53) -> 0
B56: Gesamtleistung der bestehenden Flutlichtanlage auf Trainingsplätzen [kW] | F56: Anzahl der bestehenden LICHTPUNKTE, die auf Trainingsplätzen optimiert werden
B57: 0 | F57: 0
B59: Wettkampfplatz - Beleuchtungsklasse I+II lt. ÖNORM EN 12193
B60: lfd. Nr. | C60: Bezeichnung der NEUEN Leuchten gemäß Angebot | E60: Nenn- leistung pro Leuchte [W] | F60: Anzahl | G60: Leistung Gesamt NEU [kW] | H60: Nutzungs- gerechte Steuerung? Ja / Nein | I60: Anmerkungen
B61: Beispiel | C61: Beispielleuchte | E61: 300 | F61: 2 | G61: =E61*F61/1000 -> 0.6 | H61: ja | I61: Wettkampfplatz 1
B62: 1 | G62: =E62*F62/1000 -> 0 | M62: =IF(H62="Nein","Keine Förderung möglich.","")
B63: 2 | G63: =E63*F63/1000 -> 0 | M63: =IF(H63="Nein","Keine Förderung möglich.","")
B64: 3 | G64: =E64*F64/1000 -> 0 | M64: =IF(H64="Nein","Keine Förderung möglich.","")
B65: 4 | G65: =E65*F65/1000 -> 0 | M65: =IF(H65="Nein","Keine Förderung möglich.","")
B66: 5 | G66: =E66*F66/1000 -> 0 | M66: =IF(H66="Nein","Keine Förderung möglich.","")
B67: 6 | G67: =E67*F67/1000 -> 0 | M67: =IF(H67="Nein","Keine Förderung möglich.","")
B68: 7 | G68: =E68*F68/1000 -> 0 | M68: =IF(H68="Nein","Keine Förderung möglich.","")
B69: 8 | G69: =E69*F69/1000 -> 0 | M69: =IF(H69="Nein","Keine Förderung möglich.","")
B70: 9 | G70: =E70*F70/1000 -> 0 | M70: =IF(H70="Nein","Keine Förderung möglich.","")
B71: 10 | G71: =E71*F71/1000 -> 0 | M71: =IF(H71="Nein","Keine Förderung möglich.","")
B72: 11 | G72: =E72*F72/1000 -> 0 | M72: =IF(H72="Nein","Keine Förderung möglich.","")
...

Sheet D - Kühlung
B3: D. Kühlung
B5: HINWEIS | D5: Bitte beachten Sie, dass im Bereich „Free Cooling“ nur jene Kosten anerkannt werden können, welche nur für das Free Cooling erforderlich sind. Bei gleichzeitiger Nutzung des Brunnens/der Tiefenbohrungen/Luft-Außengerät und der entsprechenden Infrastruktur für die Wärmebereitstellung durch eine Wärmepumpe werden diese Kosten der Wärmepumpe zugerechnet.
B7: Projektbeschreibung
C9: Art der Maßnahme | E9: bitte auswählen
B11: Beschreibung der geplanten Maßnahmen
B22: BESTAND
E24: Anlage1 | F24: Anlage 2 | G24: Anlage 3 | H24: Anlage 4 | I24: Summe
B25: Anlagen-Name/Bezeichnung
B26: Antriebsleistung [kW_el] | I26: =IF(SUM(E26:H26)>0,SUM(E26:H26),"-") -> -
B27: Kälteleistung [kW_Kälte] | I27: =IF(SUM(E27:H27)>0,SUM(E27:H27),"-") -> -
B28: EER | D28: [-]
B29: Kältemittel [R xxxx]
B30: Füllmenge [kg] | I30: =IF(SUM(E30:H30)>0,SUM(E30:H30),"-") -> -
B31: Leckagerate [%/a] | E31: 0.03 | F31: 0.03 | G31: 0.03 | H31: 0.03
B32: Laufzeiten [h/a]
B33: elektrische Energie [kWh/a] | I33: =IF(SUM(E33:H33)>0,SUM(E33:H33),"-") -> -
B34: Kälteenergie [kWh/a] | I34: =IF(SUM(E34:H34)>0,SUM(E34:H34),"-") -> -
B36: OPTIMIERT
B37: stellen Sie auch jene Anlagen dar die im Bestand bzw. in Betrieb bleiben
E39: Anlage1 | F39: Anlage 2 | G39: Anlage 3 | H39: Analge 4 | I39: Summe
B40: Anlagen-Name/Bezeichnung
B41: Antriebsleistung [kW_el] | I41: =IF(SUM(E41:H41)>0,SUM(E41:H41),"-") -> -
B42: Kälteleistung [kW_Kälte] | I42: =IF(SUM(E42:H42)>0,SUM(E42:H42),"-") -> -
B43: EER | D43: [-]
B44: Kältemittel [R xxxx]
B45: Füllmenge [kg] | I45: =IF(SUM(E45:H45)>0,SUM(E45:H45),"-") -> -
B46: Leckagerate [%/a] | E46: 0.03 | F46: 0.03 | G46: 0.03 | H46: 0.03
B47: Laufzeiten [h/a]
B48: elektrische Energie [kWh/a] | I48: =IF(SUM(E48:H48)>0,SUM(E48:H48),"-") -> -
B49: Kälteenergie [kWh/a] | I49: =IF(SUM(E49:H49)>0,SUM(E49:H49),"-") -> -
B50: Kälteverteilung - Direktverdamfer / Kälteträger (Sole, Eiswasser,…) | E50: bitte auswählen | F50: bitte auswählen | G50: bitte auswählen | H50: bitte auswählen
B52: Stellungnahme/Begründung, falls sich die Kälteleistung und/oder die bereitgestellte Kälteenergie bei der optimierten Anlage verringert
B59: Kostenaufstellung
B61: Nr. | C61: Art der Leistungen | G61: Firma / qualifizierter Planer | H61: Angebotsnummer / Kostenschätzung | I61: Nettokosten [EUR]
B62: 1 | I62: 0
B63: 2 | I63: 0
B64: 3 | I64: 0
B65: 4 | I65: 0
B66: 5 | I66: 0
B67: 6 | I67: 0
...

Sheet Dropdownliste
B1: Themenfeld | D1: Modul A | F1: Modul B | H1: Modul C.1 | J1: Modul C.2 - Beleuchtung | L1: Modul D
A2: Themenfeld | B2: bitte auswählen | D2: bitte auswählen | F2: bitte auswählen | L2: bitte auswählen
A3: bitte auswählen | B3: Energieeffiziente Kulturbetriebe | D3: A1. Einzelmaßnahmen | F3: Wärmepumpe | H3: Drop-Down Energieträger | J3: Art der Maßnahme | L3: Free Cooling
A4: Klimafitte Kulturbetriebe | B4: Energieeffiziente Rettungsorganisation | D4: A2. Umfassende thermische Gebäudesanierung | F4: Holzheizungen / Biomasse Einzelanlagen | H4: bitte auswählen | J4: bitte auswählen | L4: Prozesskälteanlagen
A5: Energieeffiziente Rettungsorganisation | B5: Energieeffiziente Sportstätten | F5: Nah- / Fernwärmeanschluss | H5: Erdgas | J5: Sportstättenbeleuchtung
A6: Energieeffiziente Sportstätten | D6: A1. Einzelmaßnahmen | F6: Thermische Solaranlage | H6: Fernwärme (biogene Brennstoffe) | J6: Außen-, Innen- und Straßenbeleuchtung
D7: bitte auswählen | H7: Fernwärme (fossile Brennstoffe) | J7: Bühnenbeleuchtung und Beleuchtung von Exponaten
B8: Ja/Nein Dropdown | D8: Fenster / Außentüren | F8: Wärmepumpen | H8: Flüssiggas | L8: Art der Leistung (Kosten)
B9: Ja | D9: Sektionaltore / Rollentore | F9: Art WP | H9: Holz
B10: Nein | D10: Lichtkuppeln | F10: Luft/Wasser | H10: Kohle
B11: bitte auswählen | D11: Oberste Geschoßdecke | F11: Wasser/Wasser | H11: Heizöl
D12: Steil- und Flachdach | F12: Sole/Wasser | H12: Pellets
B13: Trifft zu ? | F13: Sonstige | H13: Strom
B14: bitte auswählen | D14: Art der Leistung (Kosten) | F14: bitte auswählen | H14: Ökostrom (Umweltzeichen)
B15: trifft zu | D15: bitte auswählen | H15: Strom für WP (Standard)
B16: trifft nicht zu | D16: Fenster, Fenstertüren, Verglaste Türen | F16: Strom | H16: Strom für WP (Ökostrom UZ)
D17: Transparente Bauteile | F17: kein Strom aus erneuerbaren Energieträgern | H17: Brennholz Buche
D18: Türen und Tore | F18: Zukauf von Ökostrom | H18: Hackgut Fichte
D19: Dachschrägen und Decken (gegen Außenluft / unbeheizte Dachräume) | F19: Eigene Erzeugung | H19: Diesel (inkl. Beimischung * )
D20: Erstellung Energieausweis | F20: bitte auswählen | H20: Benzin (inkl. Beimischung * )
D21: Planung | H21: Biodiesel
F22: Holzheizung / Biomasse Einzelanlagen | H22: Bioethanol
D23: Energieausweis | F23: bitte auswählen | H23: Biogas
D24: bitte auswählen | F24: Pellets | H24: Fernw hocheffizient
D25: wurde erstellt und liegt bei | F25: Waldhackgut | H25: Fernw klimafreundlich
D26: wird nachgereicht | F26: Stückholz | H26: Abwärme
F27: Sonstiger:
H28: Art der Leistung (Kosten)
D29: A1. umfassende Sanierung | F29: Solaranlage | H29: bitte auswählen
D30: Fassadenbegrünung | F30: bitte auswählen | H30: Heizungsoptimierung
D31: fassadengebundene Begrünung | F31: Typenprüfung nach ES 12975 | H31: Wärmerückgewinnung
D32: bodengebundene Begrünung | F32: Solar Keymark Zertifikat | H32: Pufferspeicher
D33: begrünte Dachfläche | F33: Österreischisches Umweltzeichen | H33: Wärmepumpe (Abwärme)
H34: Steuerungstechnik (MSR)
F35: bitte auswählen | H35: Zentrallüftungsgerät (Achtung OIB Richtlinie 6)
F36: Standardkollektor | H36: Planung
F37: Vakuumkollektor | H37: Sonstiges
F38: Luftkollektor
F40: Fernwärme
F41: bitte auswählen
...

Sheet GWP-Liste
A1: Kältemittel Nummer [R] | B1: Name | C1: Sicherheits-klasse | D1: DGRL (PED) - Gruppe | E1: prakt. Grenzwert (kg/m³) | F1: Brennbar-keit LFL (kg/m³) | G1: Siedepunkt (°C) | H1: ODP | I1: R…. + Name | J1: GWP (100 Jr ITH) (kg/kg) IPCC 4 | K1: GWP (100 Jr ITH) (kg/kg) IPCC 5
I2: bitte auswählen
A3: 12 | C3: A1 | D3: 2 | E3: 0.5 | F3: - | G3: -29 | H3: 1 | I3: =TRIM(CONCATENATE("R",A3," ",B3)) -> R12 | J3: 10900 | K3: 10200
A4: 22 | C4: A1 | D4: 2 | E4: 0.3 | F4: - | G4: -41 | H4: 0.055 | I4: =TRIM(CONCATENATE("R",A4," ",B4)) -> R22 | J4: 1810 | K4: 1760
A5: 30 | C5: B2 | D5: 2 | E5: 0.017 | F5: 0.417 | G5: 40 | H5: - | I5: =TRIM(CONCATENATE("R",A5," ",B5)) -> R30 | J5: 9 | K5: 9
A6: 32 | C6: A2L | D6: 1 | E6: 0.061 | F6: 0.307 | G6: -52 | H6: 0 | I6: =TRIM(CONCATENATE("R",A6," ",B6)) -> R32 | J6: 675 | K6: 677
A7: 50 | B7: Methan | C7: A3 | D7: 1 | E7: 0.006 | F7: 0.032 | G7: -161 | H7: 0 | I7: =TRIM(CONCATENATE("R",A7," ",B7)) -> R50 Methan | J7: 30 | K7: 30
A8: 125 | I8: =TRIM(CONCATENATE("R",A8," ",B8)) -> R125 | J8: 3500 | K8: 3170
A9: 170 | B9: Ethan | C9: A3 | D9: 1 | E9: 0.0086 | F9: 0.038 | G9: -89 | H9: 0 | I9: =TRIM(CONCATENATE("R",A9," ",B9)) -> R170 Ethan | J9: 6 | K9: 6
A10: 290 | B10: Propan | C10: A3 | D10: 1 | E10: 0.008 | F10: 0.036 | G10: -42 | H10: 0 | I10: =TRIM(CONCATENATE("R",A10," ",B10)) -> R290 Propan | J10: 3 | K10: 3
A11: 600 | B11: Butan | C11: A3 | D11: 1 | E11: 0.089 | F11: 0.038 | G11: 0 | H11: 0 | I11: =TRIM(CONCATENATE("R",A11," ",B11)) -> R600 Butan | J11: 4 | K11: 4
A12: 601 | B12: Pentan | C12: A3 | D12: 1 | E12: 0.008 | F12: 0.035 | G12: 36 | H12: 0 | I12: =TRIM(CONCATENATE("R",A12," ",B12)) -> R601 Pentan | J12: 5 | K12: 5
A13: 717 | B13: Ammoniak | C13: B2L | D13: 1 | E13: 0.00035 | F13: 0.116 | G13: -33 | H13: 0 | I13: =TRIM(CONCATENATE("R",A13," ",B13)) -> R717 Ammoniak | J13: 0 | K13: 0
A14: 744 | B14: CO2 | C14: A1 | D14: 2 | E14: 0.1 | F14: - | G14: -78 | H14: 0 | I14: =TRIM(CONCATENATE("R",A14," ",B14)) -> R744 CO2 | J14: 1 | K14: 1
A15: 1150 | B15: Ethen | C15: A3 | D15: 1 | E15: 0.006 | F15: 0.036 | G15: -104 | H15: 0 | I15: =TRIM(CONCATENATE("R",A15," ",B15)) -> R1150 Ethen | J15: 4 | K15: 4
A16: 1270 | B16: Propen | C16: A3 | D16: 1 | E16: 0.008 | F16: 0.046 | G16: -48 | H16: 0 | I16: =TRIM(CONCATENATE("R",A16," ",B16)) -> R1270 Propen | J16: 2 | K16: 2
A17: 1233zd | C17: A1 | D17: 2 | E17: 0.086 | F17: - | G17: 18.1 | H17: 0 | I17: =TRIM(CONCATENATE("R",A17," ",B17)) -> R1233zd | J17: 4.5 | K17: 1
A18: 1234yf | C18: A2L | D18: 1 | E18: 0.058 | F18: 0.289 | G18: -26 | H18: 0 | I18: =TRIM(CONCATENATE("R",A18," ",B18)) -> R1234yf | J18: 4 | K18: 1
A19: 1234ze | C19: A2L | D19: 2 | E19: 0.061 | F19: 0.303 | G19: -19 | H19: 0 | I19: =TRIM(CONCATENATE("R",A19," ",B19)) -> R1234ze | J19: 7 | K19: 1
A20: 134a | C20: A1 | D20: 2 | E20: 0.25 | F20: - | G20: -26 | H20: 0 | I20: =TRIM(CONCATENATE("R",A20," ",B20)) -> R134a | J20: 1430 | K20: 1300
A21: 143a | I21: =TRIM(CONCATENATE("R",A21," ",B21)) -> R143a | J21: 4470 | K21: 4800
A22: 152a | C22: A2 | D22: 1 | E22: 0.027 | F22: 0.13 | G22: -25 | H22: 0 | I22: =TRIM(CONCATENATE("R",A22," ",B22)) -> R152a | J22: 124 | K22: 138
A23: 245fa | C23: B1 | D23: 1 | E23: 0.19 | F23: - | G23: 15 | H23: 0 | I23: =TRIM(CONCATENATE("R",A23," ",B23)) -> R245fa | J23: 1030 | K23: 856
A24: 404A | C24: A1 | D24: 2 | E24: 0.52 | F24: - | G24: "-46,5 bis -45,7" | H24: 0 | I24: =TRIM(CONCATENATE("R",A24," ",B24)) -> R404A | J24: 3940 | K24: 3940
A25: 407C | C25: A1 | D25: 2 | E25: 0.31 | F25: - | G25: "-43,8 bis -36,7" | H25: 0 | I25: =TRIM(CONCATENATE("R",A25," ",B25)) -> R407C | J25: 1774 | K25: 1620
A26: 407F | C26: A1 | D26: 2 | E26: 0.32 | F26: - | G26: "-46,1 bis -39,7" | H26: 0 | I26: =TRIM(CONCATENATE("R",A26," ",B26)) -> R407F | J26: 1825 | K26: 1670
A27: 410A | C27: A1 | D27: 2 | E27: 0.44 | F27: - | G27: "-51,6 bis -51,5" | H27: 0 | I27: =TRIM(CONCATENATE("R",A27," ",B27)) -> R410A | J27: 2088 | K27: 1920
A28: 413A | C28: A2 | D28: 1 | E28: 0.08 | F28: 0.375 | G28: "-29,4 bis -27,4" | H28: 0 | I28: =TRIM(CONCATENATE("R",A28," ",B28)) -> R413A | J28: 2053 | K28: 1950
A29: 417A | C29: A1 | D29: 2 | E29: 0.15 | F29: - | G29: "-38,0 bis -32,9" | H29: 0 | I29: =TRIM(CONCATENATE("R",A29," ",B29)) -> R417A | J29: 2346 | K29: 2130
A30: 422D | C30: A1 | D30: 2 | E30: 0.29 | F30: - | G30: "-43,2 bis -38,4" | H30: 0 | I30: =TRIM(CONCATENATE("R",A30," ",B30)) -> R422D | J30: 2729 | K30: 2470
A31: 423A | C31: A1 | D31: 2 | E31: 0.3 | F31: - | G31: "-24,2 bis -23,5" | H31: 0 | I31: =TRIM(CONCATENATE("R",A31," ",B31)) -> R423A | J31: 2280 | K31: 2270
A32: 429A | C32: A3 | D32: 1 | E32: 0.098 | F32: 0.052 | G32: "-26,0 bis -25,6" | H32: 0 | I32: =TRIM(CONCATENATE("R",A32," ",B32)) -> R429A | J32: 15.3 | K32: 15.3
A33: 430A | C33: A3 | D33: 1 | E33: 0.1 | F33: 0.084 | G33: "-27,6 bis -27,6" | H33: 0 | I33: =TRIM(CONCATENATE("R",A33," ",B33)) -> R430A | J33: 106 | K33: 106
A34: 433C | C34: A3 | D34: 1 | E34: 0.006 | F34: 0.032 | G34: "-44,3 bis -43,9" | H34: 0 | I34: =TRIM(CONCATENATE("R",A34," ",B34)) -> R433C | J34: 2.8 | K34: 2.8
A35: 440A | C35: A2 | D35: 1 | E35: 0.025 | F35: 0.124 | G35: "-25,5 bis -24,3" | H35: 0 | I35: =TRIM(CONCATENATE("R",A35," ",B35)) -> R440A | J35: 156 | K35: 156
A36: 441A | C36: A3 | D36: 1 | E36: 0.0063 | F36: 0.032 | G36: "-41,9 bis -20,4" | H36: 0 | I36: =TRIM(CONCATENATE("R",A36," ",B36)) -> R441A | J36: 3.5 | K36: 3.5
A37: 443A | C37: A3 | D37: 1 | E37: 0.003 | F37: 0.036 | G37: "-44,8 bis -41,2" | H37: 0 | I37: =TRIM(CONCATENATE("R",A37," ",B37)) -> R443A | J37: 2.5 | K37: 2.5
A38: 444A | C38: A2L | D38: 1 | E38: 0.065 | F38: 0.324 | G38: "-34,3 bis -24,3" | H38: 0 | I38: =TRIM(CONCATENATE("R",A38," ",B38)) -> R444A | J38: 93 | K38: 89
A39: 445A | C39: A2L | D39: 1 | E39: 0.053 | F39: 0.266 | G39: "-50,3 bis -23,5" | H39: 0 | I39: =TRIM(CONCATENATE("R",A39," ",B39)) -> R445A | J39: 134.7 | K39: 118
A40: 446A | C40: A2L | D40: 1 | E40: 0.031 | F40: 0.157 | G40: "-49,4 bis -44,0" | H40: 0 | I40: =TRIM(CONCATENATE("R",A40," ",B40)) -> R446A | J40: 461.2 | K40: 461
...
