Workbook
Name Anlagenart: [1]Allgemein!$Y$26
Name Antragseingang: [1]Allgemein!$F$21
Name Bescheid_Hinweis: #REF!
Name Best_vorh_n: #REF!
Name Best_vorh_n: #REF!
Name Best_vorh_n: #REF!
Name CO2_JNG: '[1]CO2-JNG'!$A$4:$L$28
Name Energietr1: #REF!
Name Energieträger: '[1]CO2-JNG'!$A$4:$A$28
Name ET: #REF!
Name ET: #REF!
Name ET: #REF!
Name ET: Dropdownliste!$G$2:$G$20
Name ETS: #REF!
Name ETS_Hinweis: #REF!
Name ETS_Hinweis_ZielGr: #REF!
Name ETS_nein: #REF!
Name GWPListe: #REF!
Name KA_bkz: #REF!
Name KA_bkz: #REF!
Name KA_bkz: 'D - Kühlung'!#REF!
Name KA_bkz: #REF!
Name KA_bkz: #REF!
Name KA_ek: #REF!
Name KA_ek: #REF!
Name KA_ek: 'D - Kühlung'!#REF!
Name KA_ek: #REF!
Name KA_ek: #REF!
Name KA_fertigstell: #REF!
Name KA_fertigstell: #REF!
Name KA_fertigstell: 'D - Kühlung'!#REF!
Name KA_fertigstell: #REF!
Name KA_fertigstell: #REF!
Name KA_förder_quote: #REF!
Name KA_förder_quote: #REF!
Name KA_förder_quote: 'D - Kühlung'!#REF!
Name KA_förder_quote: #REF!
Name KA_förder_quote: #REF!
Name KA_Habkurzf_Zins: 'D - Kühlung'!#REF!
Name KA_Habkurzf_Zins: #REF!
Name KA_Habkurzf_Zins: #REF!
Name KA_invstk_asche: 'D - Kühlung'!#REF!
Name KA_invstk_asche: #REF!
Name KA_invstk_asche: #REF!
Name KA_invstk_aufschl: 'D - Kühlung'!#REF!
Name KA_invstk_aufschl: #REF!
Name KA_invstk_aufschl: #REF!
Name KA_invstk_aussenanl: 'D - Kühlung'!#REF!
Name KA_invstk_aussenanl: #REF!
Name KA_invstk_aussenanl: #REF!
Name KA_invstk_beschick: 'D - Kühlung'!#REF!
Name KA_invstk_beschick: #REF!
Name KA_invstk_beschick: #REF!
Name KA_invstk_einst: 'D - Kühlung'!#REF!
Name KA_invstk_einst: #REF!
Name KA_invstk_einst: #REF!
Name KA_invstk_fahrz: 'D - Kühlung'!#REF!
Name KA_invstk_fahrz: #REF!
Name KA_invstk_fahrz: #REF!
Name KA_invstk_grabung: 'D - Kühlung'!#REF!

Sheet Projektbeschreibung
B4: Technisch-wirtschaftliches Datenblatt - Klimafitte Kulturbetriebe: Schwerpunkt Energieeffizienz / Energieeffiziente Rettungsorganisationen / Energieeffiziente Sportstätten
B6: Antragstellende Person:
B7: Themenbereich: | D7: bitte auswählen
B8: Projektname:
B9: Projektstandort:
B11: =IF(D7="bitte auswählen","Projektbeschreibung","Projektbeschreibung für " &D7) -> Projektbeschreibung
B12: Allgemeine Projektbeschreibung (Übersicht über die Maßnahmen/das Gesamtprojekt)
R14: 2 | S14: 3 | T14: 4
Q15: Klimafitte Kulturbetriebe | R15: Die verfügbaren Nutzungszeiten bzw. Räumlichkeiten der geförderten Kultureinrichtung werden für zu mindestens 80% für kulturelle Zwecke genutzt.
Q16: Energieeffiziente Rettungsorganisation | R16: Es existiert eine Bestätigung des Bundeslandes oder der Gemeinde(n) über die überwiegende Nutzung des Gebäudes zur Erbringung von Dienstleistungen von allgemeinem wirtschaftlichem Interesse (DAWI). | S16: Das Gebäude/der Grund kann für die Nächsten 10 Jahre von der Rettungsorganisation genutzt werden.
Q17: Energieeffiziente Sportstätten | R17: Die Sportstätte steht dem Amateursport für zumidest 20 % zur Verfügung. | S17: Das Gebäude/die Anlage wird überwiegend als Sportstätte genutzt (mehr als 50% der Bruttogrundfläche und tatsächlichen Nutzungszeit). | T17: Das Gebäude/der Grund kann für die nächsten 10 Jahre als Sportstätte genutzt werden.
Q18: bitte auswählen
B21: Erforderliche Voraussetzungen zur Antragsstellung
C24: =VLOOKUP($D$7,$Q$15:$T$18,2,0) | F24: bitte auswählen | H24: =IF(F24="Nein","Bitte beachten Sie, dass die Mindestvoraussetzungen nicht erfüllt sind!","")
C25: =VLOOKUP($D$7,$Q$15:$T$18,3,0) | F25: bitte auswählen | H25: =IF(F25="Nein","Bitte beachten Sie, dass die Mindestvoraussetzungen nicht erfüllt sind!","")
C26: =VLOOKUP($D$7,$Q$15:$T$18,4,0) | F26: bitte auswählen | H26: =IF(F26="Nein","Bitte beachten Sie, dass die Mindestvoraussetzungen nicht erfüllt sind!","")
B28: Kontaktdaten
B30: Bestätigung der Richtigkeit der Angaben zur Beschreibung und des Technisch-wirtschaftlichen Datenblatts durch
B32: Name
B33: Betrieb/Verein
B34: Kontakt (für Rückfragen) | E34: E-Mail
E35: Telefon

Sheet A - Thermische Gebäudesanierung
B3: A. Thermische Gebäudesanierung
B5: HINWEIS | D5: Das betroffene Gebäude muss zum Zeitpunkt der Antragstellung älter als 15 Jahre sein (Datum der Baubewilligung).
B7: Angaben zum Projekt
B9: Allgemeine Angaben | I9: =IF(F10=Dropdownliste!D4,"Bitte scrollen Sie zu der entsprechenden Maßnahme nach unten","")
C10: Art der Maßnahme | F10: bitte auswählen
C11: Baujahr des Gebäudes (Datum der Baubewilligung): | I11: =IF(F11>YEAR(TODAY())-20,"Keine Förderung möglich","")
C12: =IF(F10=Dropdownliste!D4,"Ist das Gebäude denkmalgeschützt?","")
C13: =IF(F10=Dropdownliste!D4,"Ist eine Dach- bzw. Fassadenbegrünung Teil der eingereichten Maßnahmen?","")
C15: =IF(F13="Ja","Fläche der fassadengebungdenen Begrünung [m²]","")
C16: =IF(F13="Ja","Fläche der bodengebungdenen Begrünung [m²]","")
C17: =IF(F13="Ja","Fläche der begrüunten Dachfläche [m²]","")
C18: =IF(F10=Dropdownliste!D4,"Sind außenliegende Verschattungssysteme zur Reduzierung des Kühlbedarfs Teil der Maßnahme?","")
B22: Beschreibung der geplanten Maßnahmen
B32: A1. Maßnahmen- / Bauteilaufstellungen - Einzelmaßnahmen
B34: Kostenaufstellung
B35: Nr. | C35: Art der Einzelmaßnahme lt. Leitfaden | G35: U-Wert [W/m²K] | H35: Gesamtfläche [m²] | I35: Nettokosten [EUR]
B37: 1 | C37: bitte auswählen | I37: 0 | O37: Kategorie | P37: Uwert
B38: 2 | C38: bitte auswählen | I38: 0 | O38: Fenster / Außentüren | P38: 1.1
B39: 3 | C39: bitte auswählen | I39: 0 | O39: Sektionaltore / Rollentore | P39: 1.7
B40: 4 | C40: bitte auswählen | I40: 0 | O40: Lichtkuppeln | P40: 1.4
B41: 5 | C41: bitte auswählen | I41: 0 | O41: Oberste Geschoßdecke | P41: 0.14
B42: 6 | C42: bitte auswählen | I42: 0 | O42: Steil- und Flachdach | P42: 0.14
B43: 7 | C43: bitte auswählen | I43: 0 | O43: bitte auswählen
B44: 8 | C44: bitte auswählen | I44: 0
B45: 9 | C45: bitte auswählen | I45: 0
B46: 10 | C46: bitte auswählen | I46: 0
B47: 11 | C47: bitte auswählen | I47: 0
B48: 12 | C48: bitte auswählen | I48: 0
B49: 13 | C49: bitte auswählen | I49: 0
B50: 14 | C50: bitte auswählen | I50: 0
B51: 15 | C51: bitte auswählen | I51: 0
B52: 16 | C52: bitte auswählen | I52: 0
B53: 17 | C53: bitte auswählen | I53: 0
B54: 18 | C54: bitte auswählen | I54: 0
B55: 19 | C55: bitte auswählen | I55: 0
B56: 20 | C56: bitte auswählen | I56: 0
F57: Gesamtkosten | I57: =SUM(I37:J56) -> 0
F58: =IF(AND(I57>0,I57<10000),"Bitte beachten Sie, dass die Mindestinvestitionskosten von 10.000 EUR nicht gegeben sind.","")
C59: Die in der Tabelle angeführtem Einzelmaßnahmen entsprechen den Anforderungen an den U-Wert lt. Leitfaden. | G59: bitte auswählen | I59: =IF(G59="Trifft nicht zu ","Bitte beachten Sie, dass die Mindestvoraussetzungen nicht erfüllt sind!","")
C60: Erf. Nachweis über U-Wert Berechnungen (z.B. Energieausweis) | G60: bitte auswählen | I60: =IF(G60=Dropdownliste!D24,"",IF(OR(G60=Dropdownliste!D25),"Upload der entsprechenden Unterlagen in der Online-Einreichung","Nachreichungen per E-Mail an umwelt@kommunalkredit.at (Betreff: Antragsnummer)"))
B62: A2. Maßnahmenaufstellung - Umfassende thermische Sanierung
C65: Nachweis über einen Energieausweis vor und nach der Umsetzung liegt bei. | F65: bitte auswählen | H65: =IF(F65=Dropdownliste!D24,"",IF(OR(F65=Dropdownliste!D25),"Upload der entsprechenden Unterlagen in der Online-Einreichung","Nachreichungen per E-Mail an umwelt@kommunalkredit.at (Betreff: Antragsnummer)"))
C66: Es liegen die Bestands- bzw. Einreichpläne des Gebäudes bei. | F66: bitte auswählen | H66: =IF(F66=Dropdownliste!D24,"",IF(OR(F66=Dropdownliste!D25),"Upload der entsprechenden Unterlagen in der Online-Einreichung","Nachreichungen per E-Mail an umwelt@kommunalkredit.at (Betreff: Antragsnummer)"))
B68: Projektkosten gesamt (netto, exkl. Ust.)
B69: Angabe Kosten (Schätzkosten oder Kosten aus Angeboten) der erforderlichen Leistungen zur thermischen Sanierung der Gebäudehülle (ggf. inkl. Gebäudeerweiterungen)
G70: Nettokosten [EUR]
C71: Außenwände | G71: 0
C72: Decken/Böden zu unbeheizten Gebäudeteilen (z.B. oberste Geschoßdecke) | G72: 0
C73: Dach | G73: 0
C74: Keller (z.B. Kellerwände) | G74: 0
C75: Außen-Fenster und -Türen | G75: 0
C76: Verschattungssystem inkl. Regelung | G76: 0
C77: Baustellengemeinkosten | G77: 0
C78: Dachbegrünung und Fasadenbegrünung | G78: 0
C79: Entsiedelung von KFZ-Stellflächen | G79: 0
C80: Kosten für Energieausweiserstellung | G80: 0
C81: Planungskosten | G81: 0
C82: sonstige Leistungen | G82: 0
C83: Art der sonstigen Leistungen
C84: Gesamtkosten | G84: =SUM(G71:H82) -> 0
C85: =IF(AND(G84>0,G84<10000),"Bitte beachten Sie, dass die Mindestinvestitionskosten von 10.000 EUR nicht gegeben sind.","")
B86: Anforderungen
B88: Einzelbauteilsanierung
B89: - | C89: Die Dämmung der obersten Geschoßdecke bzw. des Daches mit einem U-Wert von maximal 0,14 W/m²K. Der geforderte U-Wert gilt ab einer Mindeststärke des Dämmmaterials von 26 cm als eingehalten.
B90: - | C90: Die entsprechenden maximalen Uw-Werte laut Informationsblatt werden eingehalten.
B92: Umfassende thermische Sanierung
B93: - | C93: Anforderungen an die thermische Qualität des sanierten Gebäudes HWB Ref,RK und fGEE werden eingehalten
B95: Planerin / Planer oder ausführende Fachfirma
C96: Name:
C97: Firma:
C98: Anschrift:
B100: Als beauftragte Planerin, beauftragter Planer beziehungsweise ausführenden Firma bestätige ich, dass die oben angeführten technischen Angaben vollständig und korrekt ausgefüllt wurde und die technischen Voraussetzungen den oben genannten Anforderungen entsprechen.
B102: Unterschriften | C102: UNTERSCHRIFTEN
B105: VERPFLICHTEND AntragstellerIn | C105: VERPFLICHTEND - Unterfertigung (Stempel und Unterschrift) durch antragstellenden Person
C106: VERPFLICHTEND - Unterfertigung (Stempel und Unterschrift) durch antragstellenden Person | H106: Datum, Ort
C109: NAME UND FUNKTION IN BLOCKBUCHSTABEN
B111: VERPFLICHTEND AntragstellerIn | C111: VERPFLICHTEND - Unterfertigung (Unterschrift und Stempel) durch planende Person / FIRMA
C112: VERPFLICHTEND - Unterfertigung (Unterschrift und Stempel) durch planende Person / FIRMA | H112: Datum, Ort
C115: NAME UND FUNKTION IN BLOCKBUCHSTABEN

Sheet B - Klimafreundlich Heizen
B3: B. Klimafreundlich Heizen
B5: Hinweis | D5: Bitte beachten Sie, dass nur eine Umstellung von bestehenden fossilen Heizungsanlagen auf umwelt- und klimafreundliche Wärmeerzeuger (Holzheizung, Wärmepumpe, hocheffiziente und klimafreundliche Nah-/Fernwärme) sowie Anlagen zur Wärmespeicherung, förderfähig sind.
B7: Beschreibung der geplanten Maßnahmen
B16: Allgemeine Angaben
C17: Standort in einem Fernwärmeversorgungsgebiet? | F17: bitte auswählen | G17: {=IFERROR(_xlfn.IFS(F17="Ja","Holz- bzw. Biomasseheizungen sowie Wärmepumpen sind nur in Gebieten förderungsfähig, in denen keine Möglichkeit zum Anschluss an eine klimafreundlich beziehungsweise hocheffiziente Fernwärmeversorgung besteht.",F18="Nein","Bitte beachten Sie, dass nur eine Umstellung von bestehenden fossilen Heizungsanlagen auf umwelt- und klimafreundliche Wärmeerzeuger förderfähig ist."),"")} | M17: =NOT(OR($F$20=Dropdownliste!F3,$F$21=Dropdownliste!F3)) -> TRUE
C18: Ist bereits eine Wärmeerzeugungsanlage vorhanden? | F18: bitte auswählen | M18: =NOT(OR($F$20=Dropdownliste!F4,$F$21=Dropdownliste!F4)) -> TRUE
C19: =IF(F18="Ja","Ersetzter Energieträger","") | M19: =NOT(OR($F$20=Dropdownliste!F5,$F$21=Dropdownliste!F5)) -> TRUE
C20: Art der Maßnahme | F20: bitte auswählen | G20: =IF(F20="bitte auswählen","","Bitte scrollen Sie zu der entsprechenden Maßnahme nach unten") | M20: =NOT(OR($F$20=Dropdownliste!F6,$F$21=Dropdownliste!F6)) -> TRUE
C21: Weitere Maßnahme | F21: bitte auswählen | G21: =IF(F21="bitte auswählen","","Bitte scrollen Sie zu der entsprechenden Maßnahme nach unten")
B23: Wärmepumpe
B25: Allgemeine Angaben
C26: Art der Wärmepumpe | F26: bitte auswählen | G26: =IF(F26="Sonstige","Beschreibung:","")
C27: Wärmepumpenhersteller
C28: Typenbezeichnung
C29: thermische Leistung (Gesamt) [kW]
C30: elektrische Leistung (Gesamt) [kW]
C31: Vorlauftemperatur des Wärmeabgabesystems | F31: bis zu 55°C
C32: =IF(F31="über 55°C","Jahresarbeitszahl (JAZ) der Wärmepumpe","")
C33: Art des Kältemittels | F33: bitte auswählen | G33: mit einem GWP von ... | I33: =IF(F33='GWP-Liste'!I2,"-",VLOOKUP(F33,'GWP-Liste'!$I$3:$K$66,3,0)) -> -
C34: =IF(F33="Sonstige","Sonstiges Kältemittel angeben:","") | G34: =IF(F33="Sonstige","mit einem GWP von ...","")
B35: Art der Nutzung
C36: Wird die Anlage überwiegend zur Wärmebereitstellung genutzt? | F36: bitte auswählen
B38: Strombezug
C39: Herkunft des eingesetzten Stroms? | F39: bitte auswählen | H39: =IF(F39="kein Strom aus erneuerbaren Energieträgern","keine Förderung möglich!","")
B41: Projektkosten gesamt (netto, exkl. Ust.)
F42: Nettokosten [EUR] | G42: Beschreibung
C43: Wärmepumpe | F43: 0
C44: Wärmequellenanlage (z.B. Erdwärme) | F44: 0
C45: Pufferspeicher | F45: 0
C46: primärseitige hydraulische Installation | F46: 0
C47: Anlagenregelung | F47: 0
C48: elektrische Installation | F48: 0
C49: Montage | F49: 0
C50: Planung (max. 10% der Gesamtkosten) | F50: 0
C51: Gesamtkosten | F51: =SUM(F43:F50) -> 0
C52: =IF(AND(F51>0,F51<10000),"Bitte beachten Sie, dass die Mindestinvestitionskosten von 10.000 EUR nicht gegeben sind.","")
B53: Holzheizung / Biomasse Einzelanlage
B55: Allgemeine Angaben
C56: Thermische Nennwärmeleistung [kW]
C57: Kesselhersteller
C58: Typenbezeichnung
C59: Brennstoff
B61: Projektkosten gesamt (netto, exkl. Ust.)
F62: Nettokosten [EUR] | G62: Beschreibung
C63: Kesselanlage | F63: 0
C64: Mess- und Regelungstechnik | F64: 0
C65: Elektroinstallation | F65: 0
C66: Heizungstechnik | F66: 0
C67: Rohrleitungen | F67: 0
C68: Grabungsarbeiten | F68: 0
C69: Heizhaus | F69: 0
C70: Lager | F70: 0
C71: Außenanlage | F71: 0
C72: Planung (max. 10% der Gesamtkosten) | F72: 0
C73: Gesamtkosten | F73: =SUM(F63:F72) -> 0
C74: =IF(AND(F73>0,F73<10000),"Bitte beachten Sie, dass die Mindestinvestitionskosten von 10.000 EUR nicht gegeben sind.","")
B75: Klimafreundlicher bzw. hocheffizienter Nah-/Fernwärmeanschluss
B77: Allgemeine Angaben
C78: Anschlussleistung laut Wärmeliefervertrag [kW] | G78: =IF(F79="Nein","Holz- bzw. Biomasseheizungen sowie Wärmepumpen sind nur in Gebieten förderungsfähig, in denen keine Möglichkeit zum Anschluss an eine klimafreundlich beziehungsweise hocheffiziente Fernwärmeversorgung besteht.","")
C79: Anschluss an ein hocheffizientes oder klimafreundliches Nah-/Fernwärmenetz? | F79: bitte auswählen
C80: Befindet sich die Übergabestation im Eigentum des Fröderwerbers? | F80: bitte auswählen
B82: Projektkosten gesamt (netto, exkl. Ust.)
F83: Nettokosten [EUR] | G83: Beschreibung
C84: Übergabestation | F84: 0
C85: Regelungstechnik (inkl. Elektroinstallationen) | F85: 0
C86: Verrohrung | F86: 0
C87: Grabungsarbeiten | F87: 0
C88: Anschlusskosten | F88: 0
C89: Planungskosten (max. 10% der Gesamtkosten) | F89: 0
C90: Gesamtkosten | F90: =SUM(F84:F89) -> 0
C91: =IF(AND(F90>0,F90<10000),"Bitte beachten Sie, dass die Mindestinvestitionskosten von 10.000 EUR nicht gegeben sind.","")
B92: Thermische Solaranlage
B94: Allgemeine Angaben
C95: Hersteller
C96: Kollektorart | F96: bitte auswählen
C97: Typenbezeichnung
C98: Zertifizierung | F98: bitte auswählen
C99: Bruttokollektorfläche [m²] | G99: =IF(F99<100,"","Upload monatliche Ertragsprognose im Online Formular erforderlich")
C100: nutzbarer Solarertrag lt. Simulation [kWh/a]
B102: Projektkosten gesamt (netto, exkl. Ust.)
F103: Nettokosten [EUR] | G103: Beschreibung
C104: Solaranlage | F104: 0
C105: Verrohrung | F105: 0
C106: Regelungstechnik (inkl. Elektroinstallation) | F106: 0
C107: Wärmespeicher | F107: 0
C108: Planungskosten (max. 10% der Gesamtkosten) | F108: 0
C109: Gesamtkosten | F109: =SUM(F104:F108) -> 0
C110: =IF(AND(F109>0,F109<10000),"Bitte beachten Sie, dass die Mindestinvestitionskosten von 10.000 EUR nicht gegeben sind.","")

Sheet C1 - Energiesparmaßnahmen
B3: C.1 Energiesparmaßnahmen
B5: HINWEIS | D5: Gegenüberstellung der Bestandsanlagen zur neuen/optimierten Gesamtanlage. Bitte legen Sie dem Online-Antrag eine ausführliche und nachvollziehbare "Technische Beschreibung" der eingereichten Maßnahme(n) bei. Bei Beleuchtungsoptimierung nutzen sie das Tabellenblatt C2 - Beleuchtungsoptimierung
B7: HINWEIS | D7: Heizungsoptimierung in Bestandsgebäuden (Nachrüstung Speichersystem, Drehzahlregelungen, effiziente Pumpen, Heizungsverteiler, Steuerungstechnik) müssen mindestens eine Energieeinsparung von 10 % aufweisen. Bei einer gleichzeitigen Umstellung des Heizkessels/der Wärmeversorgung können nur die Maßnahmen welche zusätzlich zum neuen Kessel bzw. zum Energieträgerwechsel erforderlich sind, als "Heizungsoptimierung" anerkannt werden. Beispiel 1 - Die notwendigen Installation und Adaptierungen für einen neuen Biomassekessel und die damit erreichte Effizienzsteigerung (z.B. höherer Kesselwirkungsgrad) sind unter "Heizungsoptimierung" nicht förderungsfähig bzw. kann der Umwelteffekt nicht anerkannt werden. Beispiel 2 - zusätzliche Maßnahmen zur Effizienzsteigerung von bestehenden und funktionsfähigen Anlagen (Optimierung von Verteiler, Pumpen, MSR,...) zählen als "Heizungsoptimierung" und können gefördert werden.
B9: Beschreibung der geplanten Maßnahmen
B18: Wärmebereitstellung Bestand*
B19: Wärmereitstellung | E19: Anlage 1 | F19: Anlage 2 | G19: Anlage 3 | H19: Anlage 4 | I19: Anlage 5 | J19: Summe
B20: Anlagen-Name/Bezeichnung
B21: Wärmeversorgung Bestand [Art]
B22: Brennstoff | D22: [-] | E22: bitte auswählen | F22: bitte auswählen | G22: bitte auswählen | H22: bitte auswählen | I22: bitte auswählen
B23: Brennstoffenergie [kWh/a] | D23: [kWh/a] | J23: =IF(SUM(E23:I23)>0,SUM(E23:I23),"-") -> -
B24: Wirkungsrad Wärmebereitstellung [-] | D24: [-]
B25: Leistung [kW] | D25: [kW] | J25: =IF(SUM(E25:I25)>0,SUM(E25:I25),"-") -> -
B26: Nutzenergie (Wärme) [kWh/a] | D26: [kWh/a] | J26: =IF(SUM(E26:I26)>0,SUM(E26:I26),"-") -> -
B27: * Bei gleichzeitiger Umstellung des Heizkessels bzw. einem Energieträgerwechsel geben Sie als Basis der Heizungsoptimierung die NEUE Wärmeversorgung als "Bestand" an.
B29: Optimierungsmaßnahmen
B30: Optimierungsmaßnahmen | D30: Einsparung Nutzenergie (Wärme) | F30: Eingesparter Energieträger | G30: Beschreibung der Maßnahme und Nachvollziehbare Darstellung wie die angegebenen Einsparungen berechnet bzw. abgeschätzt wurden
D31: kWh/a | E31: %
B32: Maßnahme 1 | F32: bitte auswählen
B33: Maßnahme 2 | F33: bitte auswählen
B34: Maßnahme 3 | F34: bitte auswählen
B35: Maßnahme 4 | F35: bitte auswählen
B36: Maßnahme 5 | F36: bitte auswählen
B37: Maßnahme 6 | F37: bitte auswählen
B38: Maßnahme 7 | F38: bitte auswählen
B39: Maßnahme 8 | F39: bitte auswählen
B40: Maßnahme 9 | F40: bitte auswählen
B41: Maßnahme 10 | F41: bitte auswählen
B43: Pumpentausch
B44: Pumpentausch | E44: Bestand | F44: Optimiert
B45: Anzahl
B46: Gesamtleistung [kW] | D46: [kW]
B47: Laufzeit [h/a] | D47: [h/a]
B48: Energiebedarf [kWh/a] | D48: [kWh/a] | E48: =E46*E47 -> 0 | F48: =F46*F47 -> 0
B50: Weitere Anmerkungen/Ergänzungen zu den Energiesparmaßnahmen
B59: Kostenaufstellung
B61: Nr. | C61: Art der Leistungen | G61: Firma / Planerin / Planer | H61: Angebotsnummer / Kostenschätzung | I61: Nettokosten [EUR]
B62: 1 | I62: 0
B63: 2 | I63: 0
B64: 3 | I64: 0
B65: 4 | I65: 0
B66: 5 | I66: 0
B67: 6 | I67: 0
B68: 7 | I68: 0
B69: 8 | I69: 0
B70: 9 | I70: 0
B71: 10 | I71: 0
B72: 11 | I72: 0
B73: 12 | I73: 0
... B81: 20 | I81: 0
B82: Fügen Sie bei Bedarf weitere Zeilen ein!
B83: Anm. : Die Planungskosten im Anteil von 10% der Projektkosten förderfähig. | H83: Gesamtkosten | I83: =SUM(I62:I81) -> 0
B84: =IF(AND(I83>0,I83<10000),"Bitte beachten Sie, dass die Mindestinvestitionskosten von 10.000 EUR nicht gegeben sind.","")
B85: Anforderungen
B87: Energiesparmaßnahmen
B88: - | C88: Heizungsoptimierung in Bestandsgebäuden (Nachrüstung Speichersystem, Drehzahlregelungen, effiziente Pumpen, Heizungsverteiler, Steuerungstechnik) mit mind. 10 % Einsparung
B90: Planerin / Planer oder ausführende Fachfirma
C91: Name:
C92: Firma:
C93: Anschrift:
B95: Als beauftagte Planerin, beauftragter Planer beziehungsweise ausführenden Firma bestätige ich, dass die oben angeführten technischen Angaben vollständig und korrekt ausgefüllt wurde und die technischen Voraussetzungen den oben genannten Anforderungen entsprechen.
B97: Unterschriften | C97: UNTERSCHRIFTEN
B100: VERPFLICHTEND AntragstellerIn | C100: VERPFLICHTEND - Unterfertigung (Stempel und Unterschrift) durch antragstellenden Person
C101: VERPFLICHTEND - Unterfertigung (Stempel und Unterschrift) durch antragstellenden Person | H101: Datum, Ort
C104: NAME UND FUNKTION IN BLOCKBUCHSTABEN
B106: VERPFLICHTEND AntragstellerIn | C106: VERPFLICHTEND - Unterfertigung (Unterschrift und Stempel) durch planende Person / FIRMA
C107: VERPFLICHTEND - Unterfertigung (Unterschrift und Stempel) durch planende Person / FIRMA | H107: Datum, Ort
C110: NAME UND FUNKTION IN BLOCKBUCHSTABEN

Sheet C2 - Beleuchtungsoptimierung
B3: C.2 Beleuchtungsoptimierung / Leuchtenaufstellung
B5: Beschreibung der geplanten Maßnahmen
B14: Allgemeine Angaben
C15: Maßnahme 1 | E15: bitte auswählen | I15: =IF(E15="bitte auswählen","","Bitte scrollen Sie zu der entsprechenden Maßnahme nach unten")
C16: Maßnahme 2 | E16: bitte auswählen
C17: Maßnahme 3 | E17: bitte auswählen
B19: LEUCHTENAUFSTELLUNG: Sportstättenbeleuchtung (Flutlichtanlagen) | M19: {=NOT(OR(E15="Sportstättenbeleuchtung",'C2 - Beleuchtungsoptimierung'!E16:F16="Sportstättenbeleuchtung",'C2 - Beleuchtungsoptimierung'!E17:F17="Sportstättenbeleuchtung"))} -> TRUE
B21: Trainingsplatz - Beleuchtungsklasse III lt. ÖNORM EN 12193
B22: lfd. Nr. | C22: Bezeichnung der NEUEN Leuchten gemäß Angebot | E22: Nenn- leistung pro Leuchte [W] | F22: Anzahl | G22: Leistung Gesamt NEU [kW] | H22: Nutzungs- gerechte Steuerung? Ja / Nein | I22: Anmerkungen
B23: Beispiel | C23: Beispielleuchte | E23: 150 | F23: 2 | G23: =E23*F23/1000 -> 0.3 | H23: ja | I23: Trainingsplatz 1
B24: 1 | G24: =E24*F24/1000 -> 0
B25: 2 | G25: =E25*F25/1000 -> 0
B26: 3 | G26: =E26*F26/1000 -> 0
B27: 4 | G27: =E27*F27/1000 -> 0
B28: 5 | G28: =E28*F28/1000 -> 0
B29: 6 | G29: =E29*F29/1000 -> 0
B30: 7 | G30: =E30*F30/1000 -> 0
B31: 8 | G31: =E31*F31/1000 -> 0
B32: 9 | G32: =E32*F32/1000 -> 0
B33: 10 | G33: =E33*F33/1000 -> 0
B34: 11 | G34: =E34*F34/1000 -> 0
B35: 12 | G35: =E35*F35/1000 -> 0
... B53: 30 | G53: =E53*F53/1000 -> 0
B54: Summe | G54: =SUM(G24:G53) -> 0
B56: Gesamtleistung der bestehenden Flutlichtanlage auf Trainingsplätzen [kW] | F56: Anzahl der bestehenden LICHTPUNKTE, die auf Trainingsplätzen optimiert werden
B57: 0 | F57: 0
B59: Wettkampfplatz - Beleuchtungsklasse I+II lt. ÖNORM EN 12193
B60: lfd. Nr. | C60: Bezeichnung der NEUEN Leuchten gemäß Angebot | E60: Nenn- leistung pro Leuchte [W] | F60: Anzahl | G60: Leistung Gesamt NEU [kW] | H60: Nutzungs- gerechte Steuerung? Ja / Nein | I60: Anmerkungen
B61: Beispiel | C61: Beispielleuchte | E61: 300 | F61: 2 | G61: =E61*F61/1000 -> 0.6 | H61: ja | I61: Wettkampfplatz 1
B62: 1 | G62: =E62*F62/1000 -> 0 | M62: =IF(H62="Nein","Keine Förderung möglich.","")
B63: 2 | G63: =E63*F63/1000 -> 0 | M63: =IF(H63="Nein","Keine Förderung möglich.","")
B64: 3 | G64: =E64*F64/1000 -> 0 | M64: =IF(H64="Nein","Keine Förderung möglich.","")
B65: 4 | G65: =E65*F65/1000 -> 0 | M65: =IF(H65="Nein","Keine Förderung möglich.","")
B66: 5 | G66: =E66*F66/1000 -> 0 | M66: =IF(H66="Nein","Keine Förderung möglich.","")
B67: 6 | G67: =E67*F67/1000 -> 0 | M67: =IF(H67="Nein","Keine Förderung möglich.","")
B68: 7 | G68: =E68*F68/1000 -> 0 | M68: =IF(H68="Nein","Keine Förderung möglich.","")
B69: 8 | G69: =E69*F69/1000 -> 0 | M69: =IF(H69="Nein","Keine Förderung möglich.","")
B70: 9 | G70: =E70*F70/1000 -> 0 | M70: =IF(H70="Nein","Keine Förderung möglich.","")
B71: 10 | G71: =E71*F71/1000 -> 0 | M71: =IF(H71="Nein","Keine Förderung möglich.","")
B72: 11 | G72: =E72*F72/1000 -> 0 | M72: =IF(H72="Nein","Keine Förderung möglich.","")
B73: 12 | G73: =E73*F73/1000 -> 0 | M73: =IF(H73="Nein","Keine Förderung möglich.","")
... B91: 30 | G91: =E91*F91/1000 -> 0 | M91: =IF(H91="Nein","Keine Förderung möglich.","")
B92: Summe | G92: =SUM(G62:G91) -> 0
B94: Gesamtleistung der bestehenden Flutlichtanlage auf Wettkampfplätzen [kW] | F94: Anzahl der bestehenden LICHTPUNKTE, die auf Wettkampfplätzen optimiert werden
B95: 0 | F95: 0
B97: Projektkosten Sportstättenbeleuchtung (netto, exkl. Ust.)
F98: Nettokosten [EUR] | H98: Beschreibung
C99: LED-Leuchten für Sportstätten | F99: 0
C100: Steuerungstechnik | F100: 0
C101: Montage | F101: 0
C102: Planung (max. 10% der Gesamtkosten) | F102: 0
C103: Gesamtkosten | F103: =SUM(F99:G102) -> 0
B106: LEUCHTENAUFSTELLUNG: Außen-, Innen- und Straßenbeleuchtung | M106: {=NOT(OR(E15="Außen-, Innen- und Straßenbeleuchtung",'C2 - Beleuchtungsoptimierung'!E16:F16="Außen-, Innen- und Straßenbeleuchtung",'C2 - Beleuchtungsoptimierung'!E17:F17="Außen-, Innen- und Straßenbeleuchtung"))} -> TRUE
B108: Außen- und Straßenbeleuchtung
B109: lfd. Nr. | C109: Bezeichnung der NEUEN Leuchten gemäß Angebot | D109: Nennleistung pro Lichtpunkt [W] | E109: Lichtstrom pro Lichtpunkt [Lumen] | F109: Effizienz [Lumen/W] | G109: Anzahl | H109: Leistung Gesamt [kW] | I109: Ersetzen LED bestehende Leuchten? Ja / Nein | J109: Situative Beleuchtung bzw. Lichtsteuerung Ja / Nein
B110: Beispiel | C110: Beispielleuchte | D110: 25 | E110: 3500 | F110: =IFERROR(E110/D110,"") -> 140 | G110: 20 | H110: =G110*D110/1000 -> 0.5 | I110: Ja | J110: Nein
B111: 1 | F111: =IFERROR(E111/D111,"") | H111: =G111*D111/1000 -> 0 | M111: =IF(OR(F111<120,I111="Nein"),"keine Förderung möglich.","")
B112: 2 | F112: =IFERROR(E112/D112,"") | H112: =G112*D112/1000 -> 0 | M112: =IF(OR(F112<120,I112="Nein"),"keine Förderung möglich.","")
B113: 3 | F113: =IFERROR(E113/D113,"") | H113: =G113*D113/1000 -> 0 | M113: =IF(OR(F113<120,I113="Nein"),"keine Förderung möglich.","")
B114: 4 | F114: =IFERROR(E114/D114,"") | H114: =G114*D114/1000 -> 0 | M114: =IF(OR(F114<120,I114="Nein"),"keine Förderung möglich.","")
B115: 5 | F115: =IFERROR(E115/D115,"") | H115: =G115*D115/1000 -> 0 | M115: =IF(OR(F115<120,I115="Nein"),"keine Förderung möglich.","")
B116: 6 | F116: =IFERROR(E116/D116,"") | H116: =G116*D116/1000 -> 0 | M116: =IF(OR(F116<120,I116="Nein"),"keine Förderung möglich.","")
B117: 7 | F117: =IFERROR(E117/D117,"") | H117: =G117*D117/1000 -> 0 | M117: =IF(OR(F117<120,I117="Nein"),"keine Förderung möglich.","")
B118: 8 | F118: =IFERROR(E118/D118,"") | H118: =G118*D118/1000 -> 0 | M118: =IF(OR(F118<120,I118="Nein"),"keine Förderung möglich.","")
B119: 9 | F119: =IFERROR(E119/D119,"") | H119: =G119*D119/1000 -> 0 | M119: =IF(OR(F119<120,I119="Nein"),"keine Förderung möglich.","")
B120: 10 | F120: =IFERROR(E120/D120,"") | H120: =G120*D120/1000 -> 0 | M120: =IF(OR(F120<120,I120="Nein"),"keine Förderung möglich.","")
B121: 11 | F121: =IFERROR(E121/D121,"") | H121: =G121*D121/1000 -> 0 | M121: =IF(OR(F121<120,I121="Nein"),"keine Förderung möglich.","")
B122: 12 | F122: =IFERROR(E122/D122,"") | H122: =G122*D122/1000 -> 0 | M122: =IF(OR(F122<120,I122="Nein"),"keine Förderung möglich.","")
... B140: 30 | F140: =IFERROR(E140/D140,"") | H140: =G140*D140/1000 -> 0 | M140: =IF(OR(F140<120,I140="Nein"),"keine Förderung möglich.","")
B141: Summe | F141: =SUM(F111:F140) -> 0 | G141: =SUM(G111:G140) -> 0 | H141: =SUM(H111:H140) -> 0 | M141: =IF(OR(F141<120,I141="Nein"),"keine Förderung möglich.","") -> keine Förderung möglich.
B143: Innenbeleuchtung
B144: lfd. Nr. | C144: Bezeichnung der NEUEN Leuchten gemäß Angebot | D144: Nennleistung pro Lichtpunkt [W] | E144: Lichtstrom pro Lichtpunkt [Lumen] | F144: Effizienz [Lumen/W] | G144: Anzahl | H144: Leistung Gesamt [kW] | I144: Ersetzen LED bestehende Leuchten? Ja / Nein | J144: Situative Beleuchtung bzw. Lichtsteuerung Ja / Nein
B145: Beispiel | C145: Beispielleuchte | D145: 25 | E145: 3500 | F145: =IFERROR(E145/D145,"") -> 140 | G145: 20 | H145: =G145*D145/1000 -> 0.5 | I145: Ja | J145: Nein
B146: 1 | F146: =IFERROR(E146/D146,"") | H146: =G146*D146/1000 -> 0 | M146: =IF(OR(F146<120,I146="Nein"),"keine Förderung möglich.","")
B147: 2 | F147: =IFERROR(E147/D147,"") | H147: =G147*D147/1000 -> 0 | M147: =IF(OR(F147<120,I147="Nein"),"keine Förderung möglich.","")
B148: 3 | F148: =IFERROR(E148/D148,"") | H148: =G148*D148/1000 -> 0 | M148: =IF(OR(F148<120,I148="Nein"),"keine Förderung möglich.","")
B149: 4 | F149: =IFERROR(E149/D149,"") | H149: =G149*D149/1000 -> 0 | M149: =IF(OR(F149<120,I149="Nein"),"keine Förderung möglich.","")
B150: 5 | F150: =IFERROR(E150/D150,"") | H150: =G150*D150/1000 -> 0 | M150: =IF(OR(F150<120,I150="Nein"),"keine Förderung möglich.","")
B151: 6 | F151: =IFERROR(E151/D151,"") | H151: =G151*D151/1000 -> 0 | M151: =IF(OR(F151<120,I151="Nein"),"keine Förderung möglich.","")
B152: 7 | F152: =IFERROR(E152/D152,"") | H152: =G152*D152/1000 -> 0 | M152: =IF(OR(F152<120,I152="Nein"),"keine Förderung möglich.","")
B153: 8 | F153: =IFERROR(E153/D153,"") | H153: =G153*D153/1000 -> 0 | M153: =IF(OR(F153<120,I153="Nein"),"keine Förderung möglich.","")
B154: 9 | F154: =IFERROR(E154/D154,"") | H154: =G154*D154/1000 -> 0 | M154: =IF(OR(F154<120,I154="Nein"),"keine Förderung möglich.","")
B155: 10 | F155: =IFERROR(E155/D155,"") | H155: =G155*D155/1000 -> 0 | M155: =IF(OR(F155<120,I155="Nein"),"keine Förderung möglich.","")
B156: 11 | F156: =IFERROR(E156/D156,"") | H156: =G156*D156/1000 -> 0 | M156: =IF(OR(F156<120,I156="Nein"),"keine Förderung möglich.","")
B157: 12 | F157: =IFERROR(E157/D157,"") | H157: =G157*D157/1000 -> 0 | M157: =IF(OR(F157<120,I157="Nein"),"keine Förderung möglich.","")
... B175: 30 | F175: =IFERROR(E175/D175,"") | H175: =G175*D175/1000 -> 0 | M175: =IF(OR(F175<120,I175="Nein"),"keine Förderung möglich.","")
B176: Summe | G176: =SUM(G146:G175) -> 0 | H176: =SUM(H146:H175) -> 0
B178: Projektkosten Straßen-, Außen- und Innenbeleuchtung (netto, exkl. Ust.)
F179: Nettokosten [EUR] | H179: Beschreibung
C180: LED-Leuchten für Straßen-, Außen- und Innenbeleuchtung | F180: 0
C181: Steuerungstechnik | F181: 0
C182: Montage | F182: 0
C183: Planung (max. 10% der Gesamtkosten) | F183: 0
C184: Gesamtkosten | F184: =SUM(F180:G183) -> 0
B187: LEUCHTENAUFSTELLUNG: Bühnenbeleuchtung und Ausleuchtung von Exponaten | M187: {=NOT(OR(E15="Bühnenbeleuchtung und Beleuchtung von Exponaten",'C2 - Beleuchtungsoptimierung'!E16:F16="Bühnenbeleuchtung und Beleuchtung von Exponaten",'C2 - Beleuchtungsoptimierung'!E17:F17="Bühnenbeleuchtung und Beleuchtung von Exponaten"))} -> TRUE
B189: lfd. Nr. | C189: Bezeichnung der NEUEN Leuchten gemäß Angebot | D189: Nennleistung pro Leuchte [W] | E189: Anzahl | F189: Betriebs- stunden [h/a] | G189: Leistung Gesamt NEU [kW] | H189: Anmerkungen
B190: Beispiel | C190: Bespielleuchte | D190: 27 | E190: 20 | F190: 2500 | G190: =D190*E190/1000 -> 0.54 | H190: Bühne 1
B191: 1 | G191: =D191*E191/1000 -> 0
B192: 2 | G192: =D192*E192/1000 -> 0
B193: 3 | G193: =D193*E193/1000 -> 0
...

Sheet D - Kühlung
B3: D. Kühlung
B5: HINWEIS | D5: Bitte beachten Sie, dass im Bereich „Free Cooling“ nur jene Kosten anerkannt werden können, welche nur für das Free Cooling erforderlich sind. Bei gleichzeitiger Nutzung des Brunnens/der Tiefenbohrungen/Luft-Außengerät und der entsprechenden Infrastruktur für die Wärmebereitstellung durch eine Wärmepumpe werden diese Kosten der Wärmepumpe zugerechnet.
B7: Projektbeschreibung
C9: Art der Maßnahme | E9: bitte auswählen
B11: Beschreibung der geplanten Maßnahmen
B22: BESTAND
E24: Anlage1 | F24: Anlage 2 | G24: Anlage 3 | H24: Anlage 4 | I24: Summe
B25: Anlagen-Name/Bezeichnung
B26: Antriebsleistung [kW_el] | I26: =IF(SUM(E26:H26)>0,SUM(E26:H26),"-") -> -
B27: Kälteleistung [kW_Kälte] | I27: =IF(SUM(E27:H27)>0,SUM(E27:H27),"-") -> -
B28: EER | D28: [-]
B29: Kältemittel [R xxxx]
B30: Füllmenge [kg] | I30: =IF(SUM(E30:H30)>0,SUM(E30:H30),"-") -> -
B31: Leckagerate [%/a] | E31: 0.03 | F31: 0.03 | G31: 0.03 | H31: 0.03
B32: Laufzeiten [h/a]
B33: elektrische Energie [kWh/a] | I33: =IF(SUM(E33:H33)>0,SUM(E33:H33),"-") -> -
B34: Kälteenergie [kWh/a] | I34: =IF(SUM(E34:H34)>0,SUM(E34:H34),"-") -> -
B36: OPTIMIERT
B37: stellen Sie auch jene Anlagen dar die im Bestand bzw. in Betrieb bleiben
E39: Anlage1 | F39: Anlage 2 | G39: Anlage 3 | H39: Analge 4 | I39: Summe
B40: Anlagen-Name/Bezeichnung
B41: Antriebsleistung [kW_el] | I41: =IF(SUM(E41:H41)>0,SUM(E41:H41),"-") -> -
B42: Kälteleistung [kW_Kälte] | I42: =IF(SUM(E42:H42)>0,SUM(E42:H42),"-") -> -
B43: EER | D43: [-]
B44: Kältemittel [R xxxx]
B45: Füllmenge [kg] | I45: =IF(SUM(E45:H45)>0,SUM(E45:H45),"-") -> -
B46: Leckagerate [%/a] | E46: 0.03 | F46: 0.03 | G46: 0.03 | H46: 0.03
B47: Laufzeiten [h/a]
B48: elektrische Energie [kWh/a] | I48: =IF(SUM(E48:H48)>0,SUM(E48:H48),"-") -> -
B49: Kälteenergie [kWh/a] | I49: =IF(SUM(E49:H49)>0,SUM(E49:H49),"-") -> -
B50: Kälteverteilung - Direktverdamfer / Kälteträger (Sole, Eiswasser,…) | E50: bitte auswählen | F50: bitte auswählen | G50: bitte auswählen | H50: bitte auswählen
B52: Stellungnahme/Begründung, falls sich die Kälteleistung und/oder die bereitgestellte Kälteenergie bei der optimierten Anlage verringert
B59: Kostenaufstellung
B61: Nr. | C61: Art der Leistungen | G61: Firma / qualifizierter Planer | H61: Angebotsnummer / Kostenschätzung | I61: Nettokosten [EUR]
B62: 1 | I62: 0
B63: 2 | I63: 0
B64: 3 | I64: 0
B65: 4 | I65: 0
B66: 5 | I66: 0
B67: 6 | I67: 0
B68: 7 | I68: 0
B69: 8 | I69: 0
B70: 9 | I70: 0
B71: 10 | I71: 0
B72: 11 | I72: 0
B73: 12 | I73: 0
... B81: 20 | I81: 0
B82: Fügen Sie bei Bedarf weitere Zeilen ein!
B83: Anm. : Die Planungskosten im Anteil von 10% der Projektkosten förderfähig. | G83: Gesamtkosten | I83: =SUM(I62:I81) -> 0
B84: =IF(AND(I83>0,I83<10000),"Bitte beachten Sie, dass die Mindestinvestitionskosten von 10.000 EUR nicht gegeben sind.","")
B86: Anforderungen
B88: Energieeffiziente und klimafreundliche Kühlung
B89: - | C89: Umstellung auf Kälteanlagen, die alternative/natürliche Kältemittel (wie zum Beispiel CO2, Ammoniak, Propan, …) beziehungsweise Kältemittel mit einem GWP weniger als 150 einsetzen
B91: Planerin / Planer oder ausführende Fachfirma
C92: Name:
C93: Firma:
C94: Anschrift:
B96: Als beauftagte Planerin, beauftragter Planer beziehungsweise ausführenden Firma bestätige ich, dass die oben angeführten technischen Angaben vollständig und korrekt ausgefüllt wurde und die technischen Voraussetzungen den oben genannten Anforderungen entsprechen.
B98: Unterschriften
B101: VERPFLICHTEND AntragstellerIn | C101: VERPFLICHTEND - Unterfertigung (Stempel und Unterschrift) durch antragstellenden Person
C102: VERPFLICHTEND - Unterfertigung (Stempel und Unterschrift) durch antragstellenden Person | H102: Datum, Ort
C105: NAME UND FUNKTION IN BLOCKBUCHSTABEN
B107: VERPFLICHTEND AntragstellerIn | C107: VERPFLICHTEND - Unterfertigung (Unterschrift und Stempel) durch planende Person / FIRMA
C108: VERPFLICHTEND - Unterfertigung (Unterschrift und Stempel) durch planende Person / FIRMA | H108: Datum, Ort
C111: NAME UND FUNKTION IN BLOCKBUCHSTABEN

Sheet Dropdownliste
B1: Themenfeld | D1: Modul A | F1: Modul B | H1: Modul C.1 | J1: Modul C.2 - Beleuchtung | L1: Modul D
A2: Themenfeld | B2: bitte auswählen | D2: bitte auswählen | F2: bitte auswählen | L2: bitte auswählen
A3: bitte auswählen | B3: Energieeffiziente Kulturbetriebe | D3: A1. Einzelmaßnahmen | F3: Wärmepumpe | H3: Drop-Down Energieträger | J3: Art der Maßnahme | L3: Free Cooling
A4: Klimafitte Kulturbetriebe | B4: Energieeffiziente Rettungsorganisation | D4: A2. Umfassende thermische Gebäudesanierung | F4: Holzheizungen / Biomasse Einzelanlagen | H4: bitte auswählen | J4: bitte auswählen | L4: Prozesskälteanlagen
A5: Energieeffiziente Rettungsorganisation | B5: Energieeffiziente Sportstätten | F5: Nah- / Fernwärmeanschluss | H5: Erdgas | J5: Sportstättenbeleuchtung
A6: Energieeffiziente Sportstätten | D6: A1. Einzelmaßnahmen | F6: Thermische Solaranlage | H6: Fernwärme (biogene Brennstoffe) | J6: Außen-, Innen- und Straßenbeleuchtung
D7: bitte auswählen | H7: Fernwärme (fossile Brennstoffe) | J7: Bühnenbeleuchtung und Beleuchtung von Exponaten
B8: Ja/Nein Dropdown | D8: Fenster / Außentüren | F8: Wärmepumpen | H8: Flüssiggas | L8: Art der Leistung (Kosten)
B9: Ja | D9: Sektionaltore / Rollentore | F9: Art WP | H9: Holz
B10: Nein | D10: Lichtkuppeln | F10: Luft/Wasser | H10: Kohle
B11: bitte auswählen | D11: Oberste Geschoßdecke | F11: Wasser/Wasser | H11: Heizöl
D12: Steil- und Flachdach | F12: Sole/Wasser | H12: Pellets
B13: Trifft zu ? | F13: Sonstige | H13: Strom
B14: bitte auswählen | D14: Art der Leistung (Kosten) | F14: bitte auswählen | H14: Ökostrom (Umweltzeichen)
B15: trifft zu | D15: bitte auswählen | H15: Strom für WP (Standard)
B16: trifft nicht zu | D16: Fenster, Fenstertüren, Verglaste Türen | F16: Strom | H16: Strom für WP (Ökostrom UZ)
D17: Transparente Bauteile | F17: kein Strom aus erneuerbaren Energieträgern | H17: Brennholz Buche
D18: Türen und Tore | F18: Zukauf von Ökostrom | H18: Hackgut Fichte
D19: Dachschrägen und Decken (gegen Außenluft / unbeheizte Dachräume) | F19: Eigene Erzeugung | H19: Diesel (inkl. Beimischung * )
D20: Erstellung Energieausweis | F20: bitte auswählen | H20: Benzin (inkl. Beimischung * )
D21: Planung | H21: Biodiesel
F22: Holzheizung / Biomasse Einzelanlagen | H22: Bioethanol
D23: Energieausweis | F23: bitte auswählen | H23: Biogas
D24: bitte auswählen | F24: Pellets | H24: Fernw hocheffizient
D25: wurde erstellt und liegt bei | F25: Waldhackgut | H25: Fernw klimafreundlich
D26: wird nachgereicht | F26: Stückholz | H26: Abwärme
F27: Sonstiger:
H28: Art der Leistung (Kosten)
D29: A1. umfassende Sanierung | F29: Solaranlage | H29: bitte auswählen
D30: Fassadenbegrünung | F30: bitte auswählen | H30: Heizungsoptimierung
D31: fassadengebundene Begrünung | F31: Typenprüfung nach ES 12975 | H31: Wärmerückgewinnung
D32: bodengebundene Begrünung | F32: Solar Keymark Zertifikat | H32: Pufferspeicher
D33: begrünte Dachfläche | F33: Österreischisches Umweltzeichen | H33: Wärmepumpe (Abwärme)
H34: Steuerungstechnik (MSR)
F35: bitte auswählen | H35: Zentrallüftungsgerät (Achtung OIB Richtlinie 6)
F36: Standardkollektor | H36: Planung
F37: Vakuumkollektor | H37: Sonstiges
F38: Luftkollektor
F40: Fernwärme
F41: bitte auswählen
F42: klimafreundlich
F43: hocheffizient
F44: Nein

Sheet GWP-Liste
A1: Kältemittel Nummer [R] | B1: Name | C1: Sicherheits-klasse | D1: DGRL (PED) - Gruppe | E1: prakt. Grenzwert (kg/m³) | F1: Brennbar-keit LFL (kg/m³) | G1: Siedepunkt (°C) | H1: ODP | I1: R…. + Name | J1: GWP (100 Jr ITH) (kg/kg) IPCC 4 | K1: GWP (100 Jr ITH) (kg/kg) IPCC 5
I2: bitte auswählen
A3: 12 | C3: A1 | D3: 2 | E3: 0.5 | F3: - | G3: -29 | H3: 1 | I3: =TRIM(CONCATENATE("R",A3," ",B3)) -> R12 | J3: 10900 | K3: 10200
A4: 22 | C4: A1 | D4: 2 | E4: 0.3 | F4: - | G4: -41 | H4: 0.055 | I4: =TRIM(CONCATENATE("R",A4," ",B4)) -> R22 | J4: 1810 | K4: 1760
A5: 30 | C5: B2 | D5: 2 | E5: 0.017 | F5: 0.417 | G5: 40 | H5: - | I5: =TRIM(CONCATENATE("R",A5," ",B5)) -> R30 | J5: 9 | K5: 9
A6: 32 | C6: A2L | D6: 1 | E6: 0.061 | F6: 0.307 | G6: -52 | H6: 0 | I6: =TRIM(CONCATENATE("R",A6," ",B6)) -> R32 | J6: 675 | K6: 677
A7: 50 | B7: Methan | C7: A3 | D7: 1 | E7: 0.006 | F7: 0.032 | G7: -161 | H7: 0 | I7: =TRIM(CONCATENATE("R",A7," ",B7)) -> R50 Methan | J7: 30 | K7: 30
A8: 125 | I8: =TRIM(CONCATENATE("R",A8," ",B8)) -> R125 | J8: 3500 | K8: 3170
A9: 170 | B9: Ethan | C9: A3 | D9: 1 | E9: 0.0086 | F9: 0.038 | G9: -89 | H9: 0 | I9: =TRIM(CONCATENATE("R",A9," ",B9)) -> R170 Ethan | J9: 6 | K9: 6
A10: 290 | B10: Propan | C10: A3 | D10: 1 | E10: 0.008 | F10: 0.036 | G10: -42 | H10: 0 | I10: =TRIM(CONCATENATE("R",A10," ",B10)) -> R290 Propan | J10: 3 | K10: 3
A11: 600 | B11: Butan | C11: A3 | D11: 1 | E11: 0.089 | F11: 0.038 | G11: 0 | H11: 0 | I11: =TRIM(CONCATENATE("R",A11," ",B11)) -> R600 Butan | J11: 4 | K11: 4
A12: 601 | B12: Pentan | C12: A3 | D12: 1 | E12: 0.008 | F12: 0.035 | G12: 36 | H12: 0 | I12: =TRIM(CONCATENATE("R",A12," ",B12)) -> R601 Pentan | J12: 5 | K12: 5
A13: 717 | B13: Ammoniak | C13: B2L | D13: 1 | E13: 0.00035 | F13: 0.116 | G13: -33 | H13: 0 | I13: =TRIM(CONCATENATE("R",A13," ",B13)) -> R717 Ammoniak | J13: 0 | K13: 0
A14: 744 | B14: CO2 | C14: A1 | D14: 2 | E14: 0.1 | F14: - | G14: -78 | H14: 0 | I14: =TRIM(CONCATENATE("R",A14," ",B14)) -> R744 CO2 | J14: 1 | K14: 1
A15: 1150 | B15: Ethen | C15: A3 | D15: 1 | E15: 0.006 | F15: 0.036 | G15: -104 | H15: 0 | I15: =TRIM(CONCATENATE("R",A15," ",B15)) -> R1150 Ethen | J15: 4 | K15: 4
A16: 1270 | B16: Propen | C16: A3 | D16: 1 | E16: 0.008 | F16: 0.046 | G16: -48 | H16: 0 | I16: =TRIM(CONCATENATE("R",A16," ",B16)) -> R1270 Propen | J16: 2 | K16: 2
A17: 1233zd | C17: A1 | D17: 2 | E17: 0.086 | F17: - | G17: 18.1 | H17: 0 | I17: =TRIM(CONCATENATE("R",A17," ",B17)) -> R1233zd | J17: 4.5 | K17: 1
A18: 1234yf | C18: A2L | D18: 1 | E18: 0.058 | F18: 0.289 | G18: -26 | H18: 0 | I18: =TRIM(CONCATENATE("R",A18," ",B18)) -> R1234yf | J18: 4 | K18: 1
A19: 1234ze | C19: A2L | D19: 2 | E19: 0.061 | F19: 0.303 | G19: -19 | H19: 0 | I19: =TRIM(CONCATENATE("R",A19," ",B19)) -> R1234ze | J19: 7 | K19: 1
A20: 134a | C20: A1 | D20: 2 | E20: 0.25 | F20: - | G20: -26 | H20: 0 | I20: =TRIM(CONCATENATE("R",A20," ",B20)) -> R134a | J20: 1430 | K20: 1300
A21: 143a | I21: =TRIM(CONCATENATE("R",A21," ",B21)) -> R143a | J21: 4470 | K21: 4800
A22: 152a | C22: A2 | D22: 1 | E22: 0.027 | F22: 0.13 | G22: -25 | H22: 0 | I22: =TRIM(CONCATENATE("R",A22," ",B22)) -> R152a | J22: 124 | K22: 138
A23: 245fa | C23: B1 | D23: 1 | E23: 0.19 | F23: - | G23: 15 | H23: 0 | I23: =TRIM(CONCATENATE("R",A23," ",B23)) -> R245fa | J23: 1030 | K23: 856
A24: 404A | C24: A1 | D24: 2 | E24: 0.52 | F24: - | G24: "-46,5 bis -45,7" | H24: 0 | I24: =TRIM(CONCATENATE("R",A24," ",B24)) -> R404A | J24: 3940 | K24: 3940
A25: 407C | C25: A1 | D25: 2 | E25: 0.31 | F25: - | G25: "-43,8 bis -36,7" | H25: 0 | I25: =TRIM(CONCATENATE("R",A25," ",B25)) -> R407C | J25: 1774 | K25: 1620
A26: 407F | C26: A1 | D26: 2 | E26: 0.32 | F26: - | G26: "-46,1 bis -39,7" | H26: 0 | I26: =TRIM(CONCATENATE("R",A26," ",B26)) -> R407F | J26: 1825 | K26: 1670
A27: 410A | C27: A1 | D27: 2 | E27: 0.44 | F27: - | G27: "-51,6 bis -51,5" | H27: 0 | I27: =TRIM(CONCATENATE("R",A27," ",B27)) -> R410A | J27: 2088 | K27: 1920
A28: 413A | C28: A2 | D28: 1 | E28: 0.08 | F28: 0.375 | G28: "-29,4 bis -27,4" | H28: 0 | I28: =TRIM(CONCATENATE("R",A28," ",B28)) -> R413A | J28: 2053 | K28: 1950
A29: 417A | C29: A1 | D29: 2 | E29: 0.15 | F29: - | G29: "-38,0 bis -32,9" | H29: 0 | I29: =TRIM(CONCATENATE("R",A29," ",B29)) -> R417A | J29: 2346 | K29: 2130
A30: 422D | C30: A1 | D30: 2 | E30: 0.29 | F30: - | G30: "-43,2 bis -38,4" | H30: 0 | I30: =TRIM(CONCATENATE("R",A30," ",B30)) -> R422D | J30: 2729 | K30: 2470
A31: 423A | C31: A1 | D31: 2 | E31: 0.3 | F31: - | G31: "-24,2 bis -23,5" | H31: 0 | I31: =TRIM(CONCATENATE("R",A31," ",B31)) -> R423A | J31: 2280 | K31: 2270
A32: 429A | C32: A3 | D32: 1 | E32: 0.098 | F32: 0.052 | G32: "-26,0 bis -25,6" | H32: 0 | I32: =TRIM(CONCATENATE("R",A32," ",B32)) -> R429A | J32: 15.3 | K32: 15.3
A33: 430A | C33: A3 | D33: 1 | E33: 0.1 | F33: 0.084 | G33: "-27,6 bis -27,6" | H33: 0 | I33: =TRIM(CONCATENATE("R",A33," ",B33)) -> R430A | J33: 106 | K33: 106
A34: 433C | C34: A3 | D34: 1 | E34: 0.006 | F34: 0.032 | G34: "-44,3 bis -43,9" | H34: 0 | I34: =TRIM(CONCATENATE("R",A34," ",B34)) -> R433C | J34: 2.8 | K34: 2.8
A35: 440A | C35: A2 | D35: 1 | E35: 0.025 | F35: 0.124 | G35: "-25,5 bis -24,3" | H35: 0 | I35: =TRIM(CONCATENATE("R",A35," ",B35)) -> R440A | J35: 156 | K35: 156
A36: 441A | C36: A3 | D36: 1 | E36: 0.0063 | F36: 0.032 | G36: "-41,9 bis -20,4" | H36: 0 | I36: =TRIM(CONCATENATE("R",A36," ",B36)) -> R441A | J36: 3.5 | K36: 3.5
A37: 443A | C37: A3 | D37: 1 | E37: 0.003 | F37: 0.036 | G37: "-44,8 bis -41,2" | H37: 0 | I37: =TRIM(CONCATENATE("R",A37," ",B37)) -> R443A | J37: 2.5 | K37: 2.5
A38: 444A | C38: A2L | D38: 1 | E38: 0.065 | F38: 0.324 | G38: "-34,3 bis -24,3" | H38: 0 | I38: =TRIM(CONCATENATE("R",A38," ",B38)) -> R444A | J38: 93 | K38: 89
A39: 445A | C39: A2L | D39: 1 | E39: 0.053 | F39: 0.266 | G39: "-50,3 bis -23,5" | H39: 0 | I39: =TRIM(CONCATENATE("R",A39," ",B39)) -> R445A | J39: 134.7 | K39: 118
A40: 446A | C40: A2L | D40: 1 | E40: 0.031 | F40: 0.157 | G40: "-49,4 bis -44,0" | H40: 0 | I40: =TRIM(CONCATENATE("R",A40," ",B40)) -> R446A | J40: 461.2 | K40: 461
A41: 447A | C41: A2L | D41: 1 | E41: 0.034 | F41: 0.168 | G41: "-49,3 bis -44,2" | H41: 0 | I41: =TRIM(CONCATENATE("R",A41," ",B41)) -> R447A | J41: 583.5 | K41: 572
A42: 448A | C42: A1 | D42: 2 | E42: 0.388 | F42: - | G42: "-45,9 bis -39,8" | H42: 0 | I42: =TRIM(CONCATENATE("R",A42," ",B42)) -> R448A | J42: 1387 | K42: 1270
A43: 449A | C43: A1 | D43: 2 | E43: 0.357 | F43: - | G43: "-46,0 bis -39,9" | H43: 0 | I43: =TRIM(CONCATENATE("R",A43," ",B43)) -> R449A | J43: 1397 | K43: 1280
A44: 450A | C44: A1 | D44: 2 | E44: 0.319 | F44: - | G44: "-23,4 bis -22,8" | H44: 0 | I44: =TRIM(CONCATENATE("R",A44," ",B44)) -> R450A | J44: 604.7 | K44: 547
A45: 451A | C45: A2L | D45: 1 | E45: 0.065 | F45: 0.323 | G45: "-30,8 bis -30,5" | H45: 0 | I45: =TRIM(CONCATENATE("R",A45," ",B45)) -> R451A | J45: 149.5 | K45: 133
A46: 451B | C46: A2L | D46: 1 | E46: 0.065 | F46: 0.323 | G46: "-31,0 bis -30,6" | H46: 0 | I46: =TRIM(CONCATENATE("R",A46," ",B46)) -> R451B | J46: 163.7 | K46: 146
A47: 452A | C47: A1 | D47: 2 | E47: 0.423 | F47: - | G47: "-47,0 bis -43,2" | H47: 0 | I47: =TRIM(CONCATENATE("R",A47," ",B47)) -> R452A | J47: 2140 | K47: 1950
A48: 453A | C48: A1 | G48: "-42,2 bis -35,0" | I48: =TRIM(CONCATENATE("R",A48," ",B48)) -> R453A | J48: 1765 | K48: 1765
A49: 454A | C49: A2L | I49: =TRIM(CONCATENATE("R",A49," ",B49)) -> R454A | J49: 238 | K49: 239
A50: 455A | C50: A2L | I50: =TRIM(CONCATENATE("R",A50," ",B50)) -> R455A | K50: 148
A51: 456A | C51: A1 | I51: =TRIM(CONCATENATE("R",A51," ",B51)) -> R456A | K51: 687
A52: 457A | C52: A2L | I52: =TRIM(CONCATENATE("R",A52," ",B52)) -> R457A | K52: 139
A53: 458A | C53: A1 | I53: =TRIM(CONCATENATE("R",A53," ",B53)) -> R458A | K53: 1650
A54: 459A | C54: A2L | I54: =TRIM(CONCATENATE("R",A54," ",B54)) -> R459A | K54: 460
A55: 460A | C55: A1 | I55: =TRIM(CONCATENATE("R",A55," ",B55)) -> R460A | K55: 2103
A56: 507A | C56: A1 | D56: 2 | E56: 0.53 | F56: - | G56: -46.7 | H56: 0 | I56: =TRIM(CONCATENATE("R",A56," ",B56)) -> R507A | J56: 3990 | K56: 3990
A57: 510A | C57: A3 | D57: 1 | E57: 0.011 | F57: 0.056 | G57: -25.1 | H57: 0 | I57: =TRIM(CONCATENATE("R",A57," ",B57)) -> R510A | J57: 1.2 | K57: 1.2
A58: 511A | C58: A3 | D58: 1 | E58: 0.008 | F58: 0.038 | G58: -42 | H58: 0 | I58: =TRIM(CONCATENATE("R",A58," ",B58)) -> R511A | J58: 2.9 | K58: 2.9
A59: 512A | C59: A2 | D59: 1 | E59: 0.025 | F59: 0.124 | G59: -24 | H59: 0 | I59: =TRIM(CONCATENATE("R",A59," ",B59)) -> R512A | J59: 196 | K59: 196
A60: 513A | C60: A1 | D60: 2 | E60: 0.319 | F60: - | G60: -29.05 | H60: 0 | I60: =TRIM(CONCATENATE("R",A60," ",B60)) -> R513A | J60: 631.4 | K60: 573
A61: 514A | C61: B1 | G61: 29 | I61: =TRIM(CONCATENATE("R",A61," ",B61)) -> R514A | K61: 2
A62: 515A | C62: A1 | G62: -18.9 | I62: =TRIM(CONCATENATE("R",A62," ",B62)) -> R515A | K62: 0
A63: 600a | B63: Isobutan | C63: A3 | D63: 1 | E63: 0.011 | F63: 0.043 | G63: -12 | H63: 0 | I63: =TRIM(CONCATENATE("R",A63," ",B63)) -> R600a Isobutan | J63: 3 | K63: 3
A64: 601a | B64: Isopentan | C64: A3 | D64: 1 | E64: 0.008 | F64: 0.038 | G64: 27 | H64: 0 | I64: =TRIM(CONCATENATE("R",A64," ",B64)) -> R601a Isopentan | J64: 5 | K64: 5
A65: E170 | C65: A3 | D65: 1 | E65: 0.013 | F65: 0.064 | G65: -25 | H65: 0 | I65: =TRIM(CONCATENATE("R",A65," ",B65)) -> RE170 | J65: 1 | K65: 1
A66: BITTE VOR DIESER ZEILE WEITERE KM EINFÜGEN | I66: Sonstige
