Workbook
Name Regionsname: Region[[#Data],[Regionsname]]
Name soft: [1]!Output1Soft[Output 1 soft]
Name soft: Output1Soft[Output 1 soft]
Name soft: Output1Soft[Output 1 soft]

Sheet KLAR! Monitoring

Sheet Gemeinden und EW
A1: GKZ | B1: Gemeindename | C1: Bundesland | D1: Bevölkerung am 01.01.2025 | E1: GKZ | F1: Bevölkerung der Gemeinden am 01.01.2025 downgeloadet von Statistik Austria am 12.06.2025
A2: 10101 | B2: Eisenstadt | C2: Burgenland | D2: 16118 | E2: 10101
A3: 10201 | B3: Rust | C3: Burgenland | D3: 1933 | E3: 10201
A4: 10301 | B4: Breitenbrunn am Neusiedler See | C4: Burgenland | D4: 1943 | E4: 10301
A5: 10302 | B5: Donnerskirchen | C5: Burgenland | D5: 1881 | E5: 10302
A6: 10303 | B6: Großhöflein | C6: Burgenland | D6: 2078 | E6: 10303
A7: 10304 | B7: Hornstein | C7: Burgenland | D7: 3323 | E7: 10304
A8: 10305 | B8: Klingenbach | C8: Burgenland | D8: 1203 | E8: 10305
A9: 10306 | B9: Leithaprodersdorf | C9: Burgenland | D9: 1258 | E9: 10306
A10: 10307 | B10: Mörbisch am See | C10: Burgenland | D10: 2181 | E10: 10307
A11: 10308 | B11: Müllendorf | C11: Burgenland | D11: 1521 | E11: 10308
A12: 10309 | B12: Neufeld an der Leitha | C12: Burgenland | D12: 3594 | E12: 10309
A13: 10310 | B13: Oggau am Neusiedler See | C13: Burgenland | D13: 1691 | E13: 10310
... A1693: 62279 | B1693: Waldbach-Mönichwald | C1693: Steiermark | D1693: 1386 | E1693: 62279
A1694: 62280 | B1694: Fürstenfeld | C1694: #N/A | D1694: 10391 | E1694: 62280
A1695: 62311 | B1695: Edelsbach bei Feldbach | C1695: Steiermark | D1695: 1356 | E1695: 62311
A1696: 62314 | B1696: Eichkögl | C1696: Steiermark | D1696: 1387 | E1696: 62314
A1697: 62326 | B1697: Halbenrain | C1697: Steiermark | D1697: 1696 | E1697: 62326
A1698: 62330 | B1698: Jagerberg | C1698: Steiermark | D1698: 1588 | E1698: 62330
A1699: 62332 | B1699: Kapfenstein | C1699: Steiermark | D1699: 1499 | E1699: 62332
A1700: 62335 | B1700: Klöch | C1700: Steiermark | D1700: 1162 | E1700: 62335
A1701: 62343 | B1701: Mettersdorf am Saßbach | C1701: Steiermark | D1701: 1360 | E1701: 62343
A1702: 62368 | B1702: Tieschen | C1702: Steiermark | D1702: 1193 | E1702: 62368
A1703: 62372 | B1703: Unterlamm | C1703: Steiermark | D1703: 1265 | E1703: 62372
A1704: 62375 | B1704: Bad Gleichenberg | C1704: Steiermark | D1704: 5232 | E1704: 62375
A1705: 62376 | B1705: Bad Radkersburg | C1705: Steiermark | D1705: 3220 | E1705: 62376
A1706: 62377 | B1706: Deutsch Goritz | C1706: Steiermark | D1706: 1779 | E1706: 62377
... A2093: 90001 | B2093: Wien | C2093: Wien | D2093: 2028289 | E2093: 90001

Sheet Indikatoren
A1: KLAR! Monitoring | D1: KLAR! Region: | I1: â Suchbegriff für Standardmaßnahme eingeben oder leer lassen â
A2: Diese Felder sind ggf. auszufüllen! | D2: KLAR! Phase:
A3: Liste der Standardmaßnahmen (Info) | I3: á Suchbegriff für Standardmaßnahme eingeben oder leer lassen á
A4: Wird automatisch übernommen | B4: Wird automatisch übernommen | C4: Bitte die Kategorie der Maßnahme auswählen. | D4: Bitte die Nummer der Maßnahme lt. Konzept / Einreichung eintragen! [#] | E4: Bitte entspechenden Maßnahmentitel lt. Konzept/Einreichung eintragen! | F4: Bitte die Nummer des Arbeitspaketes lt. Konzept/Einreichung eintragen! [#.#] | G4: Bitte die Bezeichnung des Arbeitspaketes lt. Konzept/Einreichung eintragen! | H4: Bitte VERPFLICHTEND auswählen, ob das Arbeitspaket einen messbaren LEISTUNGSINDIKATOR hat. | I4: Bitte VERPFLICHTEND die zugehörige Standardmaßnahme auswählen. Zur Einschränkung der Auswahl Suchbegriff in Zelle I2 eingeben. | J4: Bitte den Status auswählen. | K4: Bitte den Umsetzungsgrad in % auswählen. | L4: Wird automatisch ausgewählt. | M4: Bitte die Gesamtkosten des Arbeitspaketes gem. Umsetzungsstand anführen! (Dies hat KEINE Auswirkung auf die Förderabwicklung!) | N4: Bitte hier VERPFLICHTEND einen vorgeschlagenen Indikator der beim Arbeitspaket direkt umgesetzten Handlung auswählen (z.B. Informationsveranstaltung, Retentionsbecken, Bäume…)! | O4: Bitte einen anderen Indikator wählen, wenn der vorgeschlagene Indikator nicht passt, ansonsten freilassen! | P4: Bitte geplante Anzahl für den LEISTUNGSINDIKATOR anführen (z.B. 3 wenn 3 Workshops in diesem Arbeitpaket als Leistungsindikator umgesetzt werden sollen) | Q4: Bitte tatsächliche Anzahl der im Arbeitspaket direkt umgesetzten Handlung anführen. | R4: Bitte Erläuterung anführen, wenn in der Auswahl der Standarmaßnahme (Spalte I) "Innovative/Sonstige Maßnahme" ausgewählt ist oder sonstiger Anmerkungsbedarf besteht! | S4: Wird automatisch ausgewählt. | T4: Bitte geplante Anzahl der Einheiten der durch die Umsetzung des Leistungsindikators unmittelbar erzielten Wirkung angeben (z.B. x erreichte Personen, y m³ Rückhaltevolumen, z m² Wald)! | U4: Bitte tatsächliche Anzahl der Einheiten der durch die Umsetzung des Leistungsindikators unmittelbar erzielten Wirkung angeben (z.B. x erreichte Personen, y m³ Rückhaltevolumen, z m² Wald)! | V4: Bitte angeben, ob es sich um geschätzte oder tatsächliche Werte handelt! | W4: Bitte Einheit beschreiben, wenn sonstige Einheit ausgewählt ist, die vorgegebene Einheit nicht passt oder sonstiger Anmerkungsbedarf gegeben ist! | X4: Wird automatisch ausgewählt. | Y4: Wird automatisch ausgewählt. | Z4: Wird automatisch ausgewählt. | AA4: Wird automatisch ausgewählt. | AB4: Wird automatisch ausgewählt. | AC4: Wird automatisch ausgewählt.
I5: Liste der Standardmaßnahmen (Info) | M5: Input | N5: Output 1 LEISTUNGSINDIKATOR (nicht auszahlungsrelevant gem. Förderabwicklung KPC) | S5: Output 2 Ergebnis (NICHT AUSZAHLUNGSRELEVANT gem. Förderabwicklung KPC) | X5: Outcome (primär) | AA5: Impact (primär)
A6: KLAR! Region | B6: KLAR! Phase | C6: Maßnahmen-Kategorie | D6: Maßnahmen-Nr. lt. Konzept | E6: Maßnahmentitel lt. Konzept/Einreichung | F6: Nr. Arbeitspaket | G6: Bezeichnung Arbeitspaket lt. Konzept/Einreichung | H6: Messbarer LEISTUNGSINDIKATOR? (ja/nein) | I6: Standardmaßnahme | J6: Status | K6: Umsetzungsgrad | L6: Maßnahmentyp | M6: Plan-Kosten Maßnahmen-umsetzung [€] | N6: vorgeschlagener Indikator | O6: Ggf. anderer Indikator | P6: Plan-Anzahl | Q6: IST-Anzahl | R6: Anmerkungen, Spezifizierung | S6: Einheiten | T6: PLAN-Anzahl | U6: IST-Anzahl | V6: Schätzwert/ konkreter Wert | W6: Anmerkungen, Spezifizierung | X6: Handlungsempfehlung | Y6: Nr. der HE | Z6: Ziel der Handlungsempfehlung | AA6: betroffenes Aktivitätsfeld | AB6: übergeordnetes Ziel | AC6: Klimawandelfolge/Naturgefahr
A7: =IF($E$1="","",$E$1) | B7: =IF($E$2="","",$E$2) | L7: =IF(I7="","",VLOOKUP(I7,Standardmaßnahmen!B:C,2,FALSE)) | S7: =IF(I7="","",VLOOKUP(I7,Standardmaßnahmen!B$2:EN$250,143,FALSE)) | X7: =IF(I7="","",INDEX(Standardmaßnahmen!$1:$1,INDEX(Hilfsformeln!$A:$A,ROW(A3)))) | Y7: =IF(X7="","",VLOOKUP($X7,'Handlungsempfehlungen NAS'!$D$2:$E$126,2,FALSE)) | Z7: =IF(X7="","",VLOOKUP($X7,'Handlungsempfehlungen NAS'!$D$2:$F$126,3,FALSE)) | AA7: =IF(I7="","",INDEX('Handlungsempfehlungen NAS'!$A:$A,MATCH(INDIRECT("X"&ROW()),'Handlungsempfehlungen NAS'!$D:$D,0))) | AB7: =IF(I7="","",IF(I7="Standardmaßnahme","",INDEX('Handlungsempfehlungen NAS'!$C:$C,MATCH(INDIRECT("X"&ROW()),'Handlungsempfehlungen NAS'!$D:$D,0)))) | AC7: =IF(I7="","",VLOOKUP(I7,Standardmaßnahmen!B:EO,144,FALSE))
A8: =IF($E$1="","",$E$1) | B8: =IF($E$2="","",$E$2) | L8: =IF(I8="","",VLOOKUP(I8,Standardmaßnahmen!B:C,2,FALSE)) | S8: =IF(I8="","",VLOOKUP(I8,Standardmaßnahmen!B$2:EN$250,143,FALSE)) | X8: =IF(I8="","",INDEX(Standardmaßnahmen!$1:$1,INDEX(Hilfsformeln!$A:$A,ROW(A4)))) | Y8: =IF(X8="","",VLOOKUP($X8,'Handlungsempfehlungen NAS'!$D$2:$E$126,2,FALSE)) | Z8: =IF(X8="","",VLOOKUP($X8,'Handlungsempfehlungen NAS'!$D$2:$F$126,3,FALSE)) | AA8: =IF(I8="","",INDEX('Handlungsempfehlungen NAS'!$A:$A,MATCH(INDIRECT("X"&ROW()),'Handlungsempfehlungen NAS'!$D:$D,0))) | AB8: =IF(I8="","",IF(I8="Standardmaßnahme","",INDEX('Handlungsempfehlungen NAS'!$C:$C,MATCH(INDIRECT("X"&ROW()),'Handlungsempfehlungen NAS'!$D:$D,0)))) | AC8: =IF(I8="","",VLOOKUP(I8,Standardmaßnahmen!B:EO,144,FALSE))
A9: =IF($E$1="","",$E$1) | B9: =IF($E$2="","",$E$2) | L9: =IF(I9="","",VLOOKUP(I9,Standardmaßnahmen!B:C,2,FALSE)) | S9: =IF(I9="","",VLOOKUP(I9,Standardmaßnahmen!B$2:EN$250,143,FALSE)) | X9: =IF(I9="","",INDEX(Standardmaßnahmen!$1:$1,INDEX(Hilfsformeln!$A:$A,ROW(A5)))) | Y9: =IF(X9="","",VLOOKUP($X9,'Handlungsempfehlungen NAS'!$D$2:$E$126,2,FALSE)) | Z9: =IF(X9="","",VLOOKUP($X9,'Handlungsempfehlungen NAS'!$D$2:$F$126,3,FALSE)) | AA9: =IF(I9="","",INDEX('Handlungsempfehlungen NAS'!$A:$A,MATCH(INDIRECT("X"&ROW()),'Handlungsempfehlungen NAS'!$D:$D,0))) | AB9: =IF(I9="","",IF(I9="Standardmaßnahme","",INDEX('Handlungsempfehlungen NAS'!$C:$C,MATCH(INDIRECT("X"&ROW()),'Handlungsempfehlungen NAS'!$D:$D,0)))) | AC9: =IF(I9="","",VLOOKUP(I9,Standardmaßnahmen!B:EO,144,FALSE))
A10: =IF($E$1="","",$E$1) | B10: =IF($E$2="","",$E$2) | L10: =IF(I10="","",VLOOKUP(I10,Standardmaßnahmen!B:C,2,FALSE)) | S10: =IF(I10="","",VLOOKUP(I10,Standardmaßnahmen!B$2:EN$250,143,FALSE)) | X10: =IF(I10="","",INDEX(Standardmaßnahmen!$1:$1,INDEX(Hilfsformeln!$A:$A,ROW(A6)))) | Y10: =IF(X10="","",VLOOKUP($X10,'Handlungsempfehlungen NAS'!$D$2:$E$126,2,FALSE)) | Z10: =IF(X10="","",VLOOKUP($X10,'Handlungsempfehlungen NAS'!$D$2:$F$126,3,FALSE)) | AA10: =IF(I10="","",INDEX('Handlungsempfehlungen NAS'!$A:$A,MATCH(INDIRECT("X"&ROW()),'Handlungsempfehlungen NAS'!$D:$D,0))) | AB10: =IF(I10="","",IF(I10="Standardmaßnahme","",INDEX('Handlungsempfehlungen NAS'!$C:$C,MATCH(INDIRECT("X"&ROW()),'Handlungsempfehlungen NAS'!$D:$D,0)))) | AC10: =IF(I10="","",VLOOKUP(I10,Standardmaßnahmen!B:EO,144,FALSE))
A11: =IF($E$1="","",$E$1) | B11: =IF($E$2="","",$E$2) | L11: =IF(I11="","",VLOOKUP(I11,Standardmaßnahmen!B:C,2,FALSE)) | S11: =IF(I11="","",VLOOKUP(I11,Standardmaßnahmen!B$2:EN$250,143,FALSE)) | X11: =IF(I11="","",INDEX(Standardmaßnahmen!$1:$1,INDEX(Hilfsformeln!$A:$A,ROW(A7)))) | Y11: =IF(X11="","",VLOOKUP($X11,'Handlungsempfehlungen NAS'!$D$2:$E$126,2,FALSE)) | Z11: =IF(X11="","",VLOOKUP($X11,'Handlungsempfehlungen NAS'!$D$2:$F$126,3,FALSE)) | AA11: =IF(I11="","",INDEX('Handlungsempfehlungen NAS'!$A:$A,MATCH(INDIRECT("X"&ROW()),'Handlungsempfehlungen NAS'!$D:$D,0))) | AB11: =IF(I11="","",IF(I11="Standardmaßnahme","",INDEX('Handlungsempfehlungen NAS'!$C:$C,MATCH(INDIRECT("X"&ROW()),'Handlungsempfehlungen NAS'!$D:$D,0)))) | AC11: =IF(I11="","",VLOOKUP(I11,Standardmaßnahmen!B:EO,144,FALSE))
A12: =IF($E$1="","",$E$1) | B12: =IF($E$2="","",$E$2) | L12: =IF(I12="","",VLOOKUP(I12,Standardmaßnahmen!B:C,2,FALSE)) | S12: =IF(I12="","",VLOOKUP(I12,Standardmaßnahmen!B$2:EN$250,143,FALSE)) | X12: =IF(I12="","",INDEX(Standardmaßnahmen!$1:$1,INDEX(Hilfsformeln!$A:$A,ROW(A8)))) | Y12: =IF(X12="","",VLOOKUP($X12,'Handlungsempfehlungen NAS'!$D$2:$E$126,2,FALSE)) | Z12: =IF(X12="","",VLOOKUP($X12,'Handlungsempfehlungen NAS'!$D$2:$F$126,3,FALSE)) | AA12: =IF(I12="","",INDEX('Handlungsempfehlungen NAS'!$A:$A,MATCH(INDIRECT("X"&ROW()),'Handlungsempfehlungen NAS'!$D:$D,0))) | AB12: =IF(I12="","",IF(I12="Standardmaßnahme","",INDEX('Handlungsempfehlungen NAS'!$C:$C,MATCH(INDIRECT("X"&ROW()),'Handlungsempfehlungen NAS'!$D:$D,0)))) | AC12: =IF(I12="","",VLOOKUP(I12,Standardmaßnahmen!B:EO,144,FALSE))
A13: =IF($E$1="","",$E$1) | B13: =IF($E$2="","",$E$2) | L13: =IF(I13="","",VLOOKUP(I13,Standardmaßnahmen!B:C,2,FALSE)) | S13: =IF(I13="","",VLOOKUP(I13,Standardmaßnahmen!B$2:EN$250,143,FALSE)) | X13: =IF(I13="","",INDEX(Standardmaßnahmen!$1:$1,INDEX(Hilfsformeln!$A:$A,ROW(A9)))) | Y13: =IF(X13="","",VLOOKUP($X13,'Handlungsempfehlungen NAS'!$D$2:$E$126,2,FALSE)) | Z13: =IF(X13="","",VLOOKUP($X13,'Handlungsempfehlungen NAS'!$D$2:$F$126,3,FALSE)) | AA13: =IF(I13="","",INDEX('Handlungsempfehlungen NAS'!$A:$A,MATCH(INDIRECT("X"&ROW()),'Handlungsempfehlungen NAS'!$D:$D,0))) | AB13: =IF(I13="","",IF(I13="Standardmaßnahme","",INDEX('Handlungsempfehlungen NAS'!$C:$C,MATCH(INDIRECT("X"&ROW()),'Handlungsempfehlungen NAS'!$D:$D,0)))) | AC13: =IF(I13="","",VLOOKUP(I13,Standardmaßnahmen!B:EO,144,FALSE))
A14: =IF($E$1="","",$E$1) | B14: =IF($E$2="","",$E$2) | L14: =IF(I14="","",VLOOKUP(I14,Standardmaßnahmen!B:C,2,FALSE)) | S14: =IF(I14="","",VLOOKUP(I14,Standardmaßnahmen!B$2:EN$250,143,FALSE)) | X14: =IF(I14="","",INDEX(Standardmaßnahmen!$1:$1,INDEX(Hilfsformeln!$A:$A,ROW(A10)))) | Y14: =IF(X14="","",VLOOKUP($X14,'Handlungsempfehlungen NAS'!$D$2:$E$126,2,FALSE)) | Z14: =IF(X14="","",VLOOKUP($X14,'Handlungsempfehlungen NAS'!$D$2:$F$126,3,FALSE)) | AA14: =IF(I14="","",INDEX('Handlungsempfehlungen NAS'!$A:$A,MATCH(INDIRECT("X"&ROW()),'Handlungsempfehlungen NAS'!$D:$D,0))) | AB14: =IF(I14="","",IF(I14="Standardmaßnahme","",INDEX('Handlungsempfehlungen NAS'!$C:$C,MATCH(INDIRECT("X"&ROW()),'Handlungsempfehlungen NAS'!$D:$D,0)))) | AC14: =IF(I14="","",VLOOKUP(I14,Standardmaßnahmen!B:EO,144,FALSE))
A15: =IF($E$1="","",$E$1) | B15: =IF($E$2="","",$E$2) | L15: =IF(I15="","",VLOOKUP(I15,Standardmaßnahmen!B:C,2,FALSE)) | S15: =IF(I15="","",VLOOKUP(I15,Standardmaßnahmen!B$2:EN$250,143,FALSE)) | X15: =IF(I15="","",INDEX(Standardmaßnahmen!$1:$1,INDEX(Hilfsformeln!$A:$A,ROW(A11)))) | Y15: =IF(X15="","",VLOOKUP($X15,'Handlungsempfehlungen NAS'!$D$2:$E$126,2,FALSE)) | Z15: =IF(X15="","",VLOOKUP($X15,'Handlungsempfehlungen NAS'!$D$2:$F$126,3,FALSE)) | AA15: =IF(I15="","",INDEX('Handlungsempfehlungen NAS'!$A:$A,MATCH(INDIRECT("X"&ROW()),'Handlungsempfehlungen NAS'!$D:$D,0))) | AB15: =IF(I15="","",IF(I15="Standardmaßnahme","",INDEX('Handlungsempfehlungen NAS'!$C:$C,MATCH(INDIRECT("X"&ROW()),'Handlungsempfehlungen NAS'!$D:$D,0)))) | AC15: =IF(I15="","",VLOOKUP(I15,Standardmaßnahmen!B:EO,144,FALSE))
A16: =IF($E$1="","",$E$1) | B16: =IF($E$2="","",$E$2) | L16: =IF(I16="","",VLOOKUP(I16,Standardmaßnahmen!B:C,2,FALSE)) | S16: =IF(I16="","",VLOOKUP(I16,Standardmaßnahmen!B$2:EN$250,143,FALSE)) | X16: =IF(I16="","",INDEX(Standardmaßnahmen!$1:$1,INDEX(Hilfsformeln!$A:$A,ROW(A12)))) | Y16: =IF(X16="","",VLOOKUP($X16,'Handlungsempfehlungen NAS'!$D$2:$E$126,2,FALSE)) | Z16: =IF(X16="","",VLOOKUP($X16,'Handlungsempfehlungen NAS'!$D$2:$F$126,3,FALSE)) | AA16: =IF(I16="","",INDEX('Handlungsempfehlungen NAS'!$A:$A,MATCH(INDIRECT("X"&ROW()),'Handlungsempfehlungen NAS'!$D:$D,0))) | AB16: =IF(I16="","",IF(I16="Standardmaßnahme","",INDEX('Handlungsempfehlungen NAS'!$C:$C,MATCH(INDIRECT("X"&ROW()),'Handlungsempfehlungen NAS'!$D:$D,0)))) | AC16: =IF(I16="","",VLOOKUP(I16,Standardmaßnahmen!B:EO,144,FALSE))
A17: =IF($E$1="","",$E$1) | B17: =IF($E$2="","",$E$2) | L17: =IF(I17="","",VLOOKUP(I17,Standardmaßnahmen!B:C,2,FALSE)) | S17: =IF(I17="","",VLOOKUP(I17,Standardmaßnahmen!B$2:EN$250,143,FALSE)) | X17: =IF(I17="","",INDEX(Standardmaßnahmen!$1:$1,INDEX(Hilfsformeln!$A:$A,ROW(#REF!)))) | Y17: =IF(X17="","",VLOOKUP($X17,'Handlungsempfehlungen NAS'!$D$2:$E$126,2,FALSE)) | Z17: =IF(X17="","",VLOOKUP($X17,'Handlungsempfehlungen NAS'!$D$2:$F$126,3,FALSE)) | AA17: =IF(I17="","",INDEX('Handlungsempfehlungen NAS'!$A:$A,MATCH(INDIRECT("X"&ROW()),'Handlungsempfehlungen NAS'!$D:$D,0))) | AB17: =IF(I17="","",IF(I17="Standardmaßnahme","",INDEX('Handlungsempfehlungen NAS'!$C:$C,MATCH(INDIRECT("X"&ROW()),'Handlungsempfehlungen NAS'!$D:$D,0)))) | AC17: =IF(I17="","",VLOOKUP(I17,Standardmaßnahmen!B:EO,144,FALSE))
A18: =IF($E$1="","",$E$1) | B18: =IF($E$2="","",$E$2) | L18: =IF(I18="","",VLOOKUP(I18,Standardmaßnahmen!B:C,2,FALSE)) | S18: =IF(I18="","",VLOOKUP(I18,Standardmaßnahmen!B$2:EN$250,143,FALSE)) | X18: =IF(I18="","",INDEX(Standardmaßnahmen!$1:$1,INDEX(Hilfsformeln!$A:$A,ROW(#REF!)))) | Y18: =IF(X18="","",VLOOKUP($X18,'Handlungsempfehlungen NAS'!$D$2:$E$126,2,FALSE)) | Z18: =IF(X18="","",VLOOKUP($X18,'Handlungsempfehlungen NAS'!$D$2:$F$126,3,FALSE)) | AA18: =IF(I18="","",INDEX('Handlungsempfehlungen NAS'!$A:$A,MATCH(INDIRECT("X"&ROW()),'Handlungsempfehlungen NAS'!$D:$D,0))) | AB18: =IF(I18="","",IF(I18="Standardmaßnahme","",INDEX('Handlungsempfehlungen NAS'!$C:$C,MATCH(INDIRECT("X"&ROW()),'Handlungsempfehlungen NAS'!$D:$D,0)))) | AC18: =IF(I18="","",VLOOKUP(I18,Standardmaßnahmen!B:EO,144,FALSE))
A19: =IF($E$1="","",$E$1) | B19: =IF($E$2="","",$E$2) | L19: =IF(I19="","",VLOOKUP(I19,Standardmaßnahmen!B:C,2,FALSE)) | S19: =IF(I19="","",VLOOKUP(I19,Standardmaßnahmen!B$2:EN$250,143,FALSE)) | X19: =IF(I19="","",INDEX(Standardmaßnahmen!$1:$1,INDEX(Hilfsformeln!$A:$A,ROW(#REF!)))) | Y19: =IF(X19="","",VLOOKUP($X19,'Handlungsempfehlungen NAS'!$D$2:$E$126,2,FALSE)) | Z19: =IF(X19="","",VLOOKUP($X19,'Handlungsempfehlungen NAS'!$D$2:$F$126,3,FALSE)) | AA19: =IF(I19="","",INDEX('Handlungsempfehlungen NAS'!$A:$A,MATCH(INDIRECT("X"&ROW()),'Handlungsempfehlungen NAS'!$D:$D,0))) | AB19: =IF(I19="","",IF(I19="Standardmaßnahme","",INDEX('Handlungsempfehlungen NAS'!$C:$C,MATCH(INDIRECT("X"&ROW()),'Handlungsempfehlungen NAS'!$D:$D,0)))) | AC19: =IF(I19="","",VLOOKUP(I19,Standardmaßnahmen!B:EO,144,FALSE))
A20: =IF($E$1="","",$E$1) | B20: =IF($E$2="","",$E$2) | L20: =IF(I20="","",VLOOKUP(I20,Standardmaßnahmen!B:C,2,FALSE)) | S20: =IF(I20="","",VLOOKUP(I20,Standardmaßnahmen!B$2:EN$250,143,FALSE)) | X20: =IF(I20="","",INDEX(Standardmaßnahmen!$1:$1,INDEX(Hilfsformeln!$A:$A,ROW(#REF!)))) | Y20: =IF(X20="","",VLOOKUP($X20,'Handlungsempfehlungen NAS'!$D$2:$E$126,2,FALSE)) | Z20: =IF(X20="","",VLOOKUP($X20,'Handlungsempfehlungen NAS'!$D$2:$F$126,3,FALSE)) | AA20: =IF(I20="","",INDEX('Handlungsempfehlungen NAS'!$A:$A,MATCH(INDIRECT("X"&ROW()),'Handlungsempfehlungen NAS'!$D:$D,0))) | AB20: =IF(I20="","",IF(I20="Standardmaßnahme","",INDEX('Handlungsempfehlungen NAS'!$C:$C,MATCH(INDIRECT("X"&ROW()),'Handlungsempfehlungen NAS'!$D:$D,0)))) | AC20: =IF(I20="","",VLOOKUP(I20,Standardmaßnahmen!B:EO,144,FALSE))
A21: =IF($E$1="","",$E$1) | B21: =IF($E$2="","",$E$2) | L21: =IF(I21="","",VLOOKUP(I21,Standardmaßnahmen!B:C,2,FALSE)) | S21: =IF(I21="","",VLOOKUP(I21,Standardmaßnahmen!B$2:EN$250,143,FALSE)) | X21: =IF(I21="","",INDEX(Standardmaßnahmen!$1:$1,INDEX(Hilfsformeln!$A:$A,ROW(A17)))) | Y21: =IF(X21="","",VLOOKUP($X21,'Handlungsempfehlungen NAS'!$D$2:$E$126,2,FALSE)) | Z21: =IF(X21="","",VLOOKUP($X21,'Handlungsempfehlungen NAS'!$D$2:$F$126,3,FALSE)) | AA21: =IF(I21="","",INDEX('Handlungsempfehlungen NAS'!$A:$A,MATCH(INDIRECT("X"&ROW()),'Handlungsempfehlungen NAS'!$D:$D,0))) | AB21: =IF(I21="","",IF(I21="Standardmaßnahme","",INDEX('Handlungsempfehlungen NAS'!$C:$C,MATCH(INDIRECT("X"&ROW()),'Handlungsempfehlungen NAS'!$D:$D,0)))) | AC21: =IF(I21="","",VLOOKUP(I21,Standardmaßnahmen!B:EO,144,FALSE))
A22: =IF($E$1="","",$E$1) | B22: =IF($E$2="","",$E$2) | L22: =IF(I22="","",VLOOKUP(I22,Standardmaßnahmen!B:C,2,FALSE)) | S22: =IF(I22="","",VLOOKUP(I22,Standardmaßnahmen!B$2:EN$250,143,FALSE)) | X22: =IF(I22="","",INDEX(Standardmaßnahmen!$1:$1,INDEX(Hilfsformeln!$A:$A,ROW(#REF!)))) | Y22: =IF(X22="","",VLOOKUP($X22,'Handlungsempfehlungen NAS'!$D$2:$E$126,2,FALSE)) | Z22: =IF(X22="","",VLOOKUP($X22,'Handlungsempfehlungen NAS'!$D$2:$F$126,3,FALSE)) | AA22: =IF(I22="","",INDEX('Handlungsempfehlungen NAS'!$A:$A,MATCH(INDIRECT("X"&ROW()),'Handlungsempfehlungen NAS'!$D:$D,0))) | AB22: =IF(I22="","",IF(I22="Standardmaßnahme","",INDEX('Handlungsempfehlungen NAS'!$C:$C,MATCH(INDIRECT("X"&ROW()),'Handlungsempfehlungen NAS'!$D:$D,0)))) | AC22: =IF(I22="","",VLOOKUP(I22,Standardmaßnahmen!B:EO,144,FALSE))
A23: =IF($E$1="","",$E$1) | B23: =IF($E$2="","",$E$2) | L23: =IF(I23="","",VLOOKUP(I23,Standardmaßnahmen!B:C,2,FALSE)) | S23: =IF(I23="","",VLOOKUP(I23,Standardmaßnahmen!B$2:EN$250,143,FALSE)) | X23: =IF(I23="","",INDEX(Standardmaßnahmen!$1:$1,INDEX(Hilfsformeln!$A:$A,ROW(#REF!)))) | Y23: =IF(X23="","",VLOOKUP($X23,'Handlungsempfehlungen NAS'!$D$2:$E$126,2,FALSE)) | Z23: =IF(X23="","",VLOOKUP($X23,'Handlungsempfehlungen NAS'!$D$2:$F$126,3,FALSE)) | AA23: =IF(I23="","",INDEX('Handlungsempfehlungen NAS'!$A:$A,MATCH(INDIRECT("X"&ROW()),'Handlungsempfehlungen NAS'!$D:$D,0))) | AB23: =IF(I23="","",IF(I23="Standardmaßnahme","",INDEX('Handlungsempfehlungen NAS'!$C:$C,MATCH(INDIRECT("X"&ROW()),'Handlungsempfehlungen NAS'!$D:$D,0)))) | AC23: =IF(I23="","",VLOOKUP(I23,Standardmaßnahmen!B:EO,144,FALSE))
A24: =IF($E$1="","",$E$1) | B24: =IF($E$2="","",$E$2) | L24: =IF(I24="","",VLOOKUP(I24,Standardmaßnahmen!B:C,2,FALSE)) | S24: =IF(I24="","",VLOOKUP(I24,Standardmaßnahmen!B$2:EN$250,143,FALSE)) | X24: =IF(I24="","",INDEX(Standardmaßnahmen!$1:$1,INDEX(Hilfsformeln!$A:$A,ROW(#REF!)))) | Y24: =IF(X24="","",VLOOKUP($X24,'Handlungsempfehlungen NAS'!$D$2:$E$126,2,FALSE)) | Z24: =IF(X24="","",VLOOKUP($X24,'Handlungsempfehlungen NAS'!$D$2:$F$126,3,FALSE)) | AA24: =IF(I24="","",INDEX('Handlungsempfehlungen NAS'!$A:$A,MATCH(INDIRECT("X"&ROW()),'Handlungsempfehlungen NAS'!$D:$D,0))) | AB24: =IF(I24="","",IF(I24="Standardmaßnahme","",INDEX('Handlungsempfehlungen NAS'!$C:$C,MATCH(INDIRECT("X"&ROW()),'Handlungsempfehlungen NAS'!$D:$D,0)))) | AC24: =IF(I24="","",VLOOKUP(I24,Standardmaßnahmen!B:EO,144,FALSE))
A25: =IF($E$1="","",$E$1) | B25: =IF($E$2="","",$E$2) | L25: =IF(I25="","",VLOOKUP(I25,Standardmaßnahmen!B:C,2,FALSE)) | S25: =IF(I25="","",VLOOKUP(I25,Standardmaßnahmen!B$2:EN$250,143,FALSE)) | X25: =IF(I25="","",INDEX(Standardmaßnahmen!$1:$1,INDEX(Hilfsformeln!$A:$A,ROW(#REF!)))) | Y25: =IF(X25="","",VLOOKUP($X25,'Handlungsempfehlungen NAS'!$D$2:$E$126,2,FALSE)) | Z25: =IF(X25="","",VLOOKUP($X25,'Handlungsempfehlungen NAS'!$D$2:$F$126,3,FALSE)) | AA25: =IF(I25="","",INDEX('Handlungsempfehlungen NAS'!$A:$A,MATCH(INDIRECT("X"&ROW()),'Handlungsempfehlungen NAS'!$D:$D,0))) | AB25: =IF(I25="","",IF(I25="Standardmaßnahme","",INDEX('Handlungsempfehlungen NAS'!$C:$C,MATCH(INDIRECT("X"&ROW()),'Handlungsempfehlungen NAS'!$D:$D,0)))) | AC25: =IF(I25="","",VLOOKUP(I25,Standardmaßnahmen!B:EO,144,FALSE))
A26: =IF($E$1="","",$E$1) | B26: =IF($E$2="","",$E$2) | L26: =IF(I26="","",VLOOKUP(I26,Standardmaßnahmen!B:C,2,FALSE)) | S26: =IF(I26="","",VLOOKUP(I26,Standardmaßnahmen!B$2:EN$250,143,FALSE)) | X26: =IF(I26="","",INDEX(Standardmaßnahmen!$1:$1,INDEX(Hilfsformeln!$A:$A,ROW(A22)))) | Y26: =IF(X26="","",VLOOKUP($X26,'Handlungsempfehlungen NAS'!$D$2:$E$126,2,FALSE)) | Z26: =IF(X26="","",VLOOKUP($X26,'Handlungsempfehlungen NAS'!$D$2:$F$126,3,FALSE)) | AA26: =IF(I26="","",INDEX('Handlungsempfehlungen NAS'!$A:$A,MATCH(INDIRECT("X"&ROW()),'Handlungsempfehlungen NAS'!$D:$D,0))) | AB26: =IF(I26="","",IF(I26="Standardmaßnahme","",INDEX('Handlungsempfehlungen NAS'!$C:$C,MATCH(INDIRECT("X"&ROW()),'Handlungsempfehlungen NAS'!$D:$D,0)))) | AC26: =IF(I26="","",VLOOKUP(I26,Standardmaßnahmen!B:EO,144,FALSE))
A27: =IF($E$1="","",$E$1) | B27: =IF($E$2="","",$E$2) | L27: =IF(I27="","",VLOOKUP(I27,Standardmaßnahmen!B:C,2,FALSE)) | S27: =IF(I27="","",VLOOKUP(I27,Standardmaßnahmen!B$2:EN$250,143,FALSE)) | X27: =IF(I27="","",INDEX(Standardmaßnahmen!$1:$1,INDEX(Hilfsformeln!$A:$A,ROW(#REF!)))) | Y27: =IF(X27="","",VLOOKUP($X27,'Handlungsempfehlungen NAS'!$D$2:$E$126,2,FALSE)) | Z27: =IF(X27="","",VLOOKUP($X27,'Handlungsempfehlungen NAS'!$D$2:$F$126,3,FALSE)) | AA27: =IF(I27="","",INDEX('Handlungsempfehlungen NAS'!$A:$A,MATCH(INDIRECT("X"&ROW()),'Handlungsempfehlungen NAS'!$D:$D,0))) | AB27: =IF(I27="","",IF(I27="Standardmaßnahme","",INDEX('Handlungsempfehlungen NAS'!$C:$C,MATCH(INDIRECT("X"&ROW()),'Handlungsempfehlungen NAS'!$D:$D,0)))) | AC27: =IF(I27="","",VLOOKUP(I27,Standardmaßnahmen!B:EO,144,FALSE))
A28: =IF($E$1="","",$E$1) | B28: =IF($E$2="","",$E$2) | L28: =IF(I28="","",VLOOKUP(I28,Standardmaßnahmen!B:C,2,FALSE)) | S28: =IF(I28="","",VLOOKUP(I28,Standardmaßnahmen!B$2:EN$250,143,FALSE)) | X28: =IF(I28="","",INDEX(Standardmaßnahmen!$1:$1,INDEX(Hilfsformeln!$A:$A,ROW(#REF!)))) | Y28: =IF(X28="","",VLOOKUP($X28,'Handlungsempfehlungen NAS'!$D$2:$E$126,2,FALSE)) | Z28: =IF(X28="","",VLOOKUP($X28,'Handlungsempfehlungen NAS'!$D$2:$F$126,3,FALSE)) | AA28: =IF(I28="","",INDEX('Handlungsempfehlungen NAS'!$A:$A,MATCH(INDIRECT("X"&ROW()),'Handlungsempfehlungen NAS'!$D:$D,0))) | AB28: =IF(I28="","",IF(I28="Standardmaßnahme","",INDEX('Handlungsempfehlungen NAS'!$C:$C,MATCH(INDIRECT("X"&ROW()),'Handlungsempfehlungen NAS'!$D:$D,0)))) | AC28: =IF(I28="","",VLOOKUP(I28,Standardmaßnahmen!B:EO,144,FALSE))
A29: =IF($E$1="","",$E$1) | B29: =IF($E$2="","",$E$2) | L29: =IF(I29="","",VLOOKUP(I29,Standardmaßnahmen!B:C,2,FALSE)) | S29: =IF(I29="","",VLOOKUP(I29,Standardmaßnahmen!B$2:EN$250,143,FALSE)) | X29: =IF(I29="","",INDEX(Standardmaßnahmen!$1:$1,INDEX(Hilfsformeln!$A:$A,ROW(#REF!)))) | Y29: =IF(X29="","",VLOOKUP($X29,'Handlungsempfehlungen NAS'!$D$2:$E$126,2,FALSE)) | Z29: =IF(X29="","",VLOOKUP($X29,'Handlungsempfehlungen NAS'!$D$2:$F$126,3,FALSE)) | AA29: =IF(I29="","",INDEX('Handlungsempfehlungen NAS'!$A:$A,MATCH(INDIRECT("X"&ROW()),'Handlungsempfehlungen NAS'!$D:$D,0))) | AB29: =IF(I29="","",IF(I29="Standardmaßnahme","",INDEX('Handlungsempfehlungen NAS'!$C:$C,MATCH(INDIRECT("X"&ROW()),'Handlungsempfehlungen NAS'!$D:$D,0)))) | AC29: =IF(I29="","",VLOOKUP(I29,Standardmaßnahmen!B:EO,144,FALSE))
A30: =IF($E$1="","",$E$1) | B30: =IF($E$2="","",$E$2) | L30: =IF(I30="","",VLOOKUP(I30,Standardmaßnahmen!B:C,2,FALSE)) | S30: =IF(I30="","",VLOOKUP(I30,Standardmaßnahmen!B$2:EN$250,143,FALSE)) | X30: =IF(I30="","",INDEX(Standardmaßnahmen!$1:$1,INDEX(Hilfsformeln!$A:$A,ROW(#REF!)))) | Y30: =IF(X30="","",VLOOKUP($X30,'Handlungsempfehlungen NAS'!$D$2:$E$126,2,FALSE)) | Z30: =IF(X30="","",VLOOKUP($X30,'Handlungsempfehlungen NAS'!$D$2:$F$126,3,FALSE)) | AA30: =IF(I30="","",INDEX('Handlungsempfehlungen NAS'!$A:$A,MATCH(INDIRECT("X"&ROW()),'Handlungsempfehlungen NAS'!$D:$D,0))) | AB30: =IF(I30="","",IF(I30="Standardmaßnahme","",INDEX('Handlungsempfehlungen NAS'!$C:$C,MATCH(INDIRECT("X"&ROW()),'Handlungsempfehlungen NAS'!$D:$D,0)))) | AC30: =IF(I30="","",VLOOKUP(I30,Standardmaßnahmen!B:EO,144,FALSE))
A31: =IF($E$1="","",$E$1) | B31: =IF($E$2="","",$E$2) | L31: =IF(I31="","",VLOOKUP(I31,Standardmaßnahmen!B:C,2,FALSE)) | S31: =IF(I31="","",VLOOKUP(I31,Standardmaßnahmen!B$2:EN$250,143,FALSE)) | X31: =IF(I31="","",INDEX(Standardmaßnahmen!$1:$1,INDEX(Hilfsformeln!$A:$A,ROW(A27)))) | Y31: =IF(X31="","",VLOOKUP($X31,'Handlungsempfehlungen NAS'!$D$2:$E$126,2,FALSE)) | Z31: =IF(X31="","",VLOOKUP($X31,'Handlungsempfehlungen NAS'!$D$2:$F$126,3,FALSE)) | AA31: =IF(I31="","",INDEX('Handlungsempfehlungen NAS'!$A:$A,MATCH(INDIRECT("X"&ROW()),'Handlungsempfehlungen NAS'!$D:$D,0))) | AB31: =IF(I31="","",IF(I31="Standardmaßnahme","",INDEX('Handlungsempfehlungen NAS'!$C:$C,MATCH(INDIRECT("X"&ROW()),'Handlungsempfehlungen NAS'!$D:$D,0)))) | AC31: =IF(I31="","",VLOOKUP(I31,Standardmaßnahmen!B:EO,144,FALSE))
A32: =IF($E$1="","",$E$1) | B32: =IF($E$2="","",$E$2) | L32: =IF(I32="","",VLOOKUP(I32,Standardmaßnahmen!B:C,2,FALSE)) | S32: =IF(I32="","",VLOOKUP(I32,Standardmaßnahmen!B$2:EN$250,143,FALSE)) | X32: =IF(I32="","",INDEX(Standardmaßnahmen!$1:$1,INDEX(Hilfsformeln!$A:$A,ROW(#REF!)))) | Y32: =IF(X32="","",VLOOKUP($X32,'Handlungsempfehlungen NAS'!$D$2:$E$126,2,FALSE)) | Z32: =IF(X32="","",VLOOKUP($X32,'Handlungsempfehlungen NAS'!$D$2:$F$126,3,FALSE)) | AA32: =IF(I32="","",INDEX('Handlungsempfehlungen NAS'!$A:$A,MATCH(INDIRECT("X"&ROW()),'Handlungsempfehlungen NAS'!$D:$D,0))) | AB32: =IF(I32="","",IF(I32="Standardmaßnahme","",INDEX('Handlungsempfehlungen NAS'!$C:$C,MATCH(INDIRECT("X"&ROW()),'Handlungsempfehlungen NAS'!$D:$D,0)))) | AC32: =IF(I32="","",VLOOKUP(I32,Standardmaßnahmen!B:EO,144,FALSE))
A33: =IF($E$1="","",$E$1) | B33: =IF($E$2="","",$E$2) | L33: =IF(I33="","",VLOOKUP(I33,Standardmaßnahmen!B:C,2,FALSE)) | S33: =IF(I33="","",VLOOKUP(I33,Standardmaßnahmen!B$2:EN$250,143,FALSE)) | X33: =IF(I33="","",INDEX(Standardmaßnahmen!$1:$1,INDEX(Hilfsformeln!$A:$A,ROW(#REF!)))) | Y33: =IF(X33="","",VLOOKUP($X33,'Handlungsempfehlungen NAS'!$D$2:$E$126,2,FALSE)) | Z33: =IF(X33="","",VLOOKUP($X33,'Handlungsempfehlungen NAS'!$D$2:$F$126,3,FALSE)) | AA33: =IF(I33="","",INDEX('Handlungsempfehlungen NAS'!$A:$A,MATCH(INDIRECT("X"&ROW()),'Handlungsempfehlungen NAS'!$D:$D,0))) | AB33: =IF(I33="","",IF(I33="Standardmaßnahme","",INDEX('Handlungsempfehlungen NAS'!$C:$C,MATCH(INDIRECT("X"&ROW()),'Handlungsempfehlungen NAS'!$D:$D,0)))) | AC33: =IF(I33="","",VLOOKUP(I33,Standardmaßnahmen!B:EO,144,FALSE))
A34: =IF($E$1="","",$E$1) | B34: =IF($E$2="","",$E$2) | L34: =IF(I34="","",VLOOKUP(I34,Standardmaßnahmen!B:C,2,FALSE)) | S34: =IF(I34="","",VLOOKUP(I34,Standardmaßnahmen!B$2:EN$250,143,FALSE)) | X34: =IF(I34="","",INDEX(Standardmaßnahmen!$1:$1,INDEX(Hilfsformeln!$A:$A,ROW(#REF!)))) | Y34: =IF(X34="","",VLOOKUP($X34,'Handlungsempfehlungen NAS'!$D$2:$E$126,2,FALSE)) | Z34: =IF(X34="","",VLOOKUP($X34,'Handlungsempfehlungen NAS'!$D$2:$F$126,3,FALSE)) | AA34: =IF(I34="","",INDEX('Handlungsempfehlungen NAS'!$A:$A,MATCH(INDIRECT("X"&ROW()),'Handlungsempfehlungen NAS'!$D:$D,0))) | AB34: =IF(I34="","",IF(I34="Standardmaßnahme","",INDEX('Handlungsempfehlungen NAS'!$C:$C,MATCH(INDIRECT("X"&ROW()),'Handlungsempfehlungen NAS'!$D:$D,0)))) | AC34: =IF(I34="","",VLOOKUP(I34,Standardmaßnahmen!B:EO,144,FALSE))
A35: =IF($E$1="","",$E$1) | B35: =IF($E$2="","",$E$2) | L35: =IF(I35="","",VLOOKUP(I35,Standardmaßnahmen!B:C,2,FALSE)) | S35: =IF(I35="","",VLOOKUP(I35,Standardmaßnahmen!B$2:EN$250,143,FALSE)) | X35: =IF(I35="","",INDEX(Standardmaßnahmen!$1:$1,INDEX(Hilfsformeln!$A:$A,ROW(#REF!)))) | Y35: =IF(X35="","",VLOOKUP($X35,'Handlungsempfehlungen NAS'!$D$2:$E$126,2,FALSE)) | Z35: =IF(X35="","",VLOOKUP($X35,'Handlungsempfehlungen NAS'!$D$2:$F$126,3,FALSE)) | AA35: =IF(I35="","",INDEX('Handlungsempfehlungen NAS'!$A:$A,MATCH(INDIRECT("X"&ROW()),'Handlungsempfehlungen NAS'!$D:$D,0))) | AB35: =IF(I35="","",IF(I35="Standardmaßnahme","",INDEX('Handlungsempfehlungen NAS'!$C:$C,MATCH(INDIRECT("X"&ROW()),'Handlungsempfehlungen NAS'!$D:$D,0)))) | AC35: =IF(I35="","",VLOOKUP(I35,Standardmaßnahmen!B:EO,144,FALSE))
A36: =IF($E$1="","",$E$1) | B36: =IF($E$2="","",$E$2) | L36: =IF(I36="","",VLOOKUP(I36,Standardmaßnahmen!B:C,2,FALSE)) | S36: =IF(I36="","",VLOOKUP(I36,Standardmaßnahmen!B$2:EN$250,143,FALSE)) | X36: =IF(I36="","",INDEX(Standardmaßnahmen!$1:$1,INDEX(Hilfsformeln!$A:$A,ROW(A32)))) | Y36: =IF(X36="","",VLOOKUP($X36,'Handlungsempfehlungen NAS'!$D$2:$E$126,2,FALSE)) | Z36: =IF(X36="","",VLOOKUP($X36,'Handlungsempfehlungen NAS'!$D$2:$F$126,3,FALSE)) | AA36: =IF(I36="","",INDEX('Handlungsempfehlungen NAS'!$A:$A,MATCH(INDIRECT("X"&ROW()),'Handlungsempfehlungen NAS'!$D:$D,0))) | AB36: =IF(I36="","",IF(I36="Standardmaßnahme","",INDEX('Handlungsempfehlungen NAS'!$C:$C,MATCH(INDIRECT("X"&ROW()),'Handlungsempfehlungen NAS'!$D:$D,0)))) | AC36: =IF(I36="","",VLOOKUP(I36,Standardmaßnahmen!B:EO,144,FALSE))
A37: =IF($E$1="","",$E$1) | B37: =IF($E$2="","",$E$2) | L37: =IF(I37="","",VLOOKUP(I37,Standardmaßnahmen!B:C,2,FALSE)) | S37: =IF(I37="","",VLOOKUP(I37,Standardmaßnahmen!B$2:EN$250,143,FALSE)) | X37: =IF(I37="","",INDEX(Standardmaßnahmen!$1:$1,INDEX(Hilfsformeln!$A:$A,ROW(#REF!)))) | Y37: =IF(X37="","",VLOOKUP($X37,'Handlungsempfehlungen NAS'!$D$2:$E$126,2,FALSE)) | Z37: =IF(X37="","",VLOOKUP($X37,'Handlungsempfehlungen NAS'!$D$2:$F$126,3,FALSE)) | AA37: =IF(I37="","",INDEX('Handlungsempfehlungen NAS'!$A:$A,MATCH(INDIRECT("X"&ROW()),'Handlungsempfehlungen NAS'!$D:$D,0))) | AB37: =IF(I37="","",IF(I37="Standardmaßnahme","",INDEX('Handlungsempfehlungen NAS'!$C:$C,MATCH(INDIRECT("X"&ROW()),'Handlungsempfehlungen NAS'!$D:$D,0)))) | AC37: =IF(I37="","",VLOOKUP(I37,Standardmaßnahmen!B:EO,144,FALSE))
A38: =IF($E$1="","",$E$1) | B38: =IF($E$2="","",$E$2) | L38: =IF(I38="","",VLOOKUP(I38,Standardmaßnahmen!B:C,2,FALSE)) | S38: =IF(I38="","",VLOOKUP(I38,Standardmaßnahmen!B$2:EN$250,143,FALSE)) | X38: =IF(I38="","",INDEX(Standardmaßnahmen!$1:$1,INDEX(Hilfsformeln!$A:$A,ROW(#REF!)))) | Y38: =IF(X38="","",VLOOKUP($X38,'Handlungsempfehlungen NAS'!$D$2:$E$126,2,FALSE)) | Z38: =IF(X38="","",VLOOKUP($X38,'Handlungsempfehlungen NAS'!$D$2:$F$126,3,FALSE)) | AA38: =IF(I38="","",INDEX('Handlungsempfehlungen NAS'!$A:$A,MATCH(INDIRECT("X"&ROW()),'Handlungsempfehlungen NAS'!$D:$D,0))) | AB38: =IF(I38="","",IF(I38="Standardmaßnahme","",INDEX('Handlungsempfehlungen NAS'!$C:$C,MATCH(INDIRECT("X"&ROW()),'Handlungsempfehlungen NAS'!$D:$D,0)))) | AC38: =IF(I38="","",VLOOKUP(I38,Standardmaßnahmen!B:EO,144,FALSE))
A39: =IF($E$1="","",$E$1) | B39: =IF($E$2="","",$E$2) | L39: =IF(I39="","",VLOOKUP(I39,Standardmaßnahmen!B:C,2,FALSE)) | S39: =IF(I39="","",VLOOKUP(I39,Standardmaßnahmen!B$2:EN$250,143,FALSE)) | X39: =IF(I39="","",INDEX(Standardmaßnahmen!$1:$1,INDEX(Hilfsformeln!$A:$A,ROW(#REF!)))) | Y39: =IF(X39="","",VLOOKUP($X39,'Handlungsempfehlungen NAS'!$D$2:$E$126,2,FALSE)) | Z39: =IF(X39="","",VLOOKUP($X39,'Handlungsempfehlungen NAS'!$D$2:$F$126,3,FALSE)) | AA39: =IF(I39="","",INDEX('Handlungsempfehlungen NAS'!$A:$A,MATCH(INDIRECT("X"&ROW()),'Handlungsempfehlungen NAS'!$D:$D,0))) | AB39: =IF(I39="","",IF(I39="Standardmaßnahme","",INDEX('Handlungsempfehlungen NAS'!$C:$C,MATCH(INDIRECT("X"&ROW()),'Handlungsempfehlungen NAS'!$D:$D,0)))) | AC39: =IF(I39="","",VLOOKUP(I39,Standardmaßnahmen!B:EO,144,FALSE))
A40: =IF($E$1="","",$E$1) | B40: =IF($E$2="","",$E$2) | L40: =IF(I40="","",VLOOKUP(I40,Standardmaßnahmen!B:C,2,FALSE)) | S40: =IF(I40="","",VLOOKUP(I40,Standardmaßnahmen!B$2:EN$250,143,FALSE)) | X40: =IF(I40="","",INDEX(Standardmaßnahmen!$1:$1,INDEX(Hilfsformeln!$A:$A,ROW(#REF!)))) | Y40: =IF(X40="","",VLOOKUP($X40,'Handlungsempfehlungen NAS'!$D$2:$E$126,2,FALSE)) | Z40: =IF(X40="","",VLOOKUP($X40,'Handlungsempfehlungen NAS'!$D$2:$F$126,3,FALSE)) | AA40: =IF(I40="","",INDEX('Handlungsempfehlungen NAS'!$A:$A,MATCH(INDIRECT("X"&ROW()),'Handlungsempfehlungen NAS'!$D:$D,0))) | AB40: =IF(I40="","",IF(I40="Standardmaßnahme","",INDEX('Handlungsempfehlungen NAS'!$C:$C,MATCH(INDIRECT("X"&ROW()),'Handlungsempfehlungen NAS'!$D:$D,0)))) | AC40: =IF(I40="","",VLOOKUP(I40,Standardmaßnahmen!B:EO,144,FALSE))
...

Sheet Standardmaßnahmen
A1: Zuordnung finalisiert? | B1: Standardmaßnahme | C1: Maßnahmentyp | D1: Sektorübergreifend | E1: Landwirtschaft | F1: Nachhaltiger Aufbau, Wiederherstellung und Erhalt der Ressource Boden | G1: Anpassung des landwirtschaftlichen Bewirtschaftungsmanagements an klimawandelbedingte Veränderungen | H1: Überprüfung der Standorteignung von Kulturpflanzen aufgrund sich ändernder Umgebungsbedingungen und Erarbeitung von Empfehlungen für die Kulturwahl | I1: Züchtung klimafitter Kulturpflanzen | J1: Forschung zu und Bekämpfung von gebietsfremden invasiven Schaderregern bei Nutz- und Zierpflanzen | K1: Umweltgerechte und nachhaltige Umsetzung von Pflanzenschutzmaßnahmen | L1: Integrierte Landschaftsgestaltung und Verbesserung der Agroökosysteme inklusive Erhalt und Pflege von Landschaftselementen | M1: Verstärkte Etablierung und Förderung von wassersparenden Bewässerungssystemen sowie Verbesserung der Bewässerungsplanung inkl. Konfliktmanagement | N1: Optimierung des geschützten Anbaus (Glashäuser und Folientunnel) | O1: Erhalt bestehender Almflächen und Revitalisierung aufgelassener Almen | P1: Förderung des Tierwohls und der Tiergesundheit unter sich verändernden klimatischen Verhältnissen | Q1: Risikominimierung sowie Entwicklung und Ausbau von Instrumenten der Risikostreuung | R1: Forstwirtschaft | S1: Anpassung der Baumarten- und Herkunftswahl sowie der Baumartenmischung unter Berücksichtigung von Waldverjüngung und Förderung der Diversität | T1: Bodenschonende Bewirtschaftung | U1: Reduktion der Wildschadensbelastung | V1: Beratung, Aus-, Fort- und Weiterbildung zur Anpassung der Wälder an den Klimawandel | W1: Adaptierung und Verbesserung des Störungs- und Kalamitätsmanagements | X1: Vorsorgemaßnahmen zur Prävention und Bekämpfung von Waldbränden | Y1: Erhalt, Verbesserung und Wiederherstellung der Waldbiodiversität sowie der Ökosystemfunktionen von Waldlebensräumen | Z1: Immissionsschutz zur Stärkung der Klimaresilienz von Wäldern und ihrer Ökosystemleistungen | AA1: Vorausschauende Berücksichtigung möglicher Veränderungen in der Holzqualität und der Baumarten in der Holzverarbeitung | AB1: Wasserwirtschaft | AC1: Vorausschauende, klimaresiliente und nachhaltige Bewirtschaftung der Grundwasservorkommen | AD1: Vorausschauende, klimaresiliente und nachhaltige Bewirtschaftung der Oberflächengewässer | AE1: Aufrechterhaltung der Trinkwasserversorgung | AF1: Aufrechterhaltung der Nutzwasserversorgung | AG1: Adaptives Trockenheitsrisikomanagement mit robusten Maßnahmen | AH1: Adaptives Hochwasserrisikomanagement mit robusten Maßnahmen | AI1: Weiterführung der Datenanalyse und Forcierung weiterer abgestimmter Datenerhebungen zur Ressource Wasser und den zugrundeliegenden Einflussfaktoren | AJ1: Verbesserte Information und Koordinierung betreffend Wasserbedarf und Wassernutzung | AK1: Verstärkte Berücksichtigung der Wassertemperaturen bei wasserwirtschaftlichen Maßnahmen | AL1: Bewusster Umgang mit der Ressource Wasser | AM1: Tourismus | AN1: Verstärkte Berücksichtigung der klimabedingten Auswirkungen und Integration von Anpassungserfordernissen in Tourismusstrategien | AO1: Weiterentwicklung des Tourismusstandorts Österreich durch verstärkte Umsetzung von nachhaltigen Anpassungsmaßnahmen, die insbesondere auch zum Klimaschutz beitragen | AP1: Bereitstellung umfassender regionaler Daten als Basis für die Entwicklung touristischer Anpassungsmaßnahmen | AQ1: Forcierung eines klimafitten nachhaltigen Ganzjahrestourismus | AR1: Unterstützung klimawandelgefährdeter Wintersportregionen bei der Schaffung von schneeunabhängigen Angeboten | AS1: Stärkung eines klimafitten nachhaltigen Sommertourismus | AT1: Stärkung eines klimafitten nachhaltigen Städtetourismus | AU1: Energie | AV1: Sicherstellung einer klimaresilienten Energieinfrastruktur | AW1: Verstärkte Forschung und Markteinführung neuer Möglichkeiten zur Energiespeicherung | AX1: Forcierung dezentraler Energieerzeugung und -Einspeisungen | AY1: Flexibilisierung des Stromsystems | AZ1: Berücksichtigung der Auswirkungen des Klimawandels bei energiewirtschaftlichen Entscheidungen und Forschungsaktivitäten | BA1: Berücksichtigung der Auswirkungen des Klimawandels in Energiestrategien | BB1: Bauen und Wohnen | BC1: Umsetzung baulicher Maßnahmen im Neubau und im Bestand zum Schutz vor Hitze | BD1: Forcierte Anwendung passiver und aktiver Kühlung mit alternativen, energieeffizienten und ressourcenschonenden Technologien | BE1: Verbesserung der mikro/mesoklimatischen Bedingungen im Rahmen der Gebäude-, Stadt- und Freiraumplanung | BF1: Anpassung von Baustandards, Normen und Gesetzen an die Folgen des Klimawandels | BG1: Schutz von Gebäuden gegen Klimarisiken inkl. Risikotransfermechanismen | BH1: Erhöhung des Wasserrückhalts an bzw. auf Gebäuden und im Umfeld von Gebäuden | BI1: Prüfung und Weiterentwicklung von Förderinstrumenten zur Berücksichtigung von Aspekten des Klimawandels im Neubau und im Bestand | BJ1: Öffentlichkeitsarbeit und Bewusstseinsbildung zum Thema Anpassung an die Folgen des Klimawandels im Bereich Bauen und Wohnen | BK1: Forschung zur Anpassung an die Folgen des Klimawandels im Bereich Bauen und Wohnen | BL1: Pilotprojekte „Klimawandelangepasste Baukultur“ | BM1: Aus-, Fort- und Weiterbildung zum Thema Anpassung an die Folgen des Klimawandels im Bereich Bauen und Wohnen | BN1: Schutz vor Naturgefahren | BO1: Forcierung des Gefahren- und Risikobewusstseins sowie der Eigenverantwortung | BP1: Forcierung einer nachhaltigen Raumentwicklung unter verstärkter Einbeziehung der Gefahrenzonenplanung und Risikodarstellung | BQ1: Forcierung des Wasserrückhalts in der Fläche sowie Reaktivierung natürlicher Überflutungsflächen | BR1: Forcierung von Mess-, Prognose- und (Früh)Warnsystemen | BS1: Forcierung von F&E in Bezug auf Auswirkungen des Klimawandels auf Ereigniswahrscheinlichen und Umgang mit Unsicherheiten | BT1: Optimierung von Risikotransfermechanismen | BU1: Forcierung von Schutzmaßnahmen bei Objekten und kritischen Infrastrukturen als Beitrag zur Eigenvorsorge | BV1: Krisen- und Katastrophenschutz | BW1: Inklusive Risiko- und Krisenkommunikation zur Verbesserung des Verhaltens im Ereignisfall | BX1: Verstärkte Berücksichtigung der Risiken des Klimawandels in der nationalen Risikoanalyse | BY1: Weiterführung und Ausbau der ASDR Plattform | BZ1: Verstärkte Berücksichtigung der Auswirkungen des Klimawandels im staatlichen Krisen- und Katastrophenmanagement | CA1: Erhalt und Verbesserung der Rahmenbedingungen für ehrenamtliches Engagement im Bereich des Krisen- und Katastrophenmanagements | CB1: Forcierung partizipativer Ansätze im Risiko- und Krisenmanagement | CC1: Flexibilisierung von Finanzierungs- und Förderinstrumenten im Bereich des Krisen- und Katastrophenmanagements | CD1: Erweiterung des Aus-, Fort- und Weiterbildungsangebotes im Bereich des Krisen- und Katastrophenmanagements | CE1: Weiterführung und Vernetzung von Forschungsaktivitäten sowie Entwicklung von Innovationen mit Bezug zum Krisen- und Katastrophenmanagement | CF1: Gesundheit | CG1: Allgemeine Öffentlichkeitsarbeit zu den gesundheitlichen Folgen des Klimawandels | CH1: Aus- Fort- und Weiterbildung zu klimarelevanten Themen im Gesundheits- Pflege- und Sozialbereich | CI1: Verknüpfung und Weiterentwicklung bestehender Monitoring- und Frühwarnsysteme | CJ1: Umgang mit den gesundheitlichen Folgen von Hitze und Trockenheit | CK1: Umgang mit Vektoren und vektorübertragenen Infektionskrankheiten | CL1: Umgang mit der Ausbreitung allergener und giftiger Arten | CM1: Umgang mit Luftverschmutzung und weiteren Schadstoffen | CN1: Umgang mit gesundheitlichen Folgen von Naturgefahren | CO1: Aufrechterhaltung der Lebensmittelsicherheit unter veränderten klimatischen Bedingungen | CP1: Ökosysteme & Biodiversität | CQ1: Integration von Klimawandel in Naturschutzinstrumente | CR1: Stärkung biodiversitätsfördernder Land- und Forstwirtschaft | CS1: Stärkung gefährdeter Populationen und Arten sowie ihrer Habitate | CT1: Erhaltung und Vernetzung von Schutzgebieten und Lebensräumen | CU1: Schutz von Feuchtlebensräumen, ihrer Ökosystemleistungen und Biodiversität | CV1: Stärkung der Gewässerbiodiversität und eines integrierten Einzugsgebietsmanagements sowie Verminderung starker Gewässererwärmungen | CW1: Verbesserung der Wissensbasis durch Forschung zu Auswirkungen des Klimawandels auf Ökosysteme/Biodiversität | CX1: Verstärkte Berücksichtigung des Klimawandels in bestehenden Monitoringsystemen bzw. Ausbau von Monitoring- und Frühwarnsystemen | CY1: Stärkung der Wissensvermittlung zur Bedeutung der Biodiversität und von Ökosystemen für Klimawandelanpassung | CZ1: Erhalt von Ökosystemleistungen | DA1: Anpassung der Angebote von Freizeit- und Urlaubsaktivitäten | DB1: Berücksichtigung von Naturschutzzielen und Anpassungserfordernissen bei der Gestaltung öffentlicher und privater Gebäude und Freiflächen in Siedlungen | DC1: Berücksichtigung der Auswirkung österreichischer Aktivitäten und Klimawandelanpassungsmaßnahmen auf Ökosysteme / Biodiversität im europäischen und globalen Kontext | DD1: Verkehrsinfrastruktur und Mobilität | DE1: Sicherstellung einer klimaresilienten Verkehrsinfrastruktur für ein funktionsfähiges Verkehrssystem | DF1: Anpassung von Rechtsnormen für Bau und Betrieb von Verkehrsinfrastrukturen | DG1: Sicherstellung des thermischen Komforts in öffentlichen Verkehrsmitteln, Verkehrsstationen und deren Umgebung | DH1: Berücksichtigung von mikro-/mesoklimatischen Bedingungen bei der Verkehrs- und Freiraumplanung | DI1: Reduktion dauerhaft versiegelter Verkehrsflächen | DJ1: Ausbau und laufende Weiterentwicklung von Informations- und Frühwarnsystemen | DK1: Aus-, Fort- und Weiterbildung zum Thema Anpassung an die Folgen des Klimawandels im Bereich Verkehrsinfrastruktur | DL1: Forschung und Entwicklung zur Anpassung an die Folgen des Klimawandels im Bereich Verkehrsinfrastruktur | DM1: Bewusstseinsbildung und Pilotprojekte zu klimaresilienten Verkehrsinfrastrukturen | DN1: Raumordnung | DO1: Reduktion von weiterer Flächeninanspruchnahme, Bodenversiegelung und Zersiedelung unter Berücksichtigung der natürlichen Bodenfunktionen | DP1: Sicherung, Entwicklung und Vernetzung von multifunktionalen Frei- und Grünräumen mit naturbasierten Anpassungsfunktionen | DQ1: Forcierung von Anpassungsmaßnahmen in der Bebauungsplanung und im Baurecht | DR1: Prävention von Risiken durch Naturgefahren in der Raumordnung | DS1: Regelungen für den präventiven Umgang mit Widmungs- und Bebauungsbestand in Gefährdungs- und Restrisikobereichen | DT1: Stärkung interkommunaler, regionaler und stadtregionaler Kooperationen | DU1: Erhöhung der Klimaresilienz des Energiesystems durch Berücksichtigung von Anpassung in der Energieraumplanung | DV1: Bereitstellung, Aufbereitung und Vermittlung von praxisgerechten Daten- und Informationsgrundlagen, Kompetenz- und Kapazitätsaufbau sowie Vernetzung der Akteur:innen | DW1: „Climate Proofing“ von Raumplänen, Entwicklungskonzepten, Verfahren und raumwirksamen Projekten | DX1: Wirtschaft | DY1: Etablierung von Klimarisikomanagement als Teil des allgemeinen unternehmerischen Risikomanagements | DZ1: Erhöhung der Resilienz des Betriebsstandorts, inkl. der energetischen Versorgungssicherheit und Gewährleistung von Sicherheit und Gesundheitsschutz am Arbeitsplatz | EA1: Sicherung der Rohstoffversorgung, Zulieferung, Transportnetze und Produktion | EB1: Entwicklung von klimafreundlichen und anpassungsfördernden Produkten, technischen Verfahren und Dienstleistungen | EC1: Forcierung von adäquaten Zukunftsszenarien-basierten Risikoabschätzungen | ED1: Bewusstseinsbildung in der Bevölkerung zur Vermeidung von Schadensfällen und Stärkung der Eigenverantwortung durch die Versicherungswirtschaft | EE1: Bessere Risikostreuung für Versicherer und damit Erhöhung der Versicherbarkeit klima- bzw. wetterinduzierter Schäden | EF1: Stadt - urbane Frei- & Grünräume | EG1: Anpassung der Planungs- und Pflegestrategien für urbane Frei- und Grünräume | EH1: Anpassung des Wassermanagements für Frei- und Grünräume | EI1: Erhalt und Förderung der biologischen Vielfalt urbaner Frei- und Grünräume | EJ1: Anpassung des Bodenmanagements in urbanen Frei- und Grünräumen | EK1: Bewusstseinsbildung, Vernetzung sowie Anpassung der Aus-, Fort- und Weiterbildung aller betroffenen Gruppen (öffentlich und privat) | EL1: Ausbau der Wissensbasis durch inter- und transdisziplinäre Forschung zu urbanen Frei- und Grünräumen | EM1: Maßeinheit Output 1 | EN1: Maßeinheit Output 2 | EO1: adressierte Klimawandelfolge/Naturgefahr | EQ1: Kontrolle - Anzahl Primärverbindungen (1) | ER1: Kontrolle - Anzahl Sekundärverbindungen
A2: 1 | B2: 10 Jahreszeitenhecke | C2: grün | E2: =IF(COUNTA(F2:Q2)>0,"x","") | R2: =IF(COUNTA(S2:AA2)>0,"x","") | AB2: =IF(COUNTA(AC2:AL2)>0,"x","") | AM2: =IF(COUNTA(AN2:AT2)>0,"x","") | AU2: =IF(COUNTA(AV2:BA2)>0,"x","") | BB2: =IF(COUNTA(BC2:BM2)>0,"x","") | BN2: =IF(COUNTA(BO2:BU2)>0,"x","") | BV2: =IF(COUNTA(BW2:CE2)>0,"x","") | CF2: =IF(COUNTA(CG2:CO2)>0,"x","") | CP2: =IF(COUNTA(CQ2:DC2)>0,"x","") -> x | CR2: s | CS2: s | CT2: s | CW2: s | CY2: p | CZ2: s | DD2: =IF(COUNTA(DE2:DM2)>0,"x","") | DN2: =IF(COUNTA(DO2:DW2)>0,"x","") | DX2: =IF(COUNTA(DY2:EE2)>0,"x","") | EF2: =IF(COUNTA(EG2:EL2)>0,"x","") | EM2: Hecke | EN2: m | EO2: Klimawandel/Temperaturerhöhung allgemein | EQ2: =COUNTIF(D2:EL2,"p") -> 1 | ER2: =COUNTIF(D2:EL2,"s") -> 5
A3: 1 | B3: Agroforst - Planung | C3: smart | E3: =IF(COUNTA(F3:Q3)>0,"x","") -> x | L3: p | R3: =IF(COUNTA(S3:AA3)>0,"x","") -> x | S3: s | T3: s | Y3: s | AB3: =IF(COUNTA(AC3:AL3)>0,"x","") | AM3: =IF(COUNTA(AN3:AT3)>0,"x","") | AU3: =IF(COUNTA(AV3:BA3)>0,"x","") | BB3: =IF(COUNTA(BC3:BM3)>0,"x","") | BN3: =IF(COUNTA(BO3:BU3)>0,"x","") | BV3: =IF(COUNTA(BW3:CE3)>0,"x","") | CF3: =IF(COUNTA(CG3:CO3)>0,"x","") | CP3: =IF(COUNTA(CQ3:DC3)>0,"x","") -> x | CR3: s | CS3: s | CT3: s | CZ3: s | DD3: =IF(COUNTA(DE3:DM3)>0,"x","") | DN3: =IF(COUNTA(DO3:DW3)>0,"x","") | DX3: =IF(COUNTA(DY3:EE3)>0,"x","") | EF3: =IF(COUNTA(EG3:EL3)>0,"x","") | EM3: Plan/Konzept/Strategie/Leitlinie | EN3: sonstige (bitte spezifizieren!) | EO3: übergreifend/sonstige | EQ3: =COUNTIF(D3:EL3,"p") -> 1 | ER3: =COUNTIF(D3:EL3,"s") -> 7
A4: 1 | B4: Agroforst - Umsetzungsmaßnahme | C4: blau/grün | E4: =IF(COUNTA(F4:Q4)>0,"x","") -> x | L4: p | R4: =IF(COUNTA(S4:AA4)>0,"x","") -> x | S4: s | T4: s | Y4: s | AB4: =IF(COUNTA(AC4:AL4)>0,"x","") | AM4: =IF(COUNTA(AN4:AT4)>0,"x","") | AU4: =IF(COUNTA(AV4:BA4)>0,"x","") | BB4: =IF(COUNTA(BC4:BM4)>0,"x","") | BN4: =IF(COUNTA(BO4:BU4)>0,"x","") | BV4: =IF(COUNTA(BW4:CE4)>0,"x","") | CF4: =IF(COUNTA(CG4:CO4)>0,"x","") | CP4: =IF(COUNTA(CQ4:DC4)>0,"x","") -> x | CR4: s | CS4: s | CT4: s | CZ4: s | DD4: =IF(COUNTA(DE4:DM4)>0,"x","") | DN4: =IF(COUNTA(DO4:DW4)>0,"x","") | DX4: =IF(COUNTA(DY4:EE4)>0,"x","") | EF4: =IF(COUNTA(EG4:EL4)>0,"x","") | EM4: Landwirtschaftliche Nutzfläche | EN4: ha | EO4: übergreifend/sonstige | EQ4: =COUNTIF(D4:EL4,"p") -> 1 | ER4: =COUNTIF(D4:EL4,"s") -> 7
A5: 1 | B5: Aus-, Fort-, Weiterbildung, Beratung Bauen und Wohnen | C5: smart | E5: =IF(COUNTA(F5:Q5)>0,"x","") | R5: =IF(COUNTA(S5:AA5)>0,"x","") | AB5: =IF(COUNTA(AC5:AL5)>0,"x","") | AM5: =IF(COUNTA(AN5:AT5)>0,"x","") | AU5: =IF(COUNTA(AV5:BA5)>0,"x","") | BB5: =IF(COUNTA(BC5:BM5)>0,"x","") -> x | BM5: p | BN5: =IF(COUNTA(BO5:BU5)>0,"x","") | BV5: =IF(COUNTA(BW5:CE5)>0,"x","") | CF5: =IF(COUNTA(CG5:CO5)>0,"x","") | CP5: =IF(COUNTA(CQ5:DC5)>0,"x","") | DD5: =IF(COUNTA(DE5:DM5)>0,"x","") | DN5: =IF(COUNTA(DO5:DW5)>0,"x","") | DX5: =IF(COUNTA(DY5:EE5)>0,"x","") | EF5: =IF(COUNTA(EG5:EL5)>0,"x","") | EM5: Ausbildungsformat/Lehrgang/Kurs | EN5: ausgebildete/weitergebildete/zertifizierte Personen | EO5: übergreifend/sonstige | EQ5: =COUNTIF(D5:EL5,"p") -> 1 | ER5: =COUNTIF(D5:EL5,"s") -> 0
A6: 1 | B6: Aus-, Fort-, Weiterbildung, Beratung Energieerzeugung, -versorgung | C6: smart | E6: =IF(COUNTA(F6:Q6)>0,"x","") | R6: =IF(COUNTA(S6:AA6)>0,"x","") | AB6: =IF(COUNTA(AC6:AL6)>0,"x","") | AM6: =IF(COUNTA(AN6:AT6)>0,"x","") | AU6: =IF(COUNTA(AV6:BA6)>0,"x","") -> x | AV6: s | AW6: s | AX6: s | AY6: s | AZ6: p | BA6: s | BB6: =IF(COUNTA(BC6:BM6)>0,"x","") | BN6: =IF(COUNTA(BO6:BU6)>0,"x","") | BV6: =IF(COUNTA(BW6:CE6)>0,"x","") | CF6: =IF(COUNTA(CG6:CO6)>0,"x","") | CP6: =IF(COUNTA(CQ6:DC6)>0,"x","") | DD6: =IF(COUNTA(DE6:DM6)>0,"x","") | DN6: =IF(COUNTA(DO6:DW6)>0,"x","") -> x | DU6: s | DX6: =IF(COUNTA(DY6:EE6)>0,"x","") | EF6: =IF(COUNTA(EG6:EL6)>0,"x","") | EM6: Ausbildungsformat/Lehrgang/Kurs | EN6: ausgebildete/weitergebildete/zertifizierte Personen | EO6: übergreifend/sonstige | EQ6: =COUNTIF(D6:EL6,"p") -> 1 | ER6: =COUNTIF(D6:EL6,"s") -> 6
A7: 1 | B7: Aus-, Fort-, Weiterbildung, Beratung Forstwirtschaft | C7: smart | E7: =IF(COUNTA(F7:Q7)>0,"x","") | R7: =IF(COUNTA(S7:AA7)>0,"x","") -> x | V7: p | AB7: =IF(COUNTA(AC7:AL7)>0,"x","") | AM7: =IF(COUNTA(AN7:AT7)>0,"x","") | AU7: =IF(COUNTA(AV7:BA7)>0,"x","") | BB7: =IF(COUNTA(BC7:BM7)>0,"x","") | BN7: =IF(COUNTA(BO7:BU7)>0,"x","") | BV7: =IF(COUNTA(BW7:CE7)>0,"x","") | CF7: =IF(COUNTA(CG7:CO7)>0,"x","") | CP7: =IF(COUNTA(CQ7:DC7)>0,"x","") | DD7: =IF(COUNTA(DE7:DM7)>0,"x","") | DN7: =IF(COUNTA(DO7:DW7)>0,"x","") | DX7: =IF(COUNTA(DY7:EE7)>0,"x","") | EF7: =IF(COUNTA(EG7:EL7)>0,"x","") | EM7: Ausbildungsformat/Lehrgang/Kurs | EN7: ausgebildete/weitergebildete/zertifizierte Personen | EO7: übergreifend/sonstige | EQ7: =COUNTIF(D7:EL7,"p") -> 1 | ER7: =COUNTIF(D7:EL7,"s") -> 0
A8: 1 | B8: Aus-, Fort-, Weiterbildung, Beratung Gesundheits-, Pflege- und Sozialbereich | C8: smart | E8: =IF(COUNTA(F8:Q8)>0,"x","") | R8: =IF(COUNTA(S8:AA8)>0,"x","") | AB8: =IF(COUNTA(AC8:AL8)>0,"x","") | AM8: =IF(COUNTA(AN8:AT8)>0,"x","") | AU8: =IF(COUNTA(AV8:BA8)>0,"x","") | BB8: =IF(COUNTA(BC8:BM8)>0,"x","") | BN8: =IF(COUNTA(BO8:BU8)>0,"x","") | BV8: =IF(COUNTA(BW8:CE8)>0,"x","") | CF8: =IF(COUNTA(CG8:CO8)>0,"x","") -> x | CH8: p | CP8: =IF(COUNTA(CQ8:DC8)>0,"x","") | DD8: =IF(COUNTA(DE8:DM8)>0,"x","") | DN8: =IF(COUNTA(DO8:DW8)>0,"x","") | DX8: =IF(COUNTA(DY8:EE8)>0,"x","") | EF8: =IF(COUNTA(EG8:EL8)>0,"x","") | EM8: Ausbildungsformat/Lehrgang/Kurs | EN8: ausgebildete/weitergebildete/zertifizierte Personen | EO8: übergreifend/sonstige | EQ8: =COUNTIF(D8:EL8,"p") -> 1 | ER8: =COUNTIF(D8:EL8,"s") -> 0
A9: 1 | B9: Aus-, Fort-, Weiterbildung, Beratung Katastrophenmanagement (Feuerwehr, Rettung, Zivilschutzbeauftragte, Gemeindeverantwortliche, etc.) | C9: smart | D9: s | E9: =IF(COUNTA(F9:Q9)>0,"x","") | R9: =IF(COUNTA(S9:AA9)>0,"x","") -> x | X9: s | AB9: =IF(COUNTA(AC9:AL9)>0,"x","") -> x | AE9: s | AG9: s | AH9: s | AM9: =IF(COUNTA(AN9:AT9)>0,"x","") | AU9: =IF(COUNTA(AV9:BA9)>0,"x","") | BB9: =IF(COUNTA(BC9:BM9)>0,"x","") | BN9: =IF(COUNTA(BO9:BU9)>0,"x","") -> x | BO9: s | BV9: =IF(COUNTA(BW9:CE9)>0,"x","") -> x | CA9: s | CD9: p | CF9: =IF(COUNTA(CG9:CO9)>0,"x","") | CP9: =IF(COUNTA(CQ9:DC9)>0,"x","") | DD9: =IF(COUNTA(DE9:DM9)>0,"x","") | DN9: =IF(COUNTA(DO9:DW9)>0,"x","") | DX9: =IF(COUNTA(DY9:EE9)>0,"x","") | EF9: =IF(COUNTA(EG9:EL9)>0,"x","") | EM9: Ausbildungsformat/Lehrgang/Kurs | EN9: ausgebildete/weitergebildete/zertifizierte Personen | EO9: übergreifend/sonstige | EQ9: =COUNTIF(D9:EL9,"p") -> 1 | ER9: =COUNTIF(D9:EL9,"s") -> 7
A10: 1 | B10: Aus-, Fort-, Weiterbildung, Beratung Ökosysteme und Biodiversität, Ökosystemdienstleistungen, Naturschutz im Klimawandel (z.B. Berg-/Wanderführer:innen, Ranger:innen, Berg- und Naturwacht etc.) | C10: smart | E10: =IF(COUNTA(F10:Q10)>0,"x","") | R10: =IF(COUNTA(S10:AA10)>0,"x","") -> x | V10: s | Y10: s | AB10: =IF(COUNTA(AC10:AL10)>0,"x","") | AM10: =IF(COUNTA(AN10:AT10)>0,"x","") -> x | AO10: s | AU10: =IF(COUNTA(AV10:BA10)>0,"x","") | BB10: =IF(COUNTA(BC10:BM10)>0,"x","") | BN10: =IF(COUNTA(BO10:BU10)>0,"x","") | BV10: =IF(COUNTA(BW10:CE10)>0,"x","") | CF10: =IF(COUNTA(CG10:CO10)>0,"x","") | CP10: =IF(COUNTA(CQ10:DC10)>0,"x","") -> x | CY10: p | DA10: s | DD10: =IF(COUNTA(DE10:DM10)>0,"x","") | DN10: =IF(COUNTA(DO10:DW10)>0,"x","") | DX10: =IF(COUNTA(DY10:EE10)>0,"x","") | EF10: =IF(COUNTA(EG10:EL10)>0,"x","") | EM10: Ausbildungsformat/Lehrgang/Kurs | EN10: ausgebildete/weitergebildete/zertifizierte Personen | EO10: übergreifend/sonstige | EQ10: =COUNTIF(D10:EL10,"p") -> 1 | ER10: =COUNTIF(D10:EL10,"s") -> 4
A11: 1 | B11: Baumpflanzung im Forstbereich, Waldumbau, klimaresilienter Wald/Forst | C11: grün | E11: =IF(COUNTA(F11:Q11)>0,"x","") | R11: =IF(COUNTA(S11:AA11)>0,"x","") -> x | S11: p | Y11: s | Z11: s | AB11: =IF(COUNTA(AC11:AL11)>0,"x","") -> x | AH11: s | AM11: =IF(COUNTA(AN11:AT11)>0,"x","") | AU11: =IF(COUNTA(AV11:BA11)>0,"x","") | BB11: =IF(COUNTA(BC11:BM11)>0,"x","") | BN11: =IF(COUNTA(BO11:BU11)>0,"x","") -> x | BQ11: s | BV11: =IF(COUNTA(BW11:CE11)>0,"x","") | CF11: =IF(COUNTA(CG11:CO11)>0,"x","") | CP11: =IF(COUNTA(CQ11:DC11)>0,"x","") -> x | CR11: s | CS11: s | CT11: s | CZ11: s | DD11: =IF(COUNTA(DE11:DM11)>0,"x","") | DN11: =IF(COUNTA(DO11:DW11)>0,"x","") | DX11: =IF(COUNTA(DY11:EE11)>0,"x","") | EF11: =IF(COUNTA(EG11:EL11)>0,"x","") | EM11: Bäume | EN11: ha | EO11: übergreifend/sonstige | EQ11: =COUNTIF(D11:EL11,"p") -> 1 | ER11: =COUNTIF(D11:EL11,"s") -> 8
A12: 1 | B12: Baumpflanzung im Siedlungsbereich | C12: grün | E12: =IF(COUNTA(F12:Q12)>0,"x","") | R12: =IF(COUNTA(S12:AA12)>0,"x","") | AB12: =IF(COUNTA(AC12:AL12)>0,"x","") | AM12: =IF(COUNTA(AN12:AT12)>0,"x","") | AU12: =IF(COUNTA(AV12:BA12)>0,"x","") | BB12: =IF(COUNTA(BC12:BM12)>0,"x","") | BN12: =IF(COUNTA(BO12:BU12)>0,"x","") | BV12: =IF(COUNTA(BW12:CE12)>0,"x","") | CF12: =IF(COUNTA(CG12:CO12)>0,"x","") | CP12: =IF(COUNTA(CQ12:DC12)>0,"x","") -> x | CS12: s | CT12: s | CZ12: s | DB12: s | DD12: =IF(COUNTA(DE12:DM12)>0,"x","") | DN12: =IF(COUNTA(DO12:DW12)>0,"x","") | DX12: =IF(COUNTA(DY12:EE12)>0,"x","") | EF12: =IF(COUNTA(EG12:EL12)>0,"x","") -> x | EI12: p | EM12: Bäume | EN12: - | EO12: übergreifend/sonstige | EQ12: =COUNTIF(D12:EL12,"p") -> 1 | ER12: =COUNTIF(D12:EL12,"s") -> 4
A13: 1 | B13: Betriebliche Abläufe (Produktion, Lieferketten, Mitarbeiter:innen, Logistik, Energieversorgung, etc.) - Klimarisikoanalyse/-management | C13: smart | E13: =IF(COUNTA(F13:Q13)>0,"x","") | R13: =IF(COUNTA(S13:AA13)>0,"x","") | AB13: =IF(COUNTA(AC13:AL13)>0,"x","") -> x | AF13: s | AG13: s | AH13: s | AJ13: s | AK13: s | AM13: =IF(COUNTA(AN13:AT13)>0,"x","") | AU13: =IF(COUNTA(AV13:BA13)>0,"x","") -> x | AV13: s | AX13: s | AY13: s | BB13: =IF(COUNTA(BC13:BM13)>0,"x","") -> x | BC13: s | BD13: s | BE13: s | BG13: s | BH13: s | BN13: =IF(COUNTA(BO13:BU13)>0,"x","") -> x | BO13: s | BQ13: s | BU13: s | BV13: =IF(COUNTA(BW13:CE13)>0,"x","") | CF13: =IF(COUNTA(CG13:CO13)>0,"x","") -> x | CJ13: s | CM13: s | CN13: s | CO13: s | CP13: =IF(COUNTA(CQ13:DC13)>0,"x","") | DD13: =IF(COUNTA(DE13:DM13)>0,"x","") -> x | DE13: s | DN13: =IF(COUNTA(DO13:DW13)>0,"x","") | DX13: =IF(COUNTA(DY13:EE13)>0,"x","") -> x | DY13: p | DZ13: s | EA13: s | EB13: s | EC13: s | EF13: =IF(COUNTA(EG13:EL13)>0,"x","") | EM13: Gefahren- und Risikoanalyse | EN13: sonstige (bitte spezifizieren!) | EO13: übergreifend/sonstige | EQ13: =COUNTIF(D13:EL13,"p") -> 1 | ER13: =COUNTIF(D13:EL13,"s") -> 25
A14: 1 | B14: Betriebliche Abläufe (Produktion, Lieferketten, Mitarbeiter:innen, Logistik, Energieversorgung, etc.) - Umsetzung betriebliches Risikomanagement | C14: smart | E14: =IF(COUNTA(F14:Q14)>0,"x","") | R14: =IF(COUNTA(S14:AA14)>0,"x","") | AB14: =IF(COUNTA(AC14:AL14)>0,"x","") -> x | AF14: s | AG14: s | AH14: s | AJ14: s | AK14: s | AM14: =IF(COUNTA(AN14:AT14)>0,"x","") | AU14: =IF(COUNTA(AV14:BA14)>0,"x","") -> x | AV14: s | AX14: s | AY14: s | BB14: =IF(COUNTA(BC14:BM14)>0,"x","") -> x | BC14: s | BD14: s | BE14: s | BG14: s | BH14: s | BN14: =IF(COUNTA(BO14:BU14)>0,"x","") -> x | BO14: s | BQ14: s | BU14: s | BV14: =IF(COUNTA(BW14:CE14)>0,"x","") | CF14: =IF(COUNTA(CG14:CO14)>0,"x","") -> x | CJ14: s | CM14: s | CN14: s | CO14: s | CP14: =IF(COUNTA(CQ14:DC14)>0,"x","") | DD14: =IF(COUNTA(DE14:DM14)>0,"x","") -> x | DE14: s | DN14: =IF(COUNTA(DO14:DW14)>0,"x","") | DX14: =IF(COUNTA(DY14:EE14)>0,"x","") -> x | DY14: s | DZ14: p | EA14: s | EB14: s | EC14: s | EF14: =IF(COUNTA(EG14:EL14)>0,"x","") | EM14: Eigenvorsorge-Maßnahme | EN14: sonstige (bitte spezifizieren!) | EO14: übergreifend/sonstige | EQ14: =COUNTIF(D14:EL14,"p") -> 1 | ER14: =COUNTIF(D14:EL14,"s") -> 25
A15: 1 | B15: Bewusstseinsbildung, Kommunikation, Öffentlichkeitsarbeit allgemein/sektorübergreifend Klimawandelanpassung | C15: soft | D15: p | E15: =IF(COUNTA(F15:Q15)>0,"x","") | R15: =IF(COUNTA(S15:AA15)>0,"x","") | AB15: =IF(COUNTA(AC15:AL15)>0,"x","") | AM15: =IF(COUNTA(AN15:AT15)>0,"x","") | AU15: =IF(COUNTA(AV15:BA15)>0,"x","") | BB15: =IF(COUNTA(BC15:BM15)>0,"x","") | BN15: =IF(COUNTA(BO15:BU15)>0,"x","") | BV15: =IF(COUNTA(BW15:CE15)>0,"x","") | CF15: =IF(COUNTA(CG15:CO15)>0,"x","") | CP15: =IF(COUNTA(CQ15:DC15)>0,"x","") | DD15: =IF(COUNTA(DE15:DM15)>0,"x","") | DN15: =IF(COUNTA(DO15:DW15)>0,"x","") | DX15: =IF(COUNTA(DY15:EE15)>0,"x","") -> x | ED15: s | EF15: =IF(COUNTA(EG15:EL15)>0,"x","") | EN15: erreichte Personen | EO15: übergreifend/sonstige | EQ15: =COUNTIF(D15:EL15,"p") -> 1 | ER15: =COUNTIF(D15:EL15,"s") -> 1
A16: 1 | B16: Bewusstseinsbildung, Kommunikation, Öffentlichkeitsarbeit Bauen und Wohnen | C16: soft | E16: =IF(COUNTA(F16:Q16)>0,"x","") | R16: =IF(COUNTA(S16:AA16)>0,"x","") | AB16: =IF(COUNTA(AC16:AL16)>0,"x","") | AM16: =IF(COUNTA(AN16:AT16)>0,"x","") | AU16: =IF(COUNTA(AV16:BA16)>0,"x","") | BB16: =IF(COUNTA(BC16:BM16)>0,"x","") -> x | BJ16: p | BN16: =IF(COUNTA(BO16:BU16)>0,"x","") | BV16: =IF(COUNTA(BW16:CE16)>0,"x","") | CF16: =IF(COUNTA(CG16:CO16)>0,"x","") | CP16: =IF(COUNTA(CQ16:DC16)>0,"x","") | DD16: =IF(COUNTA(DE16:DM16)>0,"x","") | DN16: =IF(COUNTA(DO16:DW16)>0,"x","") | DX16: =IF(COUNTA(DY16:EE16)>0,"x","") -> x | ED16: s | EF16: =IF(COUNTA(EG16:EL16)>0,"x","") | EN16: erreichte Personen | EO16: übergreifend/sonstige | EQ16: =COUNTIF(D16:EL16,"p") -> 1 | ER16: =COUNTIF(D16:EL16,"s") -> 1
