Workbook
Name Regionsname: Region[[#Data],[Regionsname]]
Name soft: [1]!Output1Soft[Output 1 soft]
Name soft: Output1Soft[Output 1 soft]
Name soft: Output1Soft[Output 1 soft]

Sheet KLAR! Monitoring

Sheet Gemeinden und EW
A1: GKZ | B1: Gemeindename | C1: Bundesland | D1: Bevölkerung am 01.01.2025 | E1: GKZ | F1: Bevölkerung der Gemeinden am 01.01.2025 downgeloadet von Statistik Austria am 12.06.2025
A2: 10101 | B2: Eisenstadt | C2: Burgenland | D2: 16118 | E2: 10101
A3: 10201 | B3: Rust | C3: Burgenland | D3: 1933 | E3: 10201
A4: 10301 | B4: Breitenbrunn am Neusiedler See | C4: Burgenland | D4: 1943 | E4: 10301
A5: 10302 | B5: Donnerskirchen | C5: Burgenland | D5: 1881 | E5: 10302
A6: 10303 | B6: Großhöflein | C6: Burgenland | D6: 2078 | E6: 10303
A7: 10304 | B7: Hornstein | C7: Burgenland | D7: 3323 | E7: 10304
A8: 10305 | B8: Klingenbach | C8: Burgenland | D8: 1203 | E8: 10305
A9: 10306 | B9: Leithaprodersdorf | C9: Burgenland | D9: 1258 | E9: 10306
A10: 10307 | B10: Mörbisch am See | C10: Burgenland | D10: 2181 | E10: 10307
A11: 10308 | B11: Müllendorf | C11: Burgenland | D11: 1521 | E11: 10308
A12: 10309 | B12: Neufeld an der Leitha | C12: Burgenland | D12: 3594 | E12: 10309
A13: 10310 | B13: Oggau am Neusiedler See | C13: Burgenland | D13: 1691 | E13: 10310
... A1693: 62279 | B1693: Waldbach-Mönichwald | C1693: Steiermark | D1693: 1386 | E1693: 62279
A1694: 62280 | B1694: Fürstenfeld | C1694: #N/A | D1694: 10391 | E1694: 62280
A1695: 62311 | B1695: Edelsbach bei Feldbach | C1695: Steiermark | D1695: 1356 | E1695: 62311
A1696: 62314 | B1696: Eichkögl | C1696: Steiermark | D1696: 1387 | E1696: 62314
A1697: 62326 | B1697: Halbenrain | C1697: Steiermark | D1697: 1696 | E1697: 62326
A1698: 62330 | B1698: Jagerberg | C1698: Steiermark | D1698: 1588 | E1698: 62330
A1699: 62332 | B1699: Kapfenstein | C1699: Steiermark | D1699: 1499 | E1699: 62332
A1700: 62335 | B1700: Klöch | C1700: Steiermark | D1700: 1162 | E1700: 62335
A1701: 62343 | B1701: Mettersdorf am Saßbach | C1701: Steiermark | D1701: 1360 | E1701: 62343
A1702: 62368 | B1702: Tieschen | C1702: Steiermark | D1702: 1193 | E1702: 62368
A1703: 62372 | B1703: Unterlamm | C1703: Steiermark | D1703: 1265 | E1703: 62372
A1704: 62375 | B1704: Bad Gleichenberg | C1704: Steiermark | D1704: 5232 | E1704: 62375
A1705: 62376 | B1705: Bad Radkersburg | C1705: Steiermark | D1705: 3220 | E1705: 62376
A1706: 62377 | B1706: Deutsch Goritz | C1706: Steiermark | D1706: 1779 | E1706: 62377
... A2093: 90001 | B2093: Wien | C2093: Wien | D2093: 2028289 | E2093: 90001

Sheet Indikatoren
A1: KLAR! Monitoring | D1: KLAR! Region: | I1: â Suchbegriff für Standardmaßnahme eingeben oder leer lassen â
A2: Diese Felder sind ggf. auszufüllen! | D2: KLAR! Phase:
A3: Liste der Standardmaßnahmen (Info) | I3: á Suchbegriff für Standardmaßnahme eingeben oder leer lassen á
A4: Wird automatisch übernommen | B4: Wird automatisch übernommen | C4: Bitte die Kategorie der Maßnahme auswählen. | D4: Bitte die Nummer der Maßnahme lt. Konzept / Einreichung eintragen! [#] | E4: Bitte entspechenden Maßnahmentitel lt. Konzept/Einreichung eintragen! | F4: Bitte die Nummer des Arbeitspaketes lt. Konzept/Einreichung eintragen! [#.#] | G4: Bitte die Bezeichnung des Arbeitspaketes lt. Konzept/Einreichung eintragen! | H4: Bitte VERPFLICHTEND auswählen, ob das Arbeitspaket einen messbaren LEISTUNGSINDIKATOR hat. | I4: Bitte VERPFLICHTEND die zugehörige Standardmaßnahme auswählen. Zur Einschränkung der Auswahl Suchbegriff in Zelle I2 eingeben. | J4: Bitte den Status auswählen. | K4: Bitte den Umsetzungsgrad in % auswählen. | L4: Wird automatisch ausgewählt. | M4: Bitte die Gesamtkosten des Arbeitspaketes gem. Umsetzungsstand anführen! (Dies hat KEINE Auswirkung auf die Förderabwicklung!) | N4: Bitte hier VERPFLICHTEND einen vorgeschlagenen Indikator der beim Arbeitspaket direkt umgesetzten Handlung auswählen (z.B. Informationsveranstaltung, Retentionsbecken, Bäume…)! | O4: Bitte einen anderen Indikator wählen, wenn der vorgeschlagene Indikator nicht passt, ansonsten freilassen! | P4: Bitte geplante Anzahl für den LEISTUNGSINDIKATOR anführen (z.B. 3 wenn 3 Workshops in diesem Arbeitpaket als Leistungsindikator umgesetzt werden sollen) | Q4: Bitte tatsächliche Anzahl der im Arbeitspaket direkt umgesetzten Handlung anführen. | R4: Bitte Erläuterung anführen, wenn in der Auswahl der Standarmaßnahme (Spalte I) "Innovative/Sonstige Maßnahme" ausgewählt ist oder sonstiger Anmerkungsbedarf besteht! | S4: Wird automatisch ausgewählt. | T4: Bitte geplante Anzahl der Einheiten der durch die Umsetzung des Leistungsindikators unmittelbar erzielten Wirkung angeben (z.B. x erreichte Personen, y m³ Rückhaltevolumen, z m² Wald)! | U4: Bitte tatsächliche Anzahl der Einheiten der durch die Umsetzung des Leistungsindikators unmittelbar erzielten Wirkung angeben (z.B. x erreichte Personen, y m³ Rückhaltevolumen, z m² Wald)! | V4: Bitte angeben, ob es sich um geschätzte oder tatsächliche Werte handelt! | W4: Bitte Einheit beschreiben, wenn sonstige Einheit ausgewählt ist, die vorgegebene Einheit nicht passt oder sonstiger Anmerkungsbedarf gegeben ist! | X4: Wird automatisch ausgewählt. | Y4: Wird automatisch ausgewählt. | Z4: Wird automatisch ausgewählt. | AA4: Wird automatisch ausgewählt. | AB4: Wird automatisch ausgewählt. | AC4: Wird automatisch ausgewählt.
I5: Liste der Standardmaßnahmen (Info) | M5: Input | N5: Output 1 LEISTUNGSINDIKATOR (nicht auszahlungsrelevant gem. Förderabwicklung KPC) | S5: Output 2 Ergebnis (NICHT AUSZAHLUNGSRELEVANT gem. Förderabwicklung KPC) | X5: Outcome (primär) | AA5: Impact (primär)
A6: KLAR! Region | B6: KLAR! Phase | C6: Maßnahmen-Kategorie | D6: Maßnahmen-Nr. lt. Konzept | E6: Maßnahmentitel lt. Konzept/Einreichung | F6: Nr. Arbeitspaket | G6: Bezeichnung Arbeitspaket lt. Konzept/Einreichung | H6: Messbarer LEISTUNGSINDIKATOR? (ja/nein) | I6: Standardmaßnahme | J6: Status | K6: Umsetzungsgrad | L6: Maßnahmentyp | M6: Plan-Kosten Maßnahmen-umsetzung [€] | N6: vorgeschlagener Indikator | O6: Ggf. anderer Indikator | P6: Plan-Anzahl | Q6: IST-Anzahl | R6: Anmerkungen, Spezifizierung | S6: Einheiten | T6: PLAN-Anzahl | U6: IST-Anzahl | V6: Schätzwert/ konkreter Wert | W6: Anmerkungen, Spezifizierung | X6: Handlungsempfehlung | Y6: Nr. der HE | Z6: Ziel der Handlungsempfehlung | AA6: betroffenes Aktivitätsfeld | AB6: übergeordnetes Ziel | AC6: Klimawandelfolge/Naturgefahr
A7: =IF($E$1="","",$E$1) | B7: =IF($E$2="","",$E$2) | L7: =IF(I7="","",VLOOKUP(I7,Standardmaßnahmen!B:C,2,FALSE)) | S7: =IF(I7="","",VLOOKUP(I7,Standardmaßnahmen!B$2:EN$250,143,FALSE)) | X7: =IF(I7="","",INDEX(Standardmaßnahmen!$1:$1,INDEX(Hilfsformeln!$A:$A,ROW(A3)))) | Y7: =IF(X7="","",VLOOKUP($X7,'Handlungsempfehlungen NAS'!$D$2:$E$126,2,FALSE)) | Z7: =IF(X7="","",VLOOKUP($X7,'Handlungsempfehlungen NAS'!$D$2:$F$126,3,FALSE)) | AA7: =IF(I7="","",INDEX('Handlungsempfehlungen NAS'!$A:$A,MATCH(INDIRECT("X"&ROW()),'Handlungsempfehlungen NAS'!$D:$D,0))) | AB7: =IF(I7="","",IF(I7="Standardmaßnahme","",INDEX('Handlungsempfehlungen NAS'!$C:$C,MATCH(INDIRECT("X"&ROW()),'Handlungsempfehlungen NAS'!$D:$D,0)))) | AC7: =IF(I7="","",VLOOKUP(I7,Standardmaßnahmen!B:EO,144,FALSE))
A8: =IF($E$1="","",$E$1) | B8: =IF($E$2="","",$E$2) | L8: =IF(I8="","",VLOOKUP(I8,Standardmaßnahmen!B:C,2,FALSE)) | S8: =IF(I8="","",VLOOKUP(I8,Standardmaßnahmen!B$2:EN$250,143,FALSE)) | X8: =IF(I8="","",INDEX(Standardmaßnahmen!$1:$1,INDEX(Hilfsformeln!$A:$A,ROW(A4)))) | Y8: =IF(X8="","",VLOOKUP($X8,'Handlungsempfehlungen NAS'!$D$2:$E$126,2,FALSE)) | Z8: =IF(X8="","",VLOOKUP($X8,'Handlungsempfehlungen NAS'!$D$2:$F$126,3,FALSE)) | AA8: =IF(I8="","",INDEX('Handlungsempfehlungen NAS'!$A:$A,MATCH(INDIRECT("X"&ROW()),'Handlungsempfehlungen NAS'!$D:$D,0))) | AB8: =IF(I8="","",IF(I8="Standardmaßnahme","",INDEX('Handlungsempfehlungen NAS'!$C:$C,MATCH(INDIRECT("X"&ROW()),'Handlungsempfehlungen NAS'!$D:$D,0)))) | AC8: =IF(I8="","",VLOOKUP(I8,Standardmaßnahmen!B:EO,144,FALSE))
A9: =IF($E$1="","",$E$1) | B9: =IF($E$2="","",$E$2) | L9: =IF(I9="","",VLOOKUP(I9,Standardmaßnahmen!B:C,2,FALSE)) | S9: =IF(I9="","",VLOOKUP(I9,Standardmaßnahmen!B$2:EN$250,143,FALSE)) | X9: =IF(I9="","",INDEX(Standardmaßnahmen!$1:$1,INDEX(Hilfsformeln!$A:$A,ROW(A5)))) | Y9: =IF(X9="","",VLOOKUP($X9,'Handlungsempfehlungen NAS'!$D$2:$E$126,2,FALSE)) | Z9: =IF(X9="","",VLOOKUP($X9,'Handlungsempfehlungen NAS'!$D$2:$F$126,3,FALSE)) | AA9: =IF(I9="","",INDEX('Handlungsempfehlungen NAS'!$A:$A,MATCH(INDIRECT("X"&ROW()),'Handlungsempfehlungen NAS'!$D:$D,0))) | AB9: =IF(I9="","",IF(I9="Standardmaßnahme","",INDEX('Handlungsempfehlungen NAS'!$C:$C,MATCH(INDIRECT("X"&ROW()),'Handlungsempfehlungen NAS'!$D:$D,0)))) | AC9: =IF(I9="","",VLOOKUP(I9,Standardmaßnahmen!B:EO,144,FALSE))
A10: =IF($E$1="","",$E$1) | B10: =IF($E$2="","",$E$2) | L10: =IF(I10="","",VLOOKUP(I10,Standardmaßnahmen!B:C,2,FALSE)) | S10: =IF(I10="","",VLOOKUP(I10,Standardmaßnahmen!B$2:EN$250,143,FALSE)) | X10: =IF(I10="","",INDEX(Standardmaßnahmen!$1:$1,INDEX(Hilfsformeln!$A:$A,ROW(A6)))) | Y10: =IF(X10="","",VLOOKUP($X10,'Handlungsempfehlungen NAS'!$D$2:$E$126,2,FALSE)) | Z10: =IF(X10="","",VLOOKUP($X10,'Handlungsempfehlungen NAS'!$D$2:$F$126,3,FALSE)) | AA10: =IF(I10="","",INDEX('Handlungsempfehlungen NAS'!$A:$A,MATCH(INDIRECT("X"&ROW()),'Handlungsempfehlungen NAS'!$D:$D,0))) | AB10: =IF(I10="","",IF(I10="Standardmaßnahme","",INDEX('Handlungsempfehlungen NAS'!$C:$C,MATCH(INDIRECT("X"&ROW()),'Handlungsempfehlungen NAS'!$D:$D,0)))) | AC10: =IF(I10="","",VLOOKUP(I10,Standardmaßnahmen!B:EO,144,FALSE))
A11: =IF($E$1="","",$E$1) | B11: =IF($E$2="","",$E$2) | L11: =IF(I11="","",VLOOKUP(I11,Standardmaßnahmen!B:C,2,FALSE)) | S11: =IF(I11="","",VLOOKUP(I11,Standardmaßnahmen!B$2:EN$250,143,FALSE)) | X11: =IF(I11="","",INDEX(Standardmaßnahmen!$1:$1,INDEX(Hilfsformeln!$A:$A,ROW(A7)))) | Y11: =IF(X11="","",VLOOKUP($X11,'Handlungsempfehlungen NAS'!$D$2:$E$126,2,FALSE)) | Z11: =IF(X11="","",VLOOKUP($X11,'Handlungsempfehlungen NAS'!$D$2:$F$126,3,FALSE)) | AA11: =IF(I11="","",INDEX('Handlungsempfehlungen NAS'!$A:$A,MATCH(INDIRECT("X"&ROW()),'Handlungsempfehlungen NAS'!$D:$D,0))) | AB11: =IF(I11="","",IF(I11="Standardmaßnahme","",INDEX('Handlungsempfehlungen NAS'!$C:$C,MATCH(INDIRECT("X"&ROW()),'Handlungsempfehlungen NAS'!$D:$D,0)))) | AC11: =IF(I11="","",VLOOKUP(I11,Standardmaßnahmen!B:EO,144,FALSE))
A12: =IF($E$1="","",$E$1) | B12: =IF($E$2="","",$E$2) | L12: =IF(I12="","",VLOOKUP(I12,Standardmaßnahmen!B:C,2,FALSE)) | S12: =IF(I12="","",VLOOKUP(I12,Standardmaßnahmen!B$2:EN$250,143,FALSE)) | X12: =IF(I12="","",INDEX(Standardmaßnahmen!$1:$1,INDEX(Hilfsformeln!$A:$A,ROW(A8)))) | Y12: =IF(X12="","",VLOOKUP($X12,'Handlungsempfehlungen NAS'!$D$2:$E$126,2,FALSE)) | Z12: =IF(X12="","",VLOOKUP($X12,'Handlungsempfehlungen NAS'!$D$2:$F$126,3,FALSE)) | AA12: =IF(I12="","",INDEX('Handlungsempfehlungen NAS'!$A:$A,MATCH(INDIRECT("X"&ROW()),'Handlungsempfehlungen NAS'!$D:$D,0))) | AB12: =IF(I12="","",IF(I12="Standardmaßnahme","",INDEX('Handlungsempfehlungen NAS'!$C:$C,MATCH(INDIRECT("X"&ROW()),'Handlungsempfehlungen NAS'!$D:$D,0)))) | AC12: =IF(I12="","",VLOOKUP(I12,Standardmaßnahmen!B:EO,144,FALSE))
A13: =IF($E$1="","",$E$1) | B13: =IF($E$2="","",$E$2) | L13: =IF(I13="","",VLOOKUP(I13,Standardmaßnahmen!B:C,2,FALSE)) | S13: =IF(I13="","",VLOOKUP(I13,Standardmaßnahmen!B$2:EN$250,143,FALSE)) | X13: =IF(I13="","",INDEX(Standardmaßnahmen!$1:$1,INDEX(Hilfsformeln!$A:$A,ROW(A9)))) | Y13: =IF(X13="","",VLOOKUP($X13,'Handlungsempfehlungen NAS'!$D$2:$E$126,2,FALSE)) | Z13: =IF(X13="","",VLOOKUP($X13,'Handlungsempfehlungen NAS'!$D$2:$F$126,3,FALSE)) | AA13: =IF(I13="","",INDEX('Handlungsempfehlungen NAS'!$A:$A,MATCH(INDIRECT("X"&ROW()),'Handlungsempfehlungen NAS'!$D:$D,0))) | AB13: =IF(I13="","",IF(I13="Standardmaßnahme","",INDEX('Handlungsempfehlungen NAS'!$C:$C,MATCH(INDIRECT("X"&ROW()),'Handlungsempfehlungen NAS'!$D:$D,0)))) | AC13: =IF(I13="","",VLOOKUP(I13,Standardmaßnahmen!B:EO,144,FALSE))
A14: =IF($E$1="","",$E$1) | B14: =IF($E$2="","",$E$2) | L14: =IF(I14="","",VLOOKUP(I14,Standardmaßnahmen!B:C,2,FALSE)) | S14: =IF(I14="","",VLOOKUP(I14,Standardmaßnahmen!B$2:EN$250,143,FALSE)) | X14: =IF(I14="","",INDEX(Standardmaßnahmen!$1:$1,INDEX(Hilfsformeln!$A:$A,ROW(A10)))) | Y14: =IF(X14="","",VLOOKUP($X14,'Handlungsempfehlungen NAS'!$D$2:$E$126,2,FALSE)) | Z14: =IF(X14="","",VLOOKUP($X14,'Handlungsempfehlungen NAS'!$D$2:$F$126,3,FALSE)) | AA14: =IF(I14="","",INDEX('Handlungsempfehlungen NAS'!$A:$A,MATCH(INDIRECT("X"&ROW()),'Handlungsempfehlungen NAS'!$D:$D,0))) | AB14: =IF(I14="","",IF(I14="Standardmaßnahme","",INDEX('Handlungsempfehlungen NAS'!$C:$C,MATCH(INDIRECT("X"&ROW()),'Handlungsempfehlungen NAS'!$D:$D,0)))) | AC14: =IF(I14="","",VLOOKUP(I14,Standardmaßnahmen!B:EO,144,FALSE))
A15: =IF($E$1="","",$E$1) | B15: =IF($E$2="","",$E$2) | L15: =IF(I15="","",VLOOKUP(I15,Standardmaßnahmen!B:C,2,FALSE)) | S15: =IF(I15="","",VLOOKUP(I15,Standardmaßnahmen!B$2:EN$250,143,FALSE)) | X15: =IF(I15="","",INDEX(Standardmaßnahmen!$1:$1,INDEX(Hilfsformeln!$A:$A,ROW(A11)))) | Y15: =IF(X15="","",VLOOKUP($X15,'Handlungsempfehlungen NAS'!$D$2:$E$126,2,FALSE)) | Z15: =IF(X15="","",VLOOKUP($X15,'Handlungsempfehlungen NAS'!$D$2:$F$126,3,FALSE)) | AA15: =IF(I15="","",INDEX('Handlungsempfehlungen NAS'!$A:$A,MATCH(INDIRECT("X"&ROW()),'Handlungsempfehlungen NAS'!$D:$D,0))) | AB15: =IF(I15="","",IF(I15="Standardmaßnahme","",INDEX('Handlungsempfehlungen NAS'!$C:$C,MATCH(INDIRECT("X"&ROW()),'Handlungsempfehlungen NAS'!$D:$D,0)))) | AC15: =IF(I15="","",VLOOKUP(I15,Standardmaßnahmen!B:EO,144,FALSE))
A16: =IF($E$1="","",$E$1) | B16: =IF($E$2="","",$E$2) | L16: =IF(I16="","",VLOOKUP(I16,Standardmaßnahmen!B:C,2,FALSE)) | S16: =IF(I16="","",VLOOKUP(I16,Standardmaßnahmen!B$2:EN$250,143,FALSE)) | X16: =IF(I16="","",INDEX(Standardmaßnahmen!$1:$1,INDEX(Hilfsformeln!$A:$A,ROW(A12)))) | Y16: =IF(X16="","",VLOOKUP($X16,'Handlungsempfehlungen NAS'!$D$2:$E$126,2,FALSE)) | Z16: =IF(X16="","",VLOOKUP($X16,'Handlungsempfehlungen NAS'!$D$2:$F$126,3,FALSE)) | AA16: =IF(I16="","",INDEX('Handlungsempfehlungen NAS'!$A:$A,MATCH(INDIRECT("X"&ROW()),'Handlungsempfehlungen NAS'!$D:$D,0))) | AB16: =IF(I16="","",IF(I16="Standardmaßnahme","",INDEX('Handlungsempfehlungen NAS'!$C:$C,MATCH(INDIRECT("X"&ROW()),'Handlungsempfehlungen NAS'!$D:$D,0)))) | AC16: =IF(I16="","",VLOOKUP(I16,Standardmaßnahmen!B:EO,144,FALSE))
A17: =IF($E$1="","",$E$1) | B17: =IF($E$2="","",$E$2) | L17: =IF(I17="","",VLOOKUP(I17,Standardmaßnahmen!B:C,2,FALSE)) | S17: =IF(I17="","",VLOOKUP(I17,Standardmaßnahmen!B$2:EN$250,143,FALSE)) | X17: =IF(I17="","",INDEX(Standardmaßnahmen!$1:$1,INDEX(Hilfsformeln!$A:$A,ROW(#REF!)))) | Y17: =IF(X17="","",VLOOKUP($X17,'Handlungsempfehlungen NAS'!$D$2:$E$126,2,FALSE)) | Z17: =IF(X17="","",VLOOKUP($X17,'Handlungsempfehlungen NAS'!$D$2:$F$126,3,FALSE)) | AA17: =IF(I17="","",INDEX('Handlungsempfehlungen NAS'!$A:$A,MATCH(INDIRECT("X"&ROW()),'Handlungsempfehlungen NAS'!$D:$D,0))) | AB17: =IF(I17="","",IF(I17="Standardmaßnahme","",INDEX('Handlungsempfehlungen NAS'!$C:$C,MATCH(INDIRECT("X"&ROW()),'Handlungsempfehlungen NAS'!$D:$D,0)))) | AC17: =IF(I17="","",VLOOKUP(I17,Standardmaßnahmen!B:EO,144,FALSE))
A18: =IF($E$1="","",$E$1) | B18: =IF($E$2="","",$E$2) | L18: =IF(I18="","",VLOOKUP(I18,Standardmaßnahmen!B:C,2,FALSE)) | S18: =IF(I18="","",VLOOKUP(I18,Standardmaßnahmen!B$2:EN$250,143,FALSE)) | X18: =IF(I18="","",INDEX(Standardmaßnahmen!$1:$1,INDEX(Hilfsformeln!$A:$A,ROW(#REF!)))) | Y18: =IF(X18="","",VLOOKUP($X18,'Handlungsempfehlungen NAS'!$D$2:$E$126,2,FALSE)) | Z18: =IF(X18="","",VLOOKUP($X18,'Handlungsempfehlungen NAS'!$D$2:$F$126,3,FALSE)) | AA18: =IF(I18="","",INDEX('Handlungsempfehlungen NAS'!$A:$A,MATCH(INDIRECT("X"&ROW()),'Handlungsempfehlungen NAS'!$D:$D,0))) | AB18: =IF(I18="","",IF(I18="Standardmaßnahme","",INDEX('Handlungsempfehlungen NAS'!$C:$C,MATCH(INDIRECT("X"&ROW()),'Handlungsempfehlungen NAS'!$D:$D,0)))) | AC18: =IF(I18="","",VLOOKUP(I18,Standardmaßnahmen!B:EO,144,FALSE))
A19: =IF($E$1="","",$E$1) | B19: =IF($E$2="","",$E$2) | L19: =IF(I19="","",VLOOKUP(I19,Standardmaßnahmen!B:C,2,FALSE)) | S19: =IF(I19="","",VLOOKUP(I19,Standardmaßnahmen!B$2:EN$250,143,FALSE)) | X19: =IF(I19="","",INDEX(Standardmaßnahmen!$1:$1,INDEX(Hilfsformeln!$A:$A,ROW(#REF!)))) | Y19: =IF(X19="","",VLOOKUP($X19,'Handlungsempfehlungen NAS'!$D$2:$E$126,2,FALSE)) | Z19: =IF(X19="","",VLOOKUP($X19,'Handlungsempfehlungen NAS'!$D$2:$F$126,3,FALSE)) | AA19: =IF(I19="","",INDEX('Handlungsempfehlungen NAS'!$A:$A,MATCH(INDIRECT("X"&ROW()),'Handlungsempfehlungen NAS'!$D:$D,0))) | AB19: =IF(I19="","",IF(I19="Standardmaßnahme","",INDEX('Handlungsempfehlungen NAS'!$C:$C,MATCH(INDIRECT("X"&ROW()),'Handlungsempfehlungen NAS'!$D:$D,0)))) | AC19: =IF(I19="","",VLOOKUP(I19,Standardmaßnahmen!B:EO,144,FALSE))
A20: =IF($E$1="","",$E$1) | B20: =IF($E$2="","",$E$2) | L20: =IF(I20="","",VLOOKUP(I20,Standardmaßnahmen!B:C,2,FALSE)) | S20: =IF(I20="","",VLOOKUP(I20,Standardmaßnahmen!B$2:EN$250,143,FALSE)) | X20: =IF(I20="","",INDEX(Standardmaßnahmen!$1:$1,INDEX(Hilfsformeln!$A:$A,ROW(#REF!)))) | Y20: =IF(X20="","",VLOOKUP($X20,'Handlungsempfehlungen NAS'!$D$2:$E$126,2,FALSE)) | Z20: =IF(X20="","",VLOOKUP($X20,'Handlungsempfehlungen NAS'!$D$2:$F$126,3,FALSE)) | AA20: =IF(I20="","",INDEX('Handlungsempfehlungen NAS'!$A:$A,MATCH(INDIRECT("X"&ROW()),'Handlungsempfehlungen NAS'!$D:$D,0))) | AB20: =IF(I20="","",IF(I20="Standardmaßnahme","",INDEX('Handlungsempfehlungen NAS'!$C:$C,MATCH(INDIRECT("X"&ROW()),'Handlungsempfehlungen NAS'!$D:$D,0)))) | AC20: =IF(I20="","",VLOOKUP(I20,Standardmaßnahmen!B:EO,144,FALSE))
A21: =IF($E$1="","",$E$1) | B21: =IF($E$2="","",$E$2) | L21: =IF(I21="","",VLOOKUP(I21,Standardmaßnahmen!B:C,2,FALSE)) | S21: =IF(I21="","",VLOOKUP(I21,Standardmaßnahmen!B$2:EN$250,143,FALSE)) | X21: =IF(I21="","",INDEX(Standardmaßnahmen!$1:$1,INDEX(Hilfsformeln!$A:$A,ROW(A17)))) | Y21: =IF(X21="","",VLOOKUP($X21,'Handlungsempfehlungen NAS'!$D$2:$E$126,2,FALSE)) | Z21: =IF(X21="","",VLOOKUP($X21,'Handlungsempfehlungen NAS'!$D$2:$F$126,3,FALSE)) | AA21: =IF(I21="","",INDEX('Handlungsempfehlungen NAS'!$A:$A,MATCH(INDIRECT("X"&ROW()),'Handlungsempfehlungen NAS'!$D:$D,0))) | AB21: =IF(I21="","",IF(I21="Standardmaßnahme","",INDEX('Handlungsempfehlungen NAS'!$C:$C,MATCH(INDIRECT("X"&ROW()),'Handlungsempfehlungen NAS'!$D:$D,0)))) | AC21: =IF(I21="","",VLOOKUP(I21,Standardmaßnahmen!B:EO,144,FALSE))
A22: =IF($E$1="","",$E$1) | B22: =IF($E$2="","",$E$2) | L22: =IF(I22="","",VLOOKUP(I22,Standardmaßnahmen!B:C,2,FALSE)) | S22: =IF(I22="","",VLOOKUP(I22,Standardmaßnahmen!B$2:EN$250,143,FALSE)) | X22: =IF(I22="","",INDEX(Standardmaßnahmen!$1:$1,INDEX(Hilfsformeln!$A:$A,ROW(#REF!)))) | Y22: =IF(X22="","",VLOOKUP($X22,'Handlungsempfehlungen NAS'!$D$2:$E$126,2,FALSE)) | Z22: =IF(X22="","",VLOOKUP($X22,'Handlungsempfehlungen NAS'!$D$2:$F$126,3,FALSE)) | AA22: =IF(I22="","",INDEX('Handlungsempfehlungen NAS'!$A:$A,MATCH(INDIRECT("X"&ROW()),'Handlungsempfehlungen NAS'!$D:$D,0))) | AB22: =IF(I22="","",IF(I22="Standardmaßnahme","",INDEX('Handlungsempfehlungen NAS'!$C:$C,MATCH(INDIRECT("X"&ROW()),'Handlungsempfehlungen NAS'!$D:$D,0)))) | AC22: =IF(I22="","",VLOOKUP(I22,Standardmaßnahmen!B:EO,144,FALSE))
A23: =IF($E$1="","",$E$1) | B23: =IF($E$2="","",$E$2) | L23: =IF(I23="","",VLOOKUP(I23,Standardmaßnahmen!B:C,2,FALSE)) | S23: =IF(I23="","",VLOOKUP(I23,Standardmaßnahmen!B$2:EN$250,143,FALSE)) | X23: =IF(I23="","",INDEX(Standardmaßnahmen!$1:$1,INDEX(Hilfsformeln!$A:$A,ROW(#REF!)))) | Y23: =IF(X23="","",VLOOKUP($X23,'Handlungsempfehlungen NAS'!$D$2:$E$126,2,FALSE)) | Z23: =IF(X23="","",VLOOKUP($X23,'Handlungsempfehlungen NAS'!$D$2:$F$126,3,FALSE)) | AA23: =IF(I23="","",INDEX('Handlungsempfehlungen NAS'!$A:$A,MATCH(INDIRECT("X"&ROW()),'Handlungsempfehlungen NAS'!$D:$D,0))) | AB23: =IF(I23="","",IF(I23="Standardmaßnahme","",INDEX('Handlungsempfehlungen NAS'!$C:$C,MATCH(INDIRECT("X"&ROW()),'Handlungsempfehlungen NAS'!$D:$D,0)))) | AC23: =IF(I23="","",VLOOKUP(I23,Standardmaßnahmen!B:EO,144,FALSE))
A24: =IF($E$1="","",$E$1) | B24: =IF($E$2="","",$E$2) | L24: =IF(I24="","",VLOOKUP(I24,Standardmaßnahmen!B:C,2,FALSE)) | S24: =IF(I24="","",VLOOKUP(I24,Standardmaßnahmen!B$2:EN$250,143,FALSE)) | X24: =IF(I24="","",INDEX(Standardmaßnahmen!$1:$1,INDEX(Hilfsformeln!$A:$A,ROW(#REF!)))) | Y24: =IF(X24="","",VLOOKUP($X24,'Handlungsempfehlungen NAS'!$D$2:$E$126,2,FALSE)) | Z24: =IF(X24="","",VLOOKUP($X24,'Handlungsempfehlungen NAS'!$D$2:$F$126,3,FALSE)) | AA24: =IF(I24="","",INDEX('Handlungsempfehlungen NAS'!$A:$A,MATCH(INDIRECT("X"&ROW()),'Handlungsempfehlungen NAS'!$D:$D,0))) | AB24: =IF(I24="","",IF(I24="Standardmaßnahme","",INDEX('Handlungsempfehlungen NAS'!$C:$C,MATCH(INDIRECT("X"&ROW()),'Handlungsempfehlungen NAS'!$D:$D,0)))) | AC24: =IF(I24="","",VLOOKUP(I24,Standardmaßnahmen!B:EO,144,FALSE))
A25: =IF($E$1="","",$E$1) | B25: =IF($E$2="","",$E$2) | L25: =IF(I25="","",VLOOKUP(I25,Standardmaßnahmen!B:C,2,FALSE)) | S25: =IF(I25="","",VLOOKUP(I25,Standardmaßnahmen!B$2:EN$250,143,FALSE)) | X25: =IF(I25="","",INDEX(Standardmaßnahmen!$1:$1,INDEX(Hilfsformeln!$A:$A,ROW(#REF!)))) | Y25: =IF(X25="","",VLOOKUP($X25,'Handlungsempfehlungen NAS'!$D$2:$E$126,2,FALSE)) | Z25: =IF(X25="","",VLOOKUP($X25,'Handlungsempfehlungen NAS'!$D$2:$F$126,3,FALSE)) | AA25: =IF(I25="","",INDEX('Handlungsempfehlungen NAS'!$A:$A,MATCH(INDIRECT("X"&ROW()),'Handlungsempfehlungen NAS'!$D:$D,0))) | AB25: =IF(I25="","",IF(I25="Standardmaßnahme","",INDEX('Handlungsempfehlungen NAS'!$C:$C,MATCH(INDIRECT("X"&ROW()),'Handlungsempfehlungen NAS'!$D:$D,0)))) | AC25: =IF(I25="","",VLOOKUP(I25,Standardmaßnahmen!B:EO,144,FALSE))
A26: =IF($E$1="","",$E$1) | B26: =IF($E$2="","",$E$2) | L26: =IF(I26="","",VLOOKUP(I26,Standardmaßnahmen!B:C,2,FALSE)) | S26: =IF(I26="","",VLOOKUP(I26,Standardmaßnahmen!B$2:EN$250,143,FALSE)) | X26: =IF(I26="","",INDEX(Standardmaßnahmen!$1:$1,INDEX(Hilfsformeln!$A:$A,ROW(A22)))) | Y26: =IF(X26="","",VLOOKUP($X26,'Handlungsempfehlungen NAS'!$D$2:$E$126,2,FALSE)) | Z26: =IF(X26="","",VLOOKUP($X26,'Handlungsempfehlungen NAS'!$D$2:$F$126,3,FALSE)) | AA26: =IF(I26="","",INDEX('Handlungsempfehlungen NAS'!$A:$A,MATCH(INDIRECT("X"&ROW()),'Handlungsempfehlungen NAS'!$D:$D,0))) | AB26: =IF(I26="","",IF(I26="Standardmaßnahme","",INDEX('Handlungsempfehlungen NAS'!$C:$C,MATCH(INDIRECT("X"&ROW()),'Handlungsempfehlungen NAS'!$D:$D,0)))) | AC26: =IF(I26="","",VLOOKUP(I26,Standardmaßnahmen!B:EO,144,FALSE))
A27: =IF($E$1="","",$E$1) | B27: =IF($E$2="","",$E$2) | L27: =IF(I27="","",VLOOKUP(I27,Standardmaßnahmen!B:C,2,FALSE)) | S27: =IF(I27="","",VLOOKUP(I27,Standardmaßnahmen!B$2:EN$250,143,FALSE)) | X27: =IF(I27="","",INDEX(Standardmaßnahmen!$1:$1,INDEX(Hilfsformeln!$A:$A,ROW(#REF!)))) | Y27: =IF(X27="","",VLOOKUP($X27,'Handlungsempfehlungen NAS'!$D$2:$E$126,2,FALSE)) | Z27: =IF(X27="","",VLOOKUP($X27,'Handlungsempfehlungen NAS'!$D$2:$F$126,3,FALSE)) | AA27: =IF(I27="","",INDEX('Handlungsempfehlungen NAS'!$A:$A,MATCH(INDIRECT("X"&ROW()),'Handlungsempfehlungen NAS'!$D:$D,0))) | AB27: =IF(I27="","",IF(I27="Standardmaßnahme","",INDEX('Handlungsempfehlungen NAS'!$C:$C,MATCH(INDIRECT("X"&ROW()),'Handlungsempfehlungen NAS'!$D:$D,0)))) | AC27: =IF(I27="","",VLOOKUP(I27,Standardmaßnahmen!B:EO,144,FALSE))
A28: =IF($E$1="","",$E$1) | B28: =IF($E$2="","",$E$2) | L28: =IF(I28="","",VLOOKUP(I28,Standardmaßnahmen!B:C,2,FALSE)) | S28: =IF(I28="","",VLOOKUP(I28,Standardmaßnahmen!B$2:EN$250,143,FALSE)) | X28: =IF(I28="","",INDEX(Standardmaßnahmen!$1:$1,INDEX(Hilfsformeln!$A:$A,ROW(#REF!)))) | Y28: =IF(X28="","",VLOOKUP($X28,'Handlungsempfehlungen NAS'!$D$2:$E$126,2,FALSE)) | Z28: =IF(X28="","",VLOOKUP($X28,'Handlungsempfehlungen NAS'!$D$2:$F$126,3,FALSE)) | AA28: =IF(I28="","",INDEX('Handlungsempfehlungen NAS'!$A:$A,MATCH(INDIRECT("X"&ROW()),'Handlungsempfehlungen NAS'!$D:$D,0))) | AB28: =IF(I28="","",IF(I28="Standardmaßnahme","",INDEX('Handlungsempfehlungen NAS'!$C:$C,MATCH(INDIRECT("X"&ROW()),'Handlungsempfehlungen NAS'!$D:$D,0)))) | AC28: =IF(I28="","",VLOOKUP(I28,Standardmaßnahmen!B:EO,144,FALSE))
A29: =IF($E$1="","",$E$1) | B29: =IF($E$2="","",$E$2) | L29: =IF(I29="","",VLOOKUP(I29,Standardmaßnahmen!B:C,2,FALSE)) | S29: =IF(I29="","",VLOOKUP(I29,Standardmaßnahmen!B$2:EN$250,143,FALSE)) | X29: =IF(I29="","",INDEX(Standardmaßnahmen!$1:$1,INDEX(Hilfsformeln!$A:$A,ROW(#REF!)))) | Y29: =IF(X29="","",VLOOKUP($X29,'Handlungsempfehlungen NAS'!$D$2:$E$126,2,FALSE)) | Z29: =IF(X29="","",VLOOKUP($X29,'Handlungsempfehlungen NAS'!$D$2:$F$126,3,FALSE)) | AA29: =IF(I29="","",INDEX('Handlungsempfehlungen NAS'!$A:$A,MATCH(INDIRECT("X"&ROW()),'Handlungsempfehlungen NAS'!$D:$D,0))) | AB29: =IF(I29="","",IF(I29="Standardmaßnahme","",INDEX('Handlungsempfehlungen NAS'!$C:$C,MATCH(INDIRECT("X"&ROW()),'Handlungsempfehlungen NAS'!$D:$D,0)))) | AC29: =IF(I29="","",VLOOKUP(I29,Standardmaßnahmen!B:EO,144,FALSE))
A30: =IF($E$1="","",$E$1) | B30: =IF($E$2="","",$E$2) | L30: =IF(I30="","",VLOOKUP(I30,Standardmaßnahmen!B:C,2,FALSE)) | S30: =IF(I30="","",VLOOKUP(I30,Standardmaßnahmen!B$2:EN$250,143,FALSE)) | X30: =IF(I30="","",INDEX(Standardmaßnahmen!$1:$1,INDEX(Hilfsformeln!$A:$A,ROW(#REF!)))) | Y30: =IF(X30="","",VLOOKUP($X30,'Handlungsempfehlungen NAS'!$D$2:$E$126,2,FALSE)) | Z30: =IF(X30="","",VLOOKUP($X30,'Handlungsempfehlungen NAS'!$D$2:$F$126,3,FALSE)) | AA30: =IF(I30="","",INDEX('Handlungsempfehlungen NAS'!$A:$A,MATCH(INDIRECT("X"&ROW()),'Handlungsempfehlungen NAS'!$D:$D,0))) | AB30: =IF(I30="","",IF(I30="Standardmaßnahme","",INDEX('Handlungsempfehlungen NAS'!$C:$C,MATCH(INDIRECT("X"&ROW()),'Handlungsempfehlungen NAS'!$D:$D,0)))) | AC30: =IF(I30="","",VLOOKUP(I30,Standardmaßnahmen!B:EO,144,FALSE))
A31: =IF($E$1="","",$E$1) | B31: =IF($E$2="","",$E$2) | L31: =IF(I31="","",VLOOKUP(I31,Standardmaßnahmen!B:C,2,FALSE)) | S31: =IF(I31="","",VLOOKUP(I31,Standardmaßnahmen!B$2:EN$250,143,FALSE)) | X31: =IF(I31="","",INDEX(Standardmaßnahmen!$1:$1,INDEX(Hilfsformeln!$A:$A,ROW(A27)))) | Y31: =IF(X31="","",VLOOKUP($X31,'Handlungsempfehlungen NAS'!$D$2:$E$126,2,FALSE)) | Z31: =IF(X31="","",VLOOKUP($X31,'Handlungsempfehlungen NAS'!$D$2:$F$126,3,FALSE)) | AA31: =IF(I31="","",INDEX('Handlungsempfehlungen NAS'!$A:$A,MATCH(INDIRECT("X"&ROW()),'Handlungsempfehlungen NAS'!$D:$D,0))) | AB31: =IF(I31="","",IF(I31="Standardmaßnahme","",INDEX('Handlungsempfehlungen NAS'!$C:$C,MATCH(INDIRECT("X"&ROW()),'Handlungsempfehlungen NAS'!$D:$D,0)))) | AC31: =IF(I31="","",VLOOKUP(I31,Standardmaßnahmen!B:EO,144,FALSE))
A32: =IF($E$1="","",$E$1) | B32: =IF($E$2="","",$E$2) | L32: =IF(I32="","",VLOOKUP(I32,Standardmaßnahmen!B:C,2,FALSE)) | S32: =IF(I32="","",VLOOKUP(I32,Standardmaßnahmen!B$2:EN$250,143,FALSE)) | X32: =IF(I32="","",INDEX(Standardmaßnahmen!$1:$1,INDEX(Hilfsformeln!$A:$A,ROW(#REF!)))) | Y32: =IF(X32="","",VLOOKUP($X32,'Handlungsempfehlungen NAS'!$D$2:$E$126,2,FALSE)) | Z32: =IF(X32="","",VLOOKUP($X32,'Handlungsempfehlungen NAS'!$D$2:$F$126,3,FALSE)) | AA32: =IF(I32="","",INDEX('Handlungsempfehlungen NAS'!$A:$A,MATCH(INDIRECT("X"&ROW()),'Handlungsempfehlungen NAS'!$D:$D,0))) | AB32: =IF(I32="","",IF(I32="Standardmaßnahme","",INDEX('Handlungsempfehlungen NAS'!$C:$C,MATCH(INDIRECT("X"&ROW()),'Handlungsempfehlungen NAS'!$D:$D,0)))) | AC32: =IF(I32="","",VLOOKUP(I32,Standardmaßnahmen!B:EO,144,FALSE))
A33: =IF($E$1="","",$E$1) | B33: =IF($E$2="","",$E$2) | L33: =IF(I33="","",VLOOKUP(I33,Standardmaßnahmen!B:C,2,FALSE)) | S33: =IF(I33="","",VLOOKUP(I33,Standardmaßnahmen!B$2:EN$250,143,FALSE)) | X33: =IF(I33="","",INDEX(Standardmaßnahmen!$1:$1,INDEX(Hilfsformeln!$A:$A,ROW(#REF!)))) | Y33: =IF(X33="","",VLOOKUP($X33,'Handlungsempfehlungen NAS'!$D$2:$E$126,2,FALSE)) | Z33: =IF(X33="","",VLOOKUP($X33,'Handlungsempfehlungen NAS'!$D$2:$F$126,3,FALSE)) | AA33: =IF(I33="","",INDEX('Handlungsempfehlungen NAS'!$A:$A,MATCH(INDIRECT("X"&ROW()),'Handlungsempfehlungen NAS'!$D:$D,0))) | AB33: =IF(I33="","",IF(I33="Standardmaßnahme","",INDEX('Handlungsempfehlungen NAS'!$C:$C,MATCH(INDIRECT("X"&ROW()),'Handlungsempfehlungen NAS'!$D:$D,0)))) | AC33: =IF(I33="","",VLOOKUP(I33,Standardmaßnahmen!B:EO,144,FALSE))
A34: =IF($E$1="","",$E$1) | B34: =IF($E$2="","",$E$2) | L34: =IF(I34="","",VLOOKUP(I34,Standardmaßnahmen!B:C,2,FALSE)) | S34: =IF(I34="","",VLOOKUP(I34,Standardmaßnahmen!B$2:EN$250,143,FALSE)) | X34: =IF(I34="","",INDEX(Standardmaßnahmen!$1:$1,INDEX(Hilfsformeln!$A:$A,ROW(#REF!)))) | Y34: =IF(X34="","",VLOOKUP($X34,'Handlungsempfehlungen NAS'!$D$2:$E$126,2,FALSE)) | Z34: =IF(X34="","",VLOOKUP($X34,'Handlungsempfehlungen NAS'!$D$2:$F$126,3,FALSE)) | AA34: =IF(I34="","",INDEX('Handlungsempfehlungen NAS'!$A:$A,MATCH(INDIRECT("X"&ROW()),'Handlungsempfehlungen NAS'!$D:$D,0))) | AB34: =IF(I34="","",IF(I34="Standardmaßnahme","",INDEX('Handlungsempfehlungen NAS'!$C:$C,MATCH(INDIRECT("X"&ROW()),'Handlungsempfehlungen NAS'!$D:$D,0)))) | AC34: =IF(I34="","",VLOOKUP(I34,Standardmaßnahmen!B:EO,144,FALSE))
A35: =IF($E$1="","",$E$1) | B35: =IF($E$2="","",$E$2) | L35: =IF(I35="","",VLOOKUP(I35,Standardmaßnahmen!B:C,2,FALSE)) | S35: =IF(I35="","",VLOOKUP(I35,Standardmaßnahmen!B$2:EN$250,143,FALSE)) | X35: =IF(I35="","",INDEX(Standardmaßnahmen!$1:$1,INDEX(Hilfsformeln!$A:$A,ROW(#REF!)))) | Y35: =IF(X35="","",VLOOKUP($X35,'Handlungsempfehlungen NAS'!$D$2:$E$126,2,FALSE)) | Z35: =IF(X35="","",VLOOKUP($X35,'Handlungsempfehlungen NAS'!$D$2:$F$126,3,FALSE)) | AA35: =IF(I35="","",INDEX('Handlungsempfehlungen NAS'!$A:$A,MATCH(INDIRECT("X"&ROW()),'Handlungsempfehlungen NAS'!$D:$D,0))) | AB35: =IF(I35="","",IF(I35="Standardmaßnahme","",INDEX('Handlungsempfehlungen NAS'!$C:$C,MATCH(INDIRECT("X"&ROW()),'Handlungsempfehlungen NAS'!$D:$D,0)))) | AC35: =IF(I35="","",VLOOKUP(I35,Standardmaßnahmen!B:EO,144,FALSE))
A36: =IF($E$1="","",$E$1) | B36: =IF($E$2="","",$E$2) | L36: =IF(I36="","",VLOOKUP(I36,Standardmaßnahmen!B:C,2,FALSE)) | S36: =IF(I36="","",VLOOKUP(I36,Standardmaßnahmen!B$2:EN$250,143,FALSE)) | X36: =IF(I36="","",INDEX(Standardmaßnahmen!$1:$1,INDEX(Hilfsformeln!$A:$A,ROW(A32)))) | Y36: =IF(X36="","",VLOOKUP($X36,'Handlungsempfehlungen NAS'!$D$2:$E$126,2,FALSE)) | Z36: =IF(X36="","",VLOOKUP($X36,'Handlungsempfehlungen NAS'!$D$2:$F$126,3,FALSE)) | AA36: =IF(I36="","",INDEX('Handlungsempfehlungen NAS'!$A:$A,MATCH(INDIRECT("X"&ROW()),'Handlungsempfehlungen NAS'!$D:$D,0))) | AB36: =IF(I36="","",IF(I36="Standardmaßnahme","",INDEX('Handlungsempfehlungen NAS'!$C:$C,MATCH(INDIRECT("X"&ROW()),'Handlungsempfehlungen NAS'!$D:$D,0)))) | AC36: =IF(I36="","",VLOOKUP(I36,Standardmaßnahmen!B:EO,144,FALSE))
A37: =IF($E$1="","",$E$1) | B37: =IF($E$2="","",$E$2) | L37: =IF(I37="","",VLOOKUP(I37,Standardmaßnahmen!B:C,2,FALSE)) | S37: =IF(I37="","",VLOOKUP(I37,Standardmaßnahmen!B$2:EN$250,143,FALSE)) | X37: =IF(I37="","",INDEX(Standardmaßnahmen!$1:$1,INDEX(Hilfsformeln!$A:$A,ROW(#REF!)))) | Y37: =IF(X37="","",VLOOKUP($X37,'Handlungsempfehlungen NAS'!$D$2:$E$126,2,FALSE)) | Z37: =IF(X37="","",VLOOKUP($X37,'Handlungsempfehlungen NAS'!$D$2:$F$126,3,FALSE)) | AA37: =IF(I37="","",INDEX('Handlungsempfehlungen NAS'!$A:$A,MATCH(INDIRECT("X"&ROW()),'Handlungsempfehlungen NAS'!$D:$D,0))) | AB37: =IF(I37="","",IF(I37="Standardmaßnahme","",INDEX('Handlungsempfehlungen NAS'!$C:$C,MATCH(INDIRECT("X"&ROW()),'Handlungsempfehlungen NAS'!$D:$D,0)))) | AC37: =IF(I37="","",VLOOKUP(I37,Standardmaßnahmen!B:EO,144,FALSE))
A38: =IF($E$1="","",$E$1) | B38: =IF($E$2="","",$E$2) | L38: =IF(I38="","",VLOOKUP(I38,Standardmaßnahmen!B:C,2,FALSE)) | S38: =IF(I38="","",VLOOKUP(I38,Standardmaßnahmen!B$2:EN$250,143,FALSE)) | X38: =IF(I38="","",INDEX(Standardmaßnahmen!$1:$1,INDEX(Hilfsformeln!$A:$A,ROW(#REF!)))) | Y38: =IF(X38="","",VLOOKUP($X38,'Handlungsempfehlungen NAS'!$D$2:$E$126,2,FALSE)) | Z38: =IF(X38="","",VLOOKUP($X38,'Handlungsempfehlungen NAS'!$D$2:$F$126,3,FALSE)) | AA38: =IF(I38="","",INDEX('Handlungsempfehlungen NAS'!$A:$A,MATCH(INDIRECT("X"&ROW()),'Handlungsempfehlungen NAS'!$D:$D,0))) | AB38: =IF(I38="","",IF(I38="Standardmaßnahme","",INDEX('Handlungsempfehlungen NAS'!$C:$C,MATCH(INDIRECT("X"&ROW()),'Handlungsempfehlungen NAS'!$D:$D,0)))) | AC38: =IF(I38="","",VLOOKUP(I38,Standardmaßnahmen!B:EO,144,FALSE))
A39: =IF($E$1="","",$E$1) | B39: =IF($E$2="","",$E$2) | L39: =IF(I39="","",VLOOKUP(I39,Standardmaßnahmen!B:C,2,FALSE)) | S39: =IF(I39="","",VLOOKUP(I39,Standardmaßnahmen!B$2:EN$250,143,FALSE)) | X39: =IF(I39="","",INDEX(Standardmaßnahmen!$1:$1,INDEX(Hilfsformeln!$A:$A,ROW(#REF!)))) | Y39: =IF(X39="","",VLOOKUP($X39,'Handlungsempfehlungen NAS'!$D$2:$E$126,2,FALSE)) | Z39: =IF(X39="","",VLOOKUP($X39,'Handlungsempfehlungen NAS'!$D$2:$F$126,3,FALSE)) | AA39: =IF(I39="","",INDEX('Handlungsempfehlungen NAS'!$A:$A,MATCH(INDIRECT("X"&ROW()),'Handlungsempfehlungen NAS'!$D:$D,0))) | AB39: =IF(I39="","",IF(I39="Standardmaßnahme","",INDEX('Handlungsempfehlungen NAS'!$C:$C,MATCH(INDIRECT("X"&ROW()),'Handlungsempfehlungen NAS'!$D:$D,0)))) | AC39: =IF(I39="","",VLOOKUP(I39,Standardmaßnahmen!B:EO,144,FALSE))
A40: =IF($E$1="","",$E$1) | B40: =IF($E$2="","",$E$2) | L40: =IF(I40="","",VLOOKUP(I40,Standardmaßnahmen!B:C,2,FALSE)) | S40: =IF(I40="","",VLOOKUP(I40,Standardmaßnahmen!B$2:EN$250,143,FALSE)) | X40: =IF(I40="","",INDEX(Standardmaßnahmen!$1:$1,INDEX(Hilfsformeln!$A:$A,ROW(#REF!)))) | Y40: =IF(X40="","",VLOOKUP($X40,'Handlungsempfehlungen NAS'!$D$2:$E$126,2,FALSE)) | Z40: =IF(X40="","",VLOOKUP($X40,'Handlungsempfehlungen NAS'!$D$2:$F$126,3,FALSE)) | AA40: =IF(I40="","",INDEX('Handlungsempfehlungen NAS'!$A:$A,MATCH(INDIRECT("X"&ROW()),'Handlungsempfehlungen NAS'!$D:$D,0))) | AB40: =IF(I40="","",IF(I40="Standardmaßnahme","",INDEX('Handlungsempfehlungen NAS'!$C:$C,MATCH(INDIRECT("X"&ROW()),'Handlungsempfehlungen NAS'!$D:$D,0)))) | AC40: =IF(I40="","",VLOOKUP(I40,Standardmaßnahmen!B:EO,144,FALSE))
A41: =IF($E$1="","",$E$1) | B41: =IF($E$2="","",$E$2) | L41: =IF(I41="","",VLOOKUP(I41,Standardmaßnahmen!B:C,2,FALSE)) | S41: =IF(I41="","",VLOOKUP(I41,Standardmaßnahmen!B$2:EN$250,143,FALSE)) | X41: =IF(I41="","",INDEX(Standardmaßnahmen!$1:$1,INDEX(Hilfsformeln!$A:$A,ROW(A37)))) | Y41: =IF(X41="","",VLOOKUP($X41,'Handlungsempfehlungen NAS'!$D$2:$E$126,2,FALSE)) | Z41: =IF(X41="","",VLOOKUP($X41,'Handlungsempfehlungen NAS'!$D$2:$F$126,3,FALSE)) | AA41: =IF(I41="","",INDEX('Handlungsempfehlungen NAS'!$A:$A,MATCH(INDIRECT("X"&ROW()),'Handlungsempfehlungen NAS'!$D:$D,0))) | AB41: =IF(I41="","",IF(I41="Standardmaßnahme","",INDEX('Handlungsempfehlungen NAS'!$C:$C,MATCH(INDIRECT("X"&ROW()),'Handlungsempfehlungen NAS'!$D:$D,0)))) | AC41: =IF(I41="","",VLOOKUP(I41,Standardmaßnahmen!B:EO,144,FALSE))
A42: =IF($E$1="","",$E$1) | B42: =IF($E$2="","",$E$2) | L42: =IF(I42="","",VLOOKUP(I42,Standardmaßnahmen!B:C,2,FALSE)) | S42: =IF(I42="","",VLOOKUP(I42,Standardmaßnahmen!B$2:EN$250,143,FALSE)) | X42: =IF(I42="","",INDEX(Standardmaßnahmen!$1:$1,INDEX(Hilfsformeln!$A:$A,ROW(#REF!)))) | Y42: =IF(X42="","",VLOOKUP($X42,'Handlungsempfehlungen NAS'!$D$2:$E$126,2,FALSE)) | Z42: =IF(X42="","",VLOOKUP($X42,'Handlungsempfehlungen NAS'!$D$2:$F$126,3,FALSE)) | AA42: =IF(I42="","",INDEX('Handlungsempfehlungen NAS'!$A:$A,MATCH(INDIRECT("X"&ROW()),'Handlungsempfehlungen NAS'!$D:$D,0))) | AB42: =IF(I42="","",IF(I42="Standardmaßnahme","",INDEX('Handlungsempfehlungen NAS'!$C:$C,MATCH(INDIRECT("X"&ROW()),'Handlungsempfehlungen NAS'!$D:$D,0)))) | AC42: =IF(I42="","",VLOOKUP(I42,Standardmaßnahmen!B:EO,144,FALSE))
A43: =IF($E$1="","",$E$1) | B43: =IF($E$2="","",$E$2) | L43: =IF(I43="","",VLOOKUP(I43,Standardmaßnahmen!B:C,2,FALSE)) | S43: =IF(I43="","",VLOOKUP(I43,Standardmaßnahmen!B$2:EN$250,143,FALSE)) | X43: =IF(I43="","",INDEX(Standardmaßnahmen!$1:$1,INDEX(Hilfsformeln!$A:$A,ROW(#REF!)))) | Y43: =IF(X43="","",VLOOKUP($X43,'Handlungsempfehlungen NAS'!$D$2:$E$126,2,FALSE)) | Z43: =IF(X43="","",VLOOKUP($X43,'Handlungsempfehlungen NAS'!$D$2:$F$126,3,FALSE)) | AA43: =IF(I43="","",INDEX('Handlungsempfehlungen NAS'!$A:$A,MATCH(INDIRECT("X"&ROW()),'Handlungsempfehlungen NAS'!$D:$D,0))) | AB43: =IF(I43="","",IF(I43="Standardmaßnahme","",INDEX('Handlungsempfehlungen NAS'!$C:$C,MATCH(INDIRECT("X"&ROW()),'Handlungsempfehlungen NAS'!$D:$D,0)))) | AC43: =IF(I43="","",VLOOKUP(I43,Standardmaßnahmen!B:EO,144,FALSE))
A44: =IF($E$1="","",$E$1) | B44: =IF($E$2="","",$E$2) | L44: =IF(I44="","",VLOOKUP(I44,Standardmaßnahmen!B:C,2,FALSE)) | S44: =IF(I44="","",VLOOKUP(I44,Standardmaßnahmen!B$2:EN$250,143,FALSE)) | X44: =IF(I44="","",INDEX(Standardmaßnahmen!$1:$1,INDEX(Hilfsformeln!$A:$A,ROW(#REF!)))) | Y44: =IF(X44="","",VLOOKUP($X44,'Handlungsempfehlungen NAS'!$D$2:$E$126,2,FALSE)) | Z44: =IF(X44="","",VLOOKUP($X44,'Handlungsempfehlungen NAS'!$D$2:$F$126,3,FALSE)) | AA44: =IF(I44="","",INDEX('Handlungsempfehlungen NAS'!$A:$A,MATCH(INDIRECT("X"&ROW()),'Handlungsempfehlungen NAS'!$D:$D,0))) | AB44: =IF(I44="","",IF(I44="Standardmaßnahme","",INDEX('Handlungsempfehlungen NAS'!$C:$C,MATCH(INDIRECT("X"&ROW()),'Handlungsempfehlungen NAS'!$D:$D,0)))) | AC44: =IF(I44="","",VLOOKUP(I44,Standardmaßnahmen!B:EO,144,FALSE))
A45: =IF($E$1="","",$E$1) | B45: =IF($E$2="","",$E$2) | L45: =IF(I45="","",VLOOKUP(I45,Standardmaßnahmen!B:C,2,FALSE)) | S45: =IF(I45="","",VLOOKUP(I45,Standardmaßnahmen!B$2:EN$250,143,FALSE)) | X45: =IF(I45="","",INDEX(Standardmaßnahmen!$1:$1,INDEX(Hilfsformeln!$A:$A,ROW(#REF!)))) | Y45: =IF(X45="","",VLOOKUP($X45,'Handlungsempfehlungen NAS'!$D$2:$E$126,2,FALSE)) | Z45: =IF(X45="","",VLOOKUP($X45,'Handlungsempfehlungen NAS'!$D$2:$F$126,3,FALSE)) | AA45: =IF(I45="","",INDEX('Handlungsempfehlungen NAS'!$A:$A,MATCH(INDIRECT("X"&ROW()),'Handlungsempfehlungen NAS'!$D:$D,0))) | AB45: =IF(I45="","",IF(I45="Standardmaßnahme","",INDEX('Handlungsempfehlungen NAS'!$C:$C,MATCH(INDIRECT("X"&ROW()),'Handlungsempfehlungen NAS'!$D:$D,0)))) | AC45: =IF(I45="","",VLOOKUP(I45,Standardmaßnahmen!B:EO,144,FALSE))
A46: =IF($E$1="","",$E$1) | B46: =IF($E$2="","",$E$2) | L46: =IF(I46="","",VLOOKUP(I46,Standardmaßnahmen!B:C,2,FALSE)) | S46: =IF(I46="","",VLOOKUP(I46,Standardmaßnahmen!B$2:EN$250,143,FALSE)) | X46: =IF(I46="","",INDEX(Standardmaßnahmen!$1:$1,INDEX(Hilfsformeln!$A:$A,ROW(A42)))) | Y46: =IF(X46="","",VLOOKUP($X46,'Handlungsempfehlungen NAS'!$D$2:$E$126,2,FALSE)) | Z46: =IF(X46="","",VLOOKUP($X46,'Handlungsempfehlungen NAS'!$D$2:$F$126,3,FALSE)) | AA46: =IF(I46="","",INDEX('Handlungsempfehlungen NAS'!$A:$A,MATCH(INDIRECT("X"&ROW()),'Handlungsempfehlungen NAS'!$D:$D,0))) | AB46: =IF(I46="","",IF(I46="Standardmaßnahme","",INDEX('Handlungsempfehlungen NAS'!$C:$C,MATCH(INDIRECT("X"&ROW()),'Handlungsempfehlungen NAS'!$D:$D,0)))) | AC46: =IF(I46="","",VLOOKUP(I46,Standardmaßnahmen!B:EO,144,FALSE))
A47: =IF($E$1="","",$E$1) | B47: =IF($E$2="","",$E$2) | L47: =IF(I47="","",VLOOKUP(I47,Standardmaßnahmen!B:C,2,FALSE)) | S47: =IF(I47="","",VLOOKUP(I47,Standardmaßnahmen!B$2:EN$250,143,FALSE)) | X47: =IF(I47="","",INDEX(Standardmaßnahmen!$1:$1,INDEX(Hilfsformeln!$A:$A,ROW(#REF!)))) | Y47: =IF(X47="","",VLOOKUP($X47,'Handlungsempfehlungen NAS'!$D$2:$E$126,2,FALSE)) | Z47: =IF(X47="","",VLOOKUP($X47,'Handlungsempfehlungen NAS'!$D$2:$F$126,3,FALSE)) | AA47: =IF(I47="","",INDEX('Handlungsempfehlungen NAS'!$A:$A,MATCH(INDIRECT("X"&ROW()),'Handlungsempfehlungen NAS'!$D:$D,0))) | AB47: =IF(I47="","",IF(I47="Standardmaßnahme","",INDEX('Handlungsempfehlungen NAS'!$C:$C,MATCH(INDIRECT("X"&ROW()),'Handlungsempfehlungen NAS'!$D:$D,0)))) | AC47: =IF(I47="","",VLOOKUP(I47,Standardmaßnahmen!B:EO,144,FALSE))
A48: =IF($E$1="","",$E$1) | B48: =IF($E$2="","",$E$2) | L48: =IF(I48="","",VLOOKUP(I48,Standardmaßnahmen!B:C,2,FALSE)) | S48: =IF(I48="","",VLOOKUP(I48,Standardmaßnahmen!B$2:EN$250,143,FALSE)) | X48: =IF(I48="","",INDEX(Standardmaßnahmen!$1:$1,INDEX(Hilfsformeln!$A:$A,ROW(#REF!)))) | Y48: =IF(X48="","",VLOOKUP($X48,'Handlungsempfehlungen NAS'!$D$2:$E$126,2,FALSE)) | Z48: =IF(X48="","",VLOOKUP($X48,'Handlungsempfehlungen NAS'!$D$2:$F$126,3,FALSE)) | AA48: =IF(I48="","",INDEX('Handlungsempfehlungen NAS'!$A:$A,MATCH(INDIRECT("X"&ROW()),'Handlungsempfehlungen NAS'!$D:$D,0))) | AB48: =IF(I48="","",IF(I48="Standardmaßnahme","",INDEX('Handlungsempfehlungen NAS'!$C:$C,MATCH(INDIRECT("X"&ROW()),'Handlungsempfehlungen NAS'!$D:$D,0)))) | AC48: =IF(I48="","",VLOOKUP(I48,Standardmaßnahmen!B:EO,144,FALSE))
A49: =IF($E$1="","",$E$1) | B49: =IF($E$2="","",$E$2) | L49: =IF(I49="","",VLOOKUP(I49,Standardmaßnahmen!B:C,2,FALSE)) | S49: =IF(I49="","",VLOOKUP(I49,Standardmaßnahmen!B$2:EN$250,143,FALSE)) | X49: =IF(I49="","",INDEX(Standardmaßnahmen!$1:$1,INDEX(Hilfsformeln!$A:$A,ROW(#REF!)))) | Y49: =IF(X49="","",VLOOKUP($X49,'Handlungsempfehlungen NAS'!$D$2:$E$126,2,FALSE)) | Z49: =IF(X49="","",VLOOKUP($X49,'Handlungsempfehlungen NAS'!$D$2:$F$126,3,FALSE)) | AA49: =IF(I49="","",INDEX('Handlungsempfehlungen NAS'!$A:$A,MATCH(INDIRECT("X"&ROW()),'Handlungsempfehlungen NAS'!$D:$D,0))) | AB49: =IF(I49="","",IF(I49="Standardmaßnahme","",INDEX('Handlungsempfehlungen NAS'!$C:$C,MATCH(INDIRECT("X"&ROW()),'Handlungsempfehlungen NAS'!$D:$D,0)))) | AC49: =IF(I49="","",VLOOKUP(I49,Standardmaßnahmen!B:EO,144,FALSE))
A50: =IF($E$1="","",$E$1) | B50: =IF($E$2="","",$E$2) | L50: =IF(I50="","",VLOOKUP(I50,Standardmaßnahmen!B:C,2,FALSE)) | S50: =IF(I50="","",VLOOKUP(I50,Standardmaßnahmen!B$2:EN$250,143,FALSE)) | X50: =IF(I50="","",INDEX(Standardmaßnahmen!$1:$1,INDEX(Hilfsformeln!$A:$A,ROW(#REF!)))) | Y50: =IF(X50="","",VLOOKUP($X50,'Handlungsempfehlungen NAS'!$D$2:$E$126,2,FALSE)) | Z50: =IF(X50="","",VLOOKUP($X50,'Handlungsempfehlungen NAS'!$D$2:$F$126,3,FALSE)) | AA50: =IF(I50="","",INDEX('Handlungsempfehlungen NAS'!$A:$A,MATCH(INDIRECT("X"&ROW()),'Handlungsempfehlungen NAS'!$D:$D,0))) | AB50: =IF(I50="","",IF(I50="Standardmaßnahme","",INDEX('Handlungsempfehlungen NAS'!$C:$C,MATCH(INDIRECT("X"&ROW()),'Handlungsempfehlungen NAS'!$D:$D,0)))) | AC50: =IF(I50="","",VLOOKUP(I50,Standardmaßnahmen!B:EO,144,FALSE))
A51: =IF($E$1="","",$E$1) | B51: =IF($E$2="","",$E$2) | L51: =IF(I51="","",VLOOKUP(I51,Standardmaßnahmen!B:C,2,FALSE)) | S51: =IF(I51="","",VLOOKUP(I51,Standardmaßnahmen!B$2:EN$250,143,FALSE)) | X51: =IF(I51="","",INDEX(Standardmaßnahmen!$1:$1,INDEX(Hilfsformeln!$A:$A,ROW(A47)))) | Y51: =IF(X51="","",VLOOKUP($X51,'Handlungsempfehlungen NAS'!$D$2:$E$126,2,FALSE)) | Z51: =IF(X51="","",VLOOKUP($X51,'Handlungsempfehlungen NAS'!$D$2:$F$126,3,FALSE)) | AA51: =IF(I51="","",INDEX('Handlungsempfehlungen NAS'!$A:$A,MATCH(INDIRECT("X"&ROW()),'Handlungsempfehlungen NAS'!$D:$D,0))) | AB51: =IF(I51="","",IF(I51="Standardmaßnahme","",INDEX('Handlungsempfehlungen NAS'!$C:$C,MATCH(INDIRECT("X"&ROW()),'Handlungsempfehlungen NAS'!$D:$D,0)))) | AC51: =IF(I51="","",VLOOKUP(I51,Standardmaßnahmen!B:EO,144,FALSE))
A52: =IF($E$1="","",$E$1) | B52: =IF($E$2="","",$E$2) | L52: =IF(I52="","",VLOOKUP(I52,Standardmaßnahmen!B:C,2,FALSE)) | S52: =IF(I52="","",VLOOKUP(I52,Standardmaßnahmen!B$2:EN$250,143,FALSE)) | X52: =IF(I52="","",INDEX(Standardmaßnahmen!$1:$1,INDEX(Hilfsformeln!$A:$A,ROW(#REF!)))) | Y52: =IF(X52="","",VLOOKUP($X52,'Handlungsempfehlungen NAS'!$D$2:$E$126,2,FALSE)) | Z52: =IF(X52="","",VLOOKUP($X52,'Handlungsempfehlungen NAS'!$D$2:$F$126,3,FALSE)) | AA52: =IF(I52="","",INDEX('Handlungsempfehlungen NAS'!$A:$A,MATCH(INDIRECT("X"&ROW()),'Handlungsempfehlungen NAS'!$D:$D,0))) | AB52: =IF(I52="","",IF(I52="Standardmaßnahme","",INDEX('Handlungsempfehlungen NAS'!$C:$C,MATCH(INDIRECT("X"&ROW()),'Handlungsempfehlungen NAS'!$D:$D,0)))) | AC52: =IF(I52="","",VLOOKUP(I52,Standardmaßnahmen!B:EO,144,FALSE))
A53: =IF($E$1="","",$E$1) | B53: =IF($E$2="","",$E$2) | L53: =IF(I53="","",VLOOKUP(I53,Standardmaßnahmen!B:C,2,FALSE)) | S53: =IF(I53="","",VLOOKUP(I53,Standardmaßnahmen!B$2:EN$250,143,FALSE)) | X53: =IF(I53="","",INDEX(Standardmaßnahmen!$1:$1,INDEX(Hilfsformeln!$A:$A,ROW(#REF!)))) | Y53: =IF(X53="","",VLOOKUP($X53,'Handlungsempfehlungen NAS'!$D$2:$E$126,2,FALSE)) | Z53: =IF(X53="","",VLOOKUP($X53,'Handlungsempfehlungen NAS'!$D$2:$F$126,3,FALSE)) | AA53: =IF(I53="","",INDEX('Handlungsempfehlungen NAS'!$A:$A,MATCH(INDIRECT("X"&ROW()),'Handlungsempfehlungen NAS'!$D:$D,0))) | AB53: =IF(I53="","",IF(I53="Standardmaßnahme","",INDEX('Handlungsempfehlungen NAS'!$C:$C,MATCH(INDIRECT("X"&ROW()),'Handlungsempfehlungen NAS'!$D:$D,0)))) | AC53: =IF(I53="","",VLOOKUP(I53,Standardmaßnahmen!B:EO,144,FALSE))
A54: =IF($E$1="","",$E$1) | B54: =IF($E$2="","",$E$2) | L54: =IF(I54="","",VLOOKUP(I54,Standardmaßnahmen!B:C,2,FALSE)) | S54: =IF(I54="","",VLOOKUP(I54,Standardmaßnahmen!B$2:EN$250,143,FALSE)) | X54: =IF(I54="","",INDEX(Standardmaßnahmen!$1:$1,INDEX(Hilfsformeln!$A:$A,ROW(#REF!)))) | Y54: =IF(X54="","",VLOOKUP($X54,'Handlungsempfehlungen NAS'!$D$2:$E$126,2,FALSE)) | Z54: =IF(X54="","",VLOOKUP($X54,'Handlungsempfehlungen NAS'!$D$2:$F$126,3,FALSE)) | AA54: =IF(I54="","",INDEX('Handlungsempfehlungen NAS'!$A:$A,MATCH(INDIRECT("X"&ROW()),'Handlungsempfehlungen NAS'!$D:$D,0))) | AB54: =IF(I54="","",IF(I54="Standardmaßnahme","",INDEX('Handlungsempfehlungen NAS'!$C:$C,MATCH(INDIRECT("X"&ROW()),'Handlungsempfehlungen NAS'!$D:$D,0)))) | AC54: =IF(I54="","",VLOOKUP(I54,Standardmaßnahmen!B:EO,144,FALSE))
A55: =IF($E$1="","",$E$1) | B55: =IF($E$2="","",$E$2) | L55: =IF(I55="","",VLOOKUP(I55,Standardmaßnahmen!B:C,2,FALSE)) | S55: =IF(I55="","",VLOOKUP(I55,Standardmaßnahmen!B$2:EN$250,143,FALSE)) | X55: =IF(I55="","",INDEX(Standardmaßnahmen!$1:$1,INDEX(Hilfsformeln!$A:$A,ROW(#REF!)))) | Y55: =IF(X55="","",VLOOKUP($X55,'Handlungsempfehlungen NAS'!$D$2:$E$126,2,FALSE)) | Z55: =IF(X55="","",VLOOKUP($X55,'Handlungsempfehlungen NAS'!$D$2:$F$126,3,FALSE)) | AA55: =IF(I55="","",INDEX('Handlungsempfehlungen NAS'!$A:$A,MATCH(INDIRECT("X"&ROW()),'Handlungsempfehlungen NAS'!$D:$D,0))) | AB55: =IF(I55="","",IF(I55="Standardmaßnahme","",INDEX('Handlungsempfehlungen NAS'!$C:$C,MATCH(INDIRECT("X"&ROW()),'Handlungsempfehlungen NAS'!$D:$D,0)))) | AC55: =IF(I55="","",VLOOKUP(I55,Standardmaßnahmen!B:EO,144,FALSE))
A56: =IF($E$1="","",$E$1) | B56: =IF($E$2="","",$E$2) | L56: =IF(I56="","",VLOOKUP(I56,Standardmaßnahmen!B:C,2,FALSE)) | S56: =IF(I56="","",VLOOKUP(I56,Standardmaßnahmen!B$2:EN$250,143,FALSE)) | X56: =IF(I56="","",INDEX(Standardmaßnahmen!$1:$1,INDEX(Hilfsformeln!$A:$A,ROW(A52)))) | Y56: =IF(X56="","",VLOOKUP($X56,'Handlungsempfehlungen NAS'!$D$2:$E$126,2,FALSE)) | Z56: =IF(X56="","",VLOOKUP($X56,'Handlungsempfehlungen NAS'!$D$2:$F$126,3,FALSE)) | AA56: =IF(I56="","",INDEX('Handlungsempfehlungen NAS'!$A:$A,MATCH(INDIRECT("X"&ROW()),'Handlungsempfehlungen NAS'!$D:$D,0))) | AB56: =IF(I56="","",IF(I56="Standardmaßnahme","",INDEX('Handlungsempfehlungen NAS'!$C:$C,MATCH(INDIRECT("X"&ROW()),'Handlungsempfehlungen NAS'!$D:$D,0)))) | AC56: =IF(I56="","",VLOOKUP(I56,Standardmaßnahmen!B:EO,144,FALSE))
A57: =IF($E$1="","",$E$1) | B57: =IF($E$2="","",$E$2) | L57: =IF(I57="","",VLOOKUP(I57,Standardmaßnahmen!B:C,2,FALSE)) | S57: =IF(I57="","",VLOOKUP(I57,Standardmaßnahmen!B$2:EN$250,143,FALSE)) | X57: =IF(I57="","",INDEX(Standardmaßnahmen!$1:$1,INDEX(Hilfsformeln!$A:$A,ROW(#REF!)))) | Y57: =IF(X57="","",VLOOKUP($X57,'Handlungsempfehlungen NAS'!$D$2:$E$126,2,FALSE)) | Z57: =IF(X57="","",VLOOKUP($X57,'Handlungsempfehlungen NAS'!$D$2:$F$126,3,FALSE)) | AA57: =IF(I57="","",INDEX('Handlungsempfehlungen NAS'!$A:$A,MATCH(INDIRECT("X"&ROW()),'Handlungsempfehlungen NAS'!$D:$D,0))) | AB57: =IF(I57="","",IF(I57="Standardmaßnahme","",INDEX('Handlungsempfehlungen NAS'!$C:$C,MATCH(INDIRECT("X"&ROW()),'Handlungsempfehlungen NAS'!$D:$D,0)))) | AC57: =IF(I57="","",VLOOKUP(I57,Standardmaßnahmen!B:EO,144,FALSE))
A58: =IF($E$1="","",$E$1) | B58: =IF($E$2="","",$E$2) | L58: =IF(I58="","",VLOOKUP(I58,Standardmaßnahmen!B:C,2,FALSE)) | S58: =IF(I58="","",VLOOKUP(I58,Standardmaßnahmen!B$2:EN$250,143,FALSE)) | X58: =IF(I58="","",INDEX(Standardmaßnahmen!$1:$1,INDEX(Hilfsformeln!$A:$A,ROW(#REF!)))) | Y58: =IF(X58="","",VLOOKUP($X58,'Handlungsempfehlungen NAS'!$D$2:$E$126,2,FALSE)) | Z58: =IF(X58="","",VLOOKUP($X58,'Handlungsempfehlungen NAS'!$D$2:$F$126,3,FALSE)) | AA58: =IF(I58="","",INDEX('Handlungsempfehlungen NAS'!$A:$A,MATCH(INDIRECT("X"&ROW()),'Handlungsempfehlungen NAS'!$D:$D,0))) | AB58: =IF(I58="","",IF(I58="Standardmaßnahme","",INDEX('Handlungsempfehlungen NAS'!$C:$C,MATCH(INDIRECT("X"&ROW()),'Handlungsempfehlungen NAS'!$D:$D,0)))) | AC58: =IF(I58="","",VLOOKUP(I58,Standardmaßnahmen!B:EO,144,FALSE))
A59: =IF($E$1="","",$E$1) | B59: =IF($E$2="","",$E$2) | L59: =IF(I59="","",VLOOKUP(I59,Standardmaßnahmen!B:C,2,FALSE)) | S59: =IF(I59="","",VLOOKUP(I59,Standardmaßnahmen!B$2:EN$250,143,FALSE)) | X59: =IF(I59="","",INDEX(Standardmaßnahmen!$1:$1,INDEX(Hilfsformeln!$A:$A,ROW(#REF!)))) | Y59: =IF(X59="","",VLOOKUP($X59,'Handlungsempfehlungen NAS'!$D$2:$E$126,2,FALSE)) | Z59: =IF(X59="","",VLOOKUP($X59,'Handlungsempfehlungen NAS'!$D$2:$F$126,3,FALSE)) | AA59: =IF(I59="","",INDEX('Handlungsempfehlungen NAS'!$A:$A,MATCH(INDIRECT("X"&ROW()),'Handlungsempfehlungen NAS'!$D:$D,0))) | AB59: =IF(I59="","",IF(I59="Standardmaßnahme","",INDEX('Handlungsempfehlungen NAS'!$C:$C,MATCH(INDIRECT("X"&ROW()),'Handlungsempfehlungen NAS'!$D:$D,0)))) | AC59: =IF(I59="","",VLOOKUP(I59,Standardmaßnahmen!B:EO,144,FALSE))
A60: =IF($E$1="","",$E$1) | B60: =IF($E$2="","",$E$2) | L60: =IF(I60="","",VLOOKUP(I60,Standardmaßnahmen!B:C,2,FALSE)) | S60: =IF(I60="","",VLOOKUP(I60,Standardmaßnahmen!B$2:EN$250,143,FALSE)) | X60: =IF(I60="","",INDEX(Standardmaßnahmen!$1:$1,INDEX(Hilfsformeln!$A:$A,ROW(#REF!)))) | Y60: =IF(X60="","",VLOOKUP($X60,'Handlungsempfehlungen NAS'!$D$2:$E$126,2,FALSE)) | Z60: =IF(X60="","",VLOOKUP($X60,'Handlungsempfehlungen NAS'!$D$2:$F$126,3,FALSE)) | AA60: =IF(I60="","",INDEX('Handlungsempfehlungen NAS'!$A:$A,MATCH(INDIRECT("X"&ROW()),'Handlungsempfehlungen NAS'!$D:$D,0))) | AB60: =IF(I60="","",IF(I60="Standardmaßnahme","",INDEX('Handlungsempfehlungen NAS'!$C:$C,MATCH(INDIRECT("X"&ROW()),'Handlungsempfehlungen NAS'!$D:$D,0)))) | AC60: =IF(I60="","",VLOOKUP(I60,Standardmaßnahmen!B:EO,144,FALSE))
A61: =IF($E$1="","",$E$1) | B61: =IF($E$2="","",$E$2) | L61: =IF(I61="","",VLOOKUP(I61,Standardmaßnahmen!B:C,2,FALSE)) | S61: =IF(I61="","",VLOOKUP(I61,Standardmaßnahmen!B$2:EN$250,143,FALSE)) | X61: =IF(I61="","",INDEX(Standardmaßnahmen!$1:$1,INDEX(Hilfsformeln!$A:$A,ROW(A57)))) | Y61: =IF(X61="","",VLOOKUP($X61,'Handlungsempfehlungen NAS'!$D$2:$E$126,2,FALSE)) | Z61: =IF(X61="","",VLOOKUP($X61,'Handlungsempfehlungen NAS'!$D$2:$F$126,3,FALSE)) | AA61: =IF(I61="","",INDEX('Handlungsempfehlungen NAS'!$A:$A,MATCH(INDIRECT("X"&ROW()),'Handlungsempfehlungen NAS'!$D:$D,0))) | AB61: =IF(I61="","",IF(I61="Standardmaßnahme","",INDEX('Handlungsempfehlungen NAS'!$C:$C,MATCH(INDIRECT("X"&ROW()),'Handlungsempfehlungen NAS'!$D:$D,0)))) | AC61: =IF(I61="","",VLOOKUP(I61,Standardmaßnahmen!B:EO,144,FALSE))
A62: =IF($E$1="","",$E$1) | B62: =IF($E$2="","",$E$2) | L62: =IF(I62="","",VLOOKUP(I62,Standardmaßnahmen!B:C,2,FALSE)) | S62: =IF(I62="","",VLOOKUP(I62,Standardmaßnahmen!B$2:EN$250,143,FALSE)) | X62: =IF(I62="","",INDEX(Standardmaßnahmen!$1:$1,INDEX(Hilfsformeln!$A:$A,ROW(#REF!)))) | Y62: =IF(X62="","",VLOOKUP($X62,'Handlungsempfehlungen NAS'!$D$2:$E$126,2,FALSE)) | Z62: =IF(X62="","",VLOOKUP($X62,'Handlungsempfehlungen NAS'!$D$2:$F$126,3,FALSE)) | AA62: =IF(I62="","",INDEX('Handlungsempfehlungen NAS'!$A:$A,MATCH(INDIRECT("X"&ROW()),'Handlungsempfehlungen NAS'!$D:$D,0))) | AB62: =IF(I62="","",IF(I62="Standardmaßnahme","",INDEX('Handlungsempfehlungen NAS'!$C:$C,MATCH(INDIRECT("X"&ROW()),'Handlungsempfehlungen NAS'!$D:$D,0)))) | AC62: =IF(I62="","",VLOOKUP(I62,Standardmaßnahmen!B:EO,144,FALSE))
A63: =IF($E$1="","",$E$1) | B63: =IF($E$2="","",$E$2) | L63: =IF(I63="","",VLOOKUP(I63,Standardmaßnahmen!B:C,2,FALSE)) | S63: =IF(I63="","",VLOOKUP(I63,Standardmaßnahmen!B$2:EN$250,143,FALSE)) | X63: =IF(I63="","",INDEX(Standardmaßnahmen!$1:$1,INDEX(Hilfsformeln!$A:$A,ROW(#REF!)))) | Y63: =IF(X63="","",VLOOKUP($X63,'Handlungsempfehlungen NAS'!$D$2:$E$126,2,FALSE)) | Z63: =IF(X63="","",VLOOKUP($X63,'Handlungsempfehlungen NAS'!$D$2:$F$126,3,FALSE)) | AA63: =IF(I63="","",INDEX('Handlungsempfehlungen NAS'!$A:$A,MATCH(INDIRECT("X"&ROW()),'Handlungsempfehlungen NAS'!$D:$D,0))) | AB63: =IF(I63="","",IF(I63="Standardmaßnahme","",INDEX('Handlungsempfehlungen NAS'!$C:$C,MATCH(INDIRECT("X"&ROW()),'Handlungsempfehlungen NAS'!$D:$D,0)))) | AC63: =IF(I63="","",VLOOKUP(I63,Standardmaßnahmen!B:EO,144,FALSE))
A64: =IF($E$1="","",$E$1) | B64: =IF($E$2="","",$E$2) | L64: =IF(I64="","",VLOOKUP(I64,Standardmaßnahmen!B:C,2,FALSE)) | S64: =IF(I64="","",VLOOKUP(I64,Standardmaßnahmen!B$2:EN$250,143,FALSE)) | X64: =IF(I64="","",INDEX(Standardmaßnahmen!$1:$1,INDEX(Hilfsformeln!$A:$A,ROW(#REF!)))) | Y64: =IF(X64="","",VLOOKUP($X64,'Handlungsempfehlungen NAS'!$D$2:$E$126,2,FALSE)) | Z64: =IF(X64="","",VLOOKUP($X64,'Handlungsempfehlungen NAS'!$D$2:$F$126,3,FALSE)) | AA64: =IF(I64="","",INDEX('Handlungsempfehlungen NAS'!$A:$A,MATCH(INDIRECT("X"&ROW()),'Handlungsempfehlungen NAS'!$D:$D,0))) | AB64: =IF(I64="","",IF(I64="Standardmaßnahme","",INDEX('Handlungsempfehlungen NAS'!$C:$C,MATCH(INDIRECT("X"&ROW()),'Handlungsempfehlungen NAS'!$D:$D,0)))) | AC64: =IF(I64="","",VLOOKUP(I64,Standardmaßnahmen!B:EO,144,FALSE))
A65: =IF($E$1="","",$E$1) | B65: =IF($E$2="","",$E$2) | L65: =IF(I65="","",VLOOKUP(I65,Standardmaßnahmen!B:C,2,FALSE)) | S65: =IF(I65="","",VLOOKUP(I65,Standardmaßnahmen!B$2:EN$250,143,FALSE)) | X65: =IF(I65="","",INDEX(Standardmaßnahmen!$1:$1,INDEX(Hilfsformeln!$A:$A,ROW(#REF!)))) | Y65: =IF(X65="","",VLOOKUP($X65,'Handlungsempfehlungen NAS'!$D$2:$E$126,2,FALSE)) | Z65: =IF(X65="","",VLOOKUP($X65,'Handlungsempfehlungen NAS'!$D$2:$F$126,3,FALSE)) | AA65: =IF(I65="","",INDEX('Handlungsempfehlungen NAS'!$A:$A,MATCH(INDIRECT("X"&ROW()),'Handlungsempfehlungen NAS'!$D:$D,0))) | AB65: =IF(I65="","",IF(I65="Standardmaßnahme","",INDEX('Handlungsempfehlungen NAS'!$C:$C,MATCH(INDIRECT("X"&ROW()),'Handlungsempfehlungen NAS'!$D:$D,0)))) | AC65: =IF(I65="","",VLOOKUP(I65,Standardmaßnahmen!B:EO,144,FALSE))
A66: =IF($E$1="","",$E$1) | B66: =IF($E$2="","",$E$2) | L66: =IF(I66="","",VLOOKUP(I66,Standardmaßnahmen!B:C,2,FALSE)) | S66: =IF(I66="","",VLOOKUP(I66,Standardmaßnahmen!B$2:EN$250,143,FALSE)) | X66: =IF(I66="","",INDEX(Standardmaßnahmen!$1:$1,INDEX(Hilfsformeln!$A:$A,ROW(A62)))) | Y66: =IF(X66="","",VLOOKUP($X66,'Handlungsempfehlungen NAS'!$D$2:$E$126,2,FALSE)) | Z66: =IF(X66="","",VLOOKUP($X66,'Handlungsempfehlungen NAS'!$D$2:$F$126,3,FALSE)) | AA66: =IF(I66="","",INDEX('Handlungsempfehlungen NAS'!$A:$A,MATCH(INDIRECT("X"&ROW()),'Handlungsempfehlungen NAS'!$D:$D,0))) | AB66: =IF(I66="","",IF(I66="Standardmaßnahme","",INDEX('Handlungsempfehlungen NAS'!$C:$C,MATCH(INDIRECT("X"&ROW()),'Handlungsempfehlungen NAS'!$D:$D,0)))) | AC66: =IF(I66="","",VLOOKUP(I66,Standardmaßnahmen!B:EO,144,FALSE))
A67: =IF($E$1="","",$E$1) | B67: =IF($E$2="","",$E$2) | L67: =IF(I67="","",VLOOKUP(I67,Standardmaßnahmen!B:C,2,FALSE)) | S67: =IF(I67="","",VLOOKUP(I67,Standardmaßnahmen!B$2:EN$250,143,FALSE)) | X67: =IF(I67="","",INDEX(Standardmaßnahmen!$1:$1,INDEX(Hilfsformeln!$A:$A,ROW(#REF!)))) | Y67: =IF(X67="","",VLOOKUP($X67,'Handlungsempfehlungen NAS'!$D$2:$E$126,2,FALSE)) | Z67: =IF(X67="","",VLOOKUP($X67,'Handlungsempfehlungen NAS'!$D$2:$F$126,3,FALSE)) | AA67: =IF(I67="","",INDEX('Handlungsempfehlungen NAS'!$A:$A,MATCH(INDIRECT("X"&ROW()),'Handlungsempfehlungen NAS'!$D:$D,0))) | AB67: =IF(I67="","",IF(I67="Standardmaßnahme","",INDEX('Handlungsempfehlungen NAS'!$C:$C,MATCH(INDIRECT("X"&ROW()),'Handlungsempfehlungen NAS'!$D:$D,0)))) | AC67: =IF(I67="","",VLOOKUP(I67,Standardmaßnahmen!B:EO,144,FALSE))
A68: =IF($E$1="","",$E$1) | B68: =IF($E$2="","",$E$2) | L68: =IF(I68="","",VLOOKUP(I68,Standardmaßnahmen!B:C,2,FALSE)) | S68: =IF(I68="","",VLOOKUP(I68,Standardmaßnahmen!B$2:EN$250,143,FALSE)) | X68: =IF(I68="","",INDEX(Standardmaßnahmen!$1:$1,INDEX(Hilfsformeln!$A:$A,ROW(#REF!)))) | Y68: =IF(X68="","",VLOOKUP($X68,'Handlungsempfehlungen NAS'!$D$2:$E$126,2,FALSE)) | Z68: =IF(X68="","",VLOOKUP($X68,'Handlungsempfehlungen NAS'!$D$2:$F$126,3,FALSE)) | AA68: =IF(I68="","",INDEX('Handlungsempfehlungen NAS'!$A:$A,MATCH(INDIRECT("X"&ROW()),'Handlungsempfehlungen NAS'!$D:$D,0))) | AB68: =IF(I68="","",IF(I68="Standardmaßnahme","",INDEX('Handlungsempfehlungen NAS'!$C:$C,MATCH(INDIRECT("X"&ROW()),'Handlungsempfehlungen NAS'!$D:$D,0)))) | AC68: =IF(I68="","",VLOOKUP(I68,Standardmaßnahmen!B:EO,144,FALSE))
A69: =IF($E$1="","",$E$1) | B69: =IF($E$2="","",$E$2) | L69: =IF(I69="","",VLOOKUP(I69,Standardmaßnahmen!B:C,2,FALSE)) | S69: =IF(I69="","",VLOOKUP(I69,Standardmaßnahmen!B$2:EN$250,143,FALSE)) | X69: =IF(I69="","",INDEX(Standardmaßnahmen!$1:$1,INDEX(Hilfsformeln!$A:$A,ROW(#REF!)))) | Y69: =IF(X69="","",VLOOKUP($X69,'Handlungsempfehlungen NAS'!$D$2:$E$126,2,FALSE)) | Z69: =IF(X69="","",VLOOKUP($X69,'Handlungsempfehlungen NAS'!$D$2:$F$126,3,FALSE)) | AA69: =IF(I69="","",INDEX('Handlungsempfehlungen NAS'!$A:$A,MATCH(INDIRECT("X"&ROW()),'Handlungsempfehlungen NAS'!$D:$D,0))) | AB69: =IF(I69="","",IF(I69="Standardmaßnahme","",INDEX('Handlungsempfehlungen NAS'!$C:$C,MATCH(INDIRECT("X"&ROW()),'Handlungsempfehlungen NAS'!$D:$D,0)))) | AC69: =IF(I69="","",VLOOKUP(I69,Standardmaßnahmen!B:EO,144,FALSE))
A70: =IF($E$1="","",$E$1) | B70: =IF($E$2="","",$E$2) | L70: =IF(I70="","",VLOOKUP(I70,Standardmaßnahmen!B:C,2,FALSE)) | S70: =IF(I70="","",VLOOKUP(I70,Standardmaßnahmen!B$2:EN$250,143,FALSE)) | X70: =IF(I70="","",INDEX(Standardmaßnahmen!$1:$1,INDEX(Hilfsformeln!$A:$A,ROW(#REF!)))) | Y70: =IF(X70="","",VLOOKUP($X70,'Handlungsempfehlungen NAS'!$D$2:$E$126,2,FALSE)) | Z70: =IF(X70="","",VLOOKUP($X70,'Handlungsempfehlungen NAS'!$D$2:$F$126,3,FALSE)) | AA70: =IF(I70="","",INDEX('Handlungsempfehlungen NAS'!$A:$A,MATCH(INDIRECT("X"&ROW()),'Handlungsempfehlungen NAS'!$D:$D,0))) | AB70: =IF(I70="","",IF(I70="Standardmaßnahme","",INDEX('Handlungsempfehlungen NAS'!$C:$C,MATCH(INDIRECT("X"&ROW()),'Handlungsempfehlungen NAS'!$D:$D,0)))) | AC70: =IF(I70="","",VLOOKUP(I70,Standardmaßnahmen!B:EO,144,FALSE))
A71: =IF($E$1="","",$E$1) | B71: =IF($E$2="","",$E$2) | L71: =IF(I71="","",VLOOKUP(I71,Standardmaßnahmen!B:C,2,FALSE)) | S71: =IF(I71="","",VLOOKUP(I71,Standardmaßnahmen!B$2:EN$250,143,FALSE)) | X71: =IF(I71="","",INDEX(Standardmaßnahmen!$1:$1,INDEX(Hilfsformeln!$A:$A,ROW(A67)))) | Y71: =IF(X71="","",VLOOKUP($X71,'Handlungsempfehlungen NAS'!$D$2:$E$126,2,FALSE)) | Z71: =IF(X71="","",VLOOKUP($X71,'Handlungsempfehlungen NAS'!$D$2:$F$126,3,FALSE)) | AA71: =IF(I71="","",INDEX('Handlungsempfehlungen NAS'!$A:$A,MATCH(INDIRECT("X"&ROW()),'Handlungsempfehlungen NAS'!$D:$D,0))) | AB71: =IF(I71="","",IF(I71="Standardmaßnahme","",INDEX('Handlungsempfehlungen NAS'!$C:$C,MATCH(INDIRECT("X"&ROW()),'Handlungsempfehlungen NAS'!$D:$D,0)))) | AC71: =IF(I71="","",VLOOKUP(I71,Standardmaßnahmen!B:EO,144,FALSE))
A72: =IF($E$1="","",$E$1) | B72: =IF($E$2="","",$E$2) | L72: =IF(I72="","",VLOOKUP(I72,Standardmaßnahmen!B:C,2,FALSE)) | S72: =IF(I72="","",VLOOKUP(I72,Standardmaßnahmen!B$2:EN$250,143,FALSE)) | X72: =IF(I72="","",INDEX(Standardmaßnahmen!$1:$1,INDEX(Hilfsformeln!$A:$A,ROW(#REF!)))) | Y72: =IF(X72="","",VLOOKUP($X72,'Handlungsempfehlungen NAS'!$D$2:$E$126,2,FALSE)) | Z72: =IF(X72="","",VLOOKUP($X72,'Handlungsempfehlungen NAS'!$D$2:$F$126,3,FALSE)) | AA72: =IF(I72="","",INDEX('Handlungsempfehlungen NAS'!$A:$A,MATCH(INDIRECT("X"&ROW()),'Handlungsempfehlungen NAS'!$D:$D,0))) | AB72: =IF(I72="","",IF(I72="Standardmaßnahme","",INDEX('Handlungsempfehlungen NAS'!$C:$C,MATCH(INDIRECT("X"&ROW()),'Handlungsempfehlungen NAS'!$D:$D,0)))) | AC72: =IF(I72="","",VLOOKUP(I72,Standardmaßnahmen!B:EO,144,FALSE))
A73: =IF($E$1="","",$E$1) | B73: =IF($E$2="","",$E$2) | L73: =IF(I73="","",VLOOKUP(I73,Standardmaßnahmen!B:C,2,FALSE)) | S73: =IF(I73="","",VLOOKUP(I73,Standardmaßnahmen!B$2:EN$250,143,FALSE)) | X73: =IF(I73="","",INDEX(Standardmaßnahmen!$1:$1,INDEX(Hilfsformeln!$A:$A,ROW(#REF!)))) | Y73: =IF(X73="","",VLOOKUP($X73,'Handlungsempfehlungen NAS'!$D$2:$E$126,2,FALSE)) | Z73: =IF(X73="","",VLOOKUP($X73,'Handlungsempfehlungen NAS'!$D$2:$F$126,3,FALSE)) | AA73: =IF(I73="","",INDEX('Handlungsempfehlungen NAS'!$A:$A,MATCH(INDIRECT("X"&ROW()),'Handlungsempfehlungen NAS'!$D:$D,0))) | AB73: =IF(I73="","",IF(I73="Standardmaßnahme","",INDEX('Handlungsempfehlungen NAS'!$C:$C,MATCH(INDIRECT("X"&ROW()),'Handlungsempfehlungen NAS'!$D:$D,0)))) | AC73: =IF(I73="","",VLOOKUP(I73,Standardmaßnahmen!B:EO,144,FALSE))
A74: =IF($E$1="","",$E$1) | B74: =IF($E$2="","",$E$2) | L74: =IF(I74="","",VLOOKUP(I74,Standardmaßnahmen!B:C,2,FALSE)) | S74: =IF(I74="","",VLOOKUP(I74,Standardmaßnahmen!B$2:EN$250,143,FALSE)) | X74: =IF(I74="","",INDEX(Standardmaßnahmen!$1:$1,INDEX(Hilfsformeln!$A:$A,ROW(#REF!)))) | Y74: =IF(X74="","",VLOOKUP($X74,'Handlungsempfehlungen NAS'!$D$2:$E$126,2,FALSE)) | Z74: =IF(X74="","",VLOOKUP($X74,'Handlungsempfehlungen NAS'!$D$2:$F$126,3,FALSE)) | AA74: =IF(I74="","",INDEX('Handlungsempfehlungen NAS'!$A:$A,MATCH(INDIRECT("X"&ROW()),'Handlungsempfehlungen NAS'!$D:$D,0))) | AB74: =IF(I74="","",IF(I74="Standardmaßnahme","",INDEX('Handlungsempfehlungen NAS'!$C:$C,MATCH(INDIRECT("X"&ROW()),'Handlungsempfehlungen NAS'!$D:$D,0)))) | AC74: =IF(I74="","",VLOOKUP(I74,Standardmaßnahmen!B:EO,144,FALSE))
A75: =IF($E$1="","",$E$1) | B75: =IF($E$2="","",$E$2) | L75: =IF(I75="","",VLOOKUP(I75,Standardmaßnahmen!B:C,2,FALSE)) | S75: =IF(I75="","",VLOOKUP(I75,Standardmaßnahmen!B$2:EN$250,143,FALSE)) | X75: =IF(I75="","",INDEX(Standardmaßnahmen!$1:$1,INDEX(Hilfsformeln!$A:$A,ROW(#REF!)))) | Y75: =IF(X75="","",VLOOKUP($X75,'Handlungsempfehlungen NAS'!$D$2:$E$126,2,FALSE)) | Z75: =IF(X75="","",VLOOKUP($X75,'Handlungsempfehlungen NAS'!$D$2:$F$126,3,FALSE)) | AA75: =IF(I75="","",INDEX('Handlungsempfehlungen NAS'!$A:$A,MATCH(INDIRECT("X"&ROW()),'Handlungsempfehlungen NAS'!$D:$D,0))) | AB75: =IF(I75="","",IF(I75="Standardmaßnahme","",INDEX('Handlungsempfehlungen NAS'!$C:$C,MATCH(INDIRECT("X"&ROW()),'Handlungsempfehlungen NAS'!$D:$D,0)))) | AC75: =IF(I75="","",VLOOKUP(I75,Standardmaßnahmen!B:EO,144,FALSE))
A76: =IF($E$1="","",$E$1) | B76: =IF($E$2="","",$E$2) | L76: =IF(I76="","",VLOOKUP(I76,Standardmaßnahmen!B:C,2,FALSE)) | S76: =IF(I76="","",VLOOKUP(I76,Standardmaßnahmen!B$2:EN$250,143,FALSE)) | X76: =IF(I76="","",INDEX(Standardmaßnahmen!$1:$1,INDEX(Hilfsformeln!$A:$A,ROW(A72)))) | Y76: =IF(X76="","",VLOOKUP($X76,'Handlungsempfehlungen NAS'!$D$2:$E$126,2,FALSE)) | Z76: =IF(X76="","",VLOOKUP($X76,'Handlungsempfehlungen NAS'!$D$2:$F$126,3,FALSE)) | AA76: =IF(I76="","",INDEX('Handlungsempfehlungen NAS'!$A:$A,MATCH(INDIRECT("X"&ROW()),'Handlungsempfehlungen NAS'!$D:$D,0))) | AB76: =IF(I76="","",IF(I76="Standardmaßnahme","",INDEX('Handlungsempfehlungen NAS'!$C:$C,MATCH(INDIRECT("X"&ROW()),'Handlungsempfehlungen NAS'!$D:$D,0)))) | AC76: =IF(I76="","",VLOOKUP(I76,Standardmaßnahmen!B:EO,144,FALSE))

Sheet Standardmaßnahmen
A1: Zuordnung finalisiert? | B1: Standardmaßnahme | C1: Maßnahmentyp | D1: Sektorübergreifend | E1: Landwirtschaft | F1: Nachhaltiger Aufbau, Wiederherstellung und Erhalt der Ressource Boden | G1: Anpassung des landwirtschaftlichen Bewirtschaftungsmanagements an klimawandelbedingte Veränderungen | H1: Überprüfung der Standorteignung von Kulturpflanzen aufgrund sich ändernder Umgebungsbedingungen und Erarbeitung von Empfehlungen für die Kulturwahl | I1: Züchtung klimafitter Kulturpflanzen | J1: Forschung zu und Bekämpfung von gebietsfremden invasiven Schaderregern bei Nutz- und Zierpflanzen | K1: Umweltgerechte und nachhaltige Umsetzung von Pflanzenschutzmaßnahmen | L1: Integrierte Landschaftsgestaltung und Verbesserung der Agroökosysteme inklusive Erhalt und Pflege von Landschaftselementen | M1: Verstärkte Etablierung und Förderung von wassersparenden Bewässerungssystemen sowie Verbesserung der Bewässerungsplanung inkl. Konfliktmanagement | N1: Optimierung des geschützten Anbaus (Glashäuser und Folientunnel) | O1: Erhalt bestehender Almflächen und Revitalisierung aufgelassener Almen | P1: Förderung des Tierwohls und der Tiergesundheit unter sich verändernden klimatischen Verhältnissen | Q1: Risikominimierung sowie Entwicklung und Ausbau von Instrumenten der Risikostreuung | R1: Forstwirtschaft | S1: Anpassung der Baumarten- und Herkunftswahl sowie der Baumartenmischung unter Berücksichtigung von Waldverjüngung und Förderung der Diversität | T1: Bodenschonende Bewirtschaftung | U1: Reduktion der Wildschadensbelastung | V1: Beratung, Aus-, Fort- und Weiterbildung zur Anpassung der Wälder an den Klimawandel | W1: Adaptierung und Verbesserung des Störungs- und Kalamitätsmanagements | X1: Vorsorgemaßnahmen zur Prävention und Bekämpfung von Waldbränden | Y1: Erhalt, Verbesserung und Wiederherstellung der Waldbiodiversität sowie der Ökosystemfunktionen von Waldlebensräumen | Z1: Immissionsschutz zur Stärkung der Klimaresilienz von Wäldern und ihrer Ökosystemleistungen | AA1: Vorausschauende Berücksichtigung möglicher Veränderungen in der Holzqualität und der Baumarten in der Holzverarbeitung | AB1: Wasserwirtschaft | AC1: Vorausschauende, klimaresiliente und nachhaltige Bewirtschaftung der Grundwasservorkommen | AD1: Vorausschauende, klimaresiliente und nachhaltige Bewirtschaftung der Oberflächengewässer | AE1: Aufrechterhaltung der Trinkwasserversorgung | AF1: Aufrechterhaltung der Nutzwasserversorgung | AG1: Adaptives Trockenheitsrisikomanagement mit robusten Maßnahmen | AH1: Adaptives Hochwasserrisikomanagement mit robusten Maßnahmen | AI1: Weiterführung der Datenanalyse und Forcierung weiterer abgestimmter Datenerhebungen zur Ressource Wasser und den zugrundeliegenden Einflussfaktoren | AJ1: Verbesserte Information und Koordinierung betreffend Wasserbedarf und Wassernutzung | AK1: Verstärkte Berücksichtigung der Wassertemperaturen bei wasserwirtschaftlichen Maßnahmen | AL1: Bewusster Umgang mit der Ressource Wasser | AM1: Tourismus | AN1: Verstärkte Berücksichtigung der klimabedingten Auswirkungen und Integration von Anpassungserfordernissen in Tourismusstrategien | AO1: Weiterentwicklung des Tourismusstandorts Österreich durch verstärkte Umsetzung von nachhaltigen Anpassungsmaßnahmen, die insbesondere auch zum Klimaschutz beitragen | AP1: Bereitstellung umfassender regionaler Daten als Basis für die Entwicklung touristischer Anpassungsmaßnahmen | AQ1: Forcierung eines klimafitten nachhaltigen Ganzjahrestourismus | AR1: Unterstützung klimawandelgefährdeter Wintersportregionen bei der Schaffung von schneeunabhängigen Angeboten | AS1: Stärkung eines klimafitten nachhaltigen Sommertourismus | AT1: Stärkung eines klimafitten nachhaltigen Städtetourismus | AU1: Energie | AV1: Sicherstellung einer klimaresilienten Energieinfrastruktur | AW1: Verstärkte Forschung und Markteinführung neuer Möglichkeiten zur Energiespeicherung | AX1: Forcierung dezentraler Energieerzeugung und -Einspeisungen | AY1: Flexibilisierung des Stromsystems | AZ1: Berücksichtigung der Auswirkungen des Klimawandels bei energiewirtschaftlichen Entscheidungen und Forschungsaktivitäten | BA1: Berücksichtigung der Auswirkungen des Klimawandels in Energiestrategien | BB1: Bauen und Wohnen | BC1: Umsetzung baulicher Maßnahmen im Neubau und im Bestand zum Schutz vor Hitze | BD1: Forcierte Anwendung passiver und aktiver Kühlung mit alternativen, energieeffizienten und ressourcenschonenden Technologien | BE1: Verbesserung der mikro/mesoklimatischen Bedingungen im Rahmen der Gebäude-, Stadt- und Freiraumplanung | BF1: Anpassung von Baustandards, Normen und Gesetzen an die Folgen des Klimawandels | BG1: Schutz von Gebäuden gegen Klimarisiken inkl. Risikotransfermechanismen | BH1: Erhöhung des Wasserrückhalts an bzw. auf Gebäuden und im Umfeld von Gebäuden | BI1: Prüfung und Weiterentwicklung von Förderinstrumenten zur Berücksichtigung von Aspekten des Klimawandels im Neubau und im Bestand | BJ1: Öffentlichkeitsarbeit und Bewusstseinsbildung zum Thema Anpassung an die Folgen des Klimawandels im Bereich Bauen und Wohnen | BK1: Forschung zur Anpassung an die Folgen des Klimawandels im Bereich Bauen und Wohnen | BL1: Pilotprojekte „Klimawandelangepasste Baukultur“ | BM1: Aus-, Fort- und Weiterbildung zum Thema Anpassung an die Folgen des Klimawandels im Bereich Bauen und Wohnen | BN1: Schutz vor Naturgefahren | BO1: Forcierung des Gefahren- und Risikobewusstseins sowie der Eigenverantwortung | BP1: Forcierung einer nachhaltigen Raumentwicklung unter verstärkter Einbeziehung der Gefahrenzonenplanung und Risikodarstellung | BQ1: Forcierung des Wasserrückhalts in der Fläche sowie Reaktivierung natürlicher Überflutungsflächen | BR1: Forcierung von Mess-, Prognose- und (Früh)Warnsystemen | BS1: Forcierung von F&E in Bezug auf Auswirkungen des Klimawandels auf Ereigniswahrscheinlichen und Umgang mit Unsicherheiten | BT1: Optimierung von Risikotransfermechanismen | BU1: Forcierung von Schutzmaßnahmen bei Objekten und kritischen Infrastrukturen als Beitrag zur Eigenvorsorge | BV1: Krisen- und Katastrophenschutz | BW1: Inklusive Risiko- und Krisenkommunikation zur Verbesserung des Verhaltens im Ereignisfall | BX1: Verstärkte Berücksichtigung der Risiken des Klimawandels in der nationalen Risikoanalyse | BY1: Weiterführung und Ausbau der ASDR Plattform | BZ1: Verstärkte Berücksichtigung der Auswirkungen des Klimawandels im staatlichen Krisen- und Katastrophenmanagement | CA1: Erhalt und Verbesserung der Rahmenbedingungen für ehrenamtliches Engagement im Bereich des Krisen- und Katastrophenmanagements | CB1: Forcierung partizipativer Ansätze im Risiko- und Krisenmanagement | CC1: Flexibilisierung von Finanzierungs- und Förderinstrumenten im Bereich des Krisen- und Katastrophenmanagements | CD1: Erweiterung des Aus-, Fort- und Weiterbildungsangebotes im Bereich des Krisen- und Katastrophenmanagements | CE1: Weiterführung und Vernetzung von Forschungsaktivitäten sowie Entwicklung von Innovationen mit Bezug zum Krisen- und Katastrophenmanagement | CF1: Gesundheit | CG1: Allgemeine Öffentlichkeitsarbeit zu den gesundheitlichen Folgen des Klimawandels | CH1: Aus- Fort- und Weiterbildung zu klimarelevanten Themen im Gesundheits- Pflege- und Sozialbereich | CI1: Verknüpfung und Weiterentwicklung bestehender Monitoring- und Frühwarnsysteme | CJ1: Umgang mit den gesundheitlichen Folgen von Hitze und Trockenheit | CK1: Umgang mit Vektoren und vektorübertragenen Infektionskrankheiten | CL1: Umgang mit der Ausbreitung allergener und giftiger Arten | CM1: Umgang mit Luftverschmutzung und weiteren Schadstoffen | CN1: Umgang mit gesundheitlichen Folgen von Naturgefahren | CO1: Aufrechterhaltung der Lebensmittelsicherheit unter veränderten klimatischen Bedingungen | CP1: Ökosysteme & Biodiversität | CQ1: Integration von Klimawandel in Naturschutzinstrumente | CR1: Stärkung biodiversitätsfördernder Land- und Forstwirtschaft | CS1: Stärkung gefährdeter Populationen und Arten sowie ihrer Habitate | CT1: Erhaltung und Vernetzung von Schutzgebieten und Lebensräumen | CU1: Schutz von Feuchtlebensräumen, ihrer Ökosystemleistungen und Biodiversität | CV1: Stärkung der Gewässerbiodiversität und eines integrierten Einzugsgebietsmanagements sowie Verminderung starker Gewässererwärmungen | CW1: Verbesserung der Wissensbasis durch Forschung zu Auswirkungen des Klimawandels auf Ökosysteme/Biodiversität | CX1: Verstärkte Berücksichtigung des Klimawandels in bestehenden Monitoringsystemen bzw. Ausbau von Monitoring- und Frühwarnsystemen | CY1: Stärkung der Wissensvermittlung zur Bedeutung der Biodiversität und von Ökosystemen für Klimawandelanpassung | CZ1: Erhalt von Ökosystemleistungen | DA1: Anpassung der Angebote von Freizeit- und Urlaubsaktivitäten | DB1: Berücksichtigung von Naturschutzzielen und Anpassungserfordernissen bei der Gestaltung öffentlicher und privater Gebäude und Freiflächen in Siedlungen | DC1: Berücksichtigung der Auswirkung österreichischer Aktivitäten und Klimawandelanpassungsmaßnahmen auf Ökosysteme / Biodiversität im europäischen und globalen Kontext | DD1: Verkehrsinfrastruktur und Mobilität | DE1: Sicherstellung einer klimaresilienten Verkehrsinfrastruktur für ein funktionsfähiges Verkehrssystem | DF1: Anpassung von Rechtsnormen für Bau und Betrieb von Verkehrsinfrastrukturen | DG1: Sicherstellung des thermischen Komforts in öffentlichen Verkehrsmitteln, Verkehrsstationen und deren Umgebung | DH1: Berücksichtigung von mikro-/mesoklimatischen Bedingungen bei der Verkehrs- und Freiraumplanung | DI1: Reduktion dauerhaft versiegelter Verkehrsflächen | DJ1: Ausbau und laufende Weiterentwicklung von Informations- und Frühwarnsystemen | DK1: Aus-, Fort- und Weiterbildung zum Thema Anpassung an die Folgen des Klimawandels im Bereich Verkehrsinfrastruktur | DL1: Forschung und Entwicklung zur Anpassung an die Folgen des Klimawandels im Bereich Verkehrsinfrastruktur | DM1: Bewusstseinsbildung und Pilotprojekte zu klimaresilienten Verkehrsinfrastrukturen | DN1: Raumordnung | DO1: Reduktion von weiterer Flächeninanspruchnahme, Bodenversiegelung und Zersiedelung unter Berücksichtigung der natürlichen Bodenfunktionen | DP1: Sicherung, Entwicklung und Vernetzung von multifunktionalen Frei- und Grünräumen mit naturbasierten Anpassungsfunktionen | DQ1: Forcierung von Anpassungsmaßnahmen in der Bebauungsplanung und im Baurecht | DR1: Prävention von Risiken durch Naturgefahren in der Raumordnung | DS1: Regelungen für den präventiven Umgang mit Widmungs- und Bebauungsbestand in Gefährdungs- und Restrisikobereichen | DT1: Stärkung interkommunaler, regionaler und stadtregionaler Kooperationen | DU1: Erhöhung der Klimaresilienz des Energiesystems durch Berücksichtigung von Anpassung in der Energieraumplanung | DV1: Bereitstellung, Aufbereitung und Vermittlung von praxisgerechten Daten- und Informationsgrundlagen, Kompetenz- und Kapazitätsaufbau sowie Vernetzung der Akteur:innen | DW1: „Climate Proofing“ von Raumplänen, Entwicklungskonzepten, Verfahren und raumwirksamen Projekten | DX1: Wirtschaft | DY1: Etablierung von Klimarisikomanagement als Teil des allgemeinen unternehmerischen Risikomanagements | DZ1: Erhöhung der Resilienz des Betriebsstandorts, inkl. der energetischen Versorgungssicherheit und Gewährleistung von Sicherheit und Gesundheitsschutz am Arbeitsplatz | EA1: Sicherung der Rohstoffversorgung, Zulieferung, Transportnetze und Produktion | EB1: Entwicklung von klimafreundlichen und anpassungsfördernden Produkten, technischen Verfahren und Dienstleistungen | EC1: Forcierung von adäquaten Zukunftsszenarien-basierten Risikoabschätzungen | ED1: Bewusstseinsbildung in der Bevölkerung zur Vermeidung von Schadensfällen und Stärkung der Eigenverantwortung durch die Versicherungswirtschaft | EE1: Bessere Risikostreuung für Versicherer und damit Erhöhung der Versicherbarkeit klima- bzw. wetterinduzierter Schäden | EF1: Stadt - urbane Frei- & Grünräume | EG1: Anpassung der Planungs- und Pflegestrategien für urbane Frei- und Grünräume | EH1: Anpassung des Wassermanagements für Frei- und Grünräume | EI1: Erhalt und Förderung der biologischen Vielfalt urbaner Frei- und Grünräume | EJ1: Anpassung des Bodenmanagements in urbanen Frei- und Grünräumen | EK1: Bewusstseinsbildung, Vernetzung sowie Anpassung der Aus-, Fort- und Weiterbildung aller betroffenen Gruppen (öffentlich und privat) | EL1: Ausbau der Wissensbasis durch inter- und transdisziplinäre Forschung zu urbanen Frei- und Grünräumen | EM1: Maßeinheit Output 1 | EN1: Maßeinheit Output 2 | EO1: adressierte Klimawandelfolge/Naturgefahr | EQ1: Kontrolle - Anzahl Primärverbindungen (1) | ER1: Kontrolle - Anzahl Sekundärverbindungen
A2: 1 | B2: 10 Jahreszeitenhecke | C2: grün | E2: =IF(COUNTA(F2:Q2)>0,"x","") | R2: =IF(COUNTA(S2:AA2)>0,"x","") | AB2: =IF(COUNTA(AC2:AL2)>0,"x","") | AM2: =IF(COUNTA(AN2:AT2)>0,"x","") | AU2: =IF(COUNTA(AV2:BA2)>0,"x","") | BB2: =IF(COUNTA(BC2:BM2)>0,"x","") | BN2: =IF(COUNTA(BO2:BU2)>0,"x","") | BV2: =IF(COUNTA(BW2:CE2)>0,"x","") | CF2: =IF(COUNTA(CG2:CO2)>0,"x","") | CP2: =IF(COUNTA(CQ2:DC2)>0,"x","") -> x | CR2: s | CS2: s | CT2: s | CW2: s | CY2: p | CZ2: s | DD2: =IF(COUNTA(DE2:DM2)>0,"x","") | DN2: =IF(COUNTA(DO2:DW2)>0,"x","") | DX2: =IF(COUNTA(DY2:EE2)>0,"x","") | EF2: =IF(COUNTA(EG2:EL2)>0,"x","") | EM2: Hecke | EN2: m | EO2: Klimawandel/Temperaturerhöhung allgemein | EQ2: =COUNTIF(D2:EL2,"p") -> 1 | ER2: =COUNTIF(D2:EL2,"s") -> 5
A3: 1 | B3: Agroforst - Planung | C3: smart | E3: =IF(COUNTA(F3:Q3)>0,"x","") -> x | L3: p | R3: =IF(COUNTA(S3:AA3)>0,"x","") -> x | S3: s | T3: s | Y3: s | AB3: =IF(COUNTA(AC3:AL3)>0,"x","") | AM3: =IF(COUNTA(AN3:AT3)>0,"x","") | AU3: =IF(COUNTA(AV3:BA3)>0,"x","") | BB3: =IF(COUNTA(BC3:BM3)>0,"x","") | BN3: =IF(COUNTA(BO3:BU3)>0,"x","") | BV3: =IF(COUNTA(BW3:CE3)>0,"x","") | CF3: =IF(COUNTA(CG3:CO3)>0,"x","") | CP3: =IF(COUNTA(CQ3:DC3)>0,"x","") -> x | CR3: s | CS3: s | CT3: s | CZ3: s | DD3: =IF(COUNTA(DE3:DM3)>0,"x","") | DN3: =IF(COUNTA(DO3:DW3)>0,"x","") | DX3: =IF(COUNTA(DY3:EE3)>0,"x","") | EF3: =IF(COUNTA(EG3:EL3)>0,"x","") | EM3: Plan/Konzept/Strategie/Leitlinie | EN3: sonstige (bitte spezifizieren!) | EO3: übergreifend/sonstige | EQ3: =COUNTIF(D3:EL3,"p") -> 1 | ER3: =COUNTIF(D3:EL3,"s") -> 7
A4: 1 | B4: Agroforst - Umsetzungsmaßnahme | C4: blau/grün | E4: =IF(COUNTA(F4:Q4)>0,"x","") -> x | L4: p | R4: =IF(COUNTA(S4:AA4)>0,"x","") -> x | S4: s | T4: s | Y4: s | AB4: =IF(COUNTA(AC4:AL4)>0,"x","") | AM4: =IF(COUNTA(AN4:AT4)>0,"x","") | AU4: =IF(COUNTA(AV4:BA4)>0,"x","") | BB4: =IF(COUNTA(BC4:BM4)>0,"x","") | BN4: =IF(COUNTA(BO4:BU4)>0,"x","") | BV4: =IF(COUNTA(BW4:CE4)>0,"x","") | CF4: =IF(COUNTA(CG4:CO4)>0,"x","") | CP4: =IF(COUNTA(CQ4:DC4)>0,"x","") -> x | CR4: s | CS4: s | CT4: s | CZ4: s | DD4: =IF(COUNTA(DE4:DM4)>0,"x","") | DN4: =IF(COUNTA(DO4:DW4)>0,"x","") | DX4: =IF(COUNTA(DY4:EE4)>0,"x","") | EF4: =IF(COUNTA(EG4:EL4)>0,"x","") | EM4: Landwirtschaftliche Nutzfläche | EN4: ha | EO4: übergreifend/sonstige | EQ4: =COUNTIF(D4:EL4,"p") -> 1 | ER4: =COUNTIF(D4:EL4,"s") -> 7
A5: 1 | B5: Aus-, Fort-, Weiterbildung, Beratung Bauen und Wohnen | C5: smart | E5: =IF(COUNTA(F5:Q5)>0,"x","") | R5: =IF(COUNTA(S5:AA5)>0,"x","") | AB5: =IF(COUNTA(AC5:AL5)>0,"x","") | AM5: =IF(COUNTA(AN5:AT5)>0,"x","") | AU5: =IF(COUNTA(AV5:BA5)>0,"x","") | BB5: =IF(COUNTA(BC5:BM5)>0,"x","") -> x | BM5: p | BN5: =IF(COUNTA(BO5:BU5)>0,"x","") | BV5: =IF(COUNTA(BW5:CE5)>0,"x","") | CF5: =IF(COUNTA(CG5:CO5)>0,"x","") | CP5: =IF(COUNTA(CQ5:DC5)>0,"x","") | DD5: =IF(COUNTA(DE5:DM5)>0,"x","") | DN5: =IF(COUNTA(DO5:DW5)>0,"x","") | DX5: =IF(COUNTA(DY5:EE5)>0,"x","") | EF5: =IF(COUNTA(EG5:EL5)>0,"x","") | EM5: Ausbildungsformat/Lehrgang/Kurs | EN5: ausgebildete/weitergebildete/zertifizierte Personen | EO5: übergreifend/sonstige | EQ5: =COUNTIF(D5:EL5,"p") -> 1 | ER5: =COUNTIF(D5:EL5,"s") -> 0
A6: 1 | B6: Aus-, Fort-, Weiterbildung, Beratung Energieerzeugung, -versorgung | C6: smart | E6: =IF(COUNTA(F6:Q6)>0,"x","") | R6: =IF(COUNTA(S6:AA6)>0,"x","") | AB6: =IF(COUNTA(AC6:AL6)>0,"x","") | AM6: =IF(COUNTA(AN6:AT6)>0,"x","") | AU6: =IF(COUNTA(AV6:BA6)>0,"x","") -> x | AV6: s | AW6: s | AX6: s | AY6: s | AZ6: p | BA6: s | BB6: =IF(COUNTA(BC6:BM6)>0,"x","") | BN6: =IF(COUNTA(BO6:BU6)>0,"x","") | BV6: =IF(COUNTA(BW6:CE6)>0,"x","") | CF6: =IF(COUNTA(CG6:CO6)>0,"x","") | CP6: =IF(COUNTA(CQ6:DC6)>0,"x","") | DD6: =IF(COUNTA(DE6:DM6)>0,"x","") | DN6: =IF(COUNTA(DO6:DW6)>0,"x","") -> x | DU6: s | DX6: =IF(COUNTA(DY6:EE6)>0,"x","") | EF6: =IF(COUNTA(EG6:EL6)>0,"x","") | EM6: Ausbildungsformat/Lehrgang/Kurs | EN6: ausgebildete/weitergebildete/zertifizierte Personen | EO6: übergreifend/sonstige | EQ6: =COUNTIF(D6:EL6,"p") -> 1 | ER6: =COUNTIF(D6:EL6,"s") -> 6
A7: 1 | B7: Aus-, Fort-, Weiterbildung, Beratung Forstwirtschaft | C7: smart | E7: =IF(COUNTA(F7:Q7)>0,"x","") | R7: =IF(COUNTA(S7:AA7)>0,"x","") -> x | V7: p | AB7: =IF(COUNTA(AC7:AL7)>0,"x","") | AM7: =IF(COUNTA(AN7:AT7)>0,"x","") | AU7: =IF(COUNTA(AV7:BA7)>0,"x","") | BB7: =IF(COUNTA(BC7:BM7)>0,"x","") | BN7: =IF(COUNTA(BO7:BU7)>0,"x","") | BV7: =IF(COUNTA(BW7:CE7)>0,"x","") | CF7: =IF(COUNTA(CG7:CO7)>0,"x","") | CP7: =IF(COUNTA(CQ7:DC7)>0,"x","") | DD7: =IF(COUNTA(DE7:DM7)>0,"x","") | DN7: =IF(COUNTA(DO7:DW7)>0,"x","") | DX7: =IF(COUNTA(DY7:EE7)>0,"x","") | EF7: =IF(COUNTA(EG7:EL7)>0,"x","") | EM7: Ausbildungsformat/Lehrgang/Kurs | EN7: ausgebildete/weitergebildete/zertifizierte Personen | EO7: übergreifend/sonstige | EQ7: =COUNTIF(D7:EL7,"p") -> 1 | ER7: =COUNTIF(D7:EL7,"s") -> 0
A8: 1 | B8: Aus-, Fort-, Weiterbildung, Beratung Gesundheits-, Pflege- und Sozialbereich | C8: smart | E8: =IF(COUNTA(F8:Q8)>0,"x","") | R8: =IF(COUNTA(S8:AA8)>0,"x","") | AB8: =IF(COUNTA(AC8:AL8)>0,"x","") | AM8: =IF(COUNTA(AN8:AT8)>0,"x","") | AU8: =IF(COUNTA(AV8:BA8)>0,"x","") | BB8: =IF(COUNTA(BC8:BM8)>0,"x","") | BN8: =IF(COUNTA(BO8:BU8)>0,"x","") | BV8: =IF(COUNTA(BW8:CE8)>0,"x","") | CF8: =IF(COUNTA(CG8:CO8)>0,"x","") -> x | CH8: p | CP8: =IF(COUNTA(CQ8:DC8)>0,"x","") | DD8: =IF(COUNTA(DE8:DM8)>0,"x","") | DN8: =IF(COUNTA(DO8:DW8)>0,"x","") | DX8: =IF(COUNTA(DY8:EE8)>0,"x","") | EF8: =IF(COUNTA(EG8:EL8)>0,"x","") | EM8: Ausbildungsformat/Lehrgang/Kurs | EN8: ausgebildete/weitergebildete/zertifizierte Personen | EO8: übergreifend/sonstige | EQ8: =COUNTIF(D8:EL8,"p") -> 1 | ER8: =COUNTIF(D8:EL8,"s") -> 0
A9: 1 | B9: Aus-, Fort-, Weiterbildung, Beratung Katastrophenmanagement (Feuerwehr, Rettung, Zivilschutzbeauftragte, Gemeindeverantwortliche, etc.) | C9: smart | D9: s | E9: =IF(COUNTA(F9:Q9)>0,"x","") | R9: =IF(COUNTA(S9:AA9)>0,"x","") -> x | X9: s | AB9: =IF(COUNTA(AC9:AL9)>0,"x","") -> x | AE9: s | AG9: s | AH9: s | AM9: =IF(COUNTA(AN9:AT9)>0,"x","") | AU9: =IF(COUNTA(AV9:BA9)>0,"x","") | BB9: =IF(COUNTA(BC9:BM9)>0,"x","") | BN9: =IF(COUNTA(BO9:BU9)>0,"x","") -> x | BO9: s | BV9: =IF(COUNTA(BW9:CE9)>0,"x","") -> x | CA9: s | CD9: p | CF9: =IF(COUNTA(CG9:CO9)>0,"x","") | CP9: =IF(COUNTA(CQ9:DC9)>0,"x","") | DD9: =IF(COUNTA(DE9:DM9)>0,"x","") | DN9: =IF(COUNTA(DO9:DW9)>0,"x","") | DX9: =IF(COUNTA(DY9:EE9)>0,"x","") | EF9: =IF(COUNTA(EG9:EL9)>0,"x","") | EM9: Ausbildungsformat/Lehrgang/Kurs | EN9: ausgebildete/weitergebildete/zertifizierte Personen | EO9: übergreifend/sonstige | EQ9: =COUNTIF(D9:EL9,"p") -> 1 | ER9: =COUNTIF(D9:EL9,"s") -> 7
A10: 1 | B10: Aus-, Fort-, Weiterbildung, Beratung Ökosysteme und Biodiversität, Ökosystemdienstleistungen, Naturschutz im Klimawandel (z.B. Berg-/Wanderführer:innen, Ranger:innen, Berg- und Naturwacht etc.) | C10: smart | E10: =IF(COUNTA(F10:Q10)>0,"x","") | R10: =IF(COUNTA(S10:AA10)>0,"x","") -> x | V10: s | Y10: s | AB10: =IF(COUNTA(AC10:AL10)>0,"x","") | AM10: =IF(COUNTA(AN10:AT10)>0,"x","") -> x | AO10: s | AU10: =IF(COUNTA(AV10:BA10)>0,"x","") | BB10: =IF(COUNTA(BC10:BM10)>0,"x","") | BN10: =IF(COUNTA(BO10:BU10)>0,"x","") | BV10: =IF(COUNTA(BW10:CE10)>0,"x","") | CF10: =IF(COUNTA(CG10:CO10)>0,"x","") | CP10: =IF(COUNTA(CQ10:DC10)>0,"x","") -> x | CY10: p | DA10: s | DD10: =IF(COUNTA(DE10:DM10)>0,"x","") | DN10: =IF(COUNTA(DO10:DW10)>0,"x","") | DX10: =IF(COUNTA(DY10:EE10)>0,"x","") | EF10: =IF(COUNTA(EG10:EL10)>0,"x","") | EM10: Ausbildungsformat/Lehrgang/Kurs | EN10: ausgebildete/weitergebildete/zertifizierte Personen | EO10: übergreifend/sonstige | EQ10: =COUNTIF(D10:EL10,"p") -> 1 | ER10: =COUNTIF(D10:EL10,"s") -> 4
A11: 1 | B11: Baumpflanzung im Forstbereich, Waldumbau, klimaresilienter Wald/Forst | C11: grün | E11: =IF(COUNTA(F11:Q11)>0,"x","") | R11: =IF(COUNTA(S11:AA11)>0,"x","") -> x | S11: p | Y11: s | Z11: s | AB11: =IF(COUNTA(AC11:AL11)>0,"x","") -> x | AH11: s | AM11: =IF(COUNTA(AN11:AT11)>0,"x","") | AU11: =IF(COUNTA(AV11:BA11)>0,"x","") | BB11: =IF(COUNTA(BC11:BM11)>0,"x","") | BN11: =IF(COUNTA(BO11:BU11)>0,"x","") -> x | BQ11: s | BV11: =IF(COUNTA(BW11:CE11)>0,"x","") | CF11: =IF(COUNTA(CG11:CO11)>0,"x","") | CP11: =IF(COUNTA(CQ11:DC11)>0,"x","") -> x | CR11: s | CS11: s | CT11: s | CZ11: s | DD11: =IF(COUNTA(DE11:DM11)>0,"x","") | DN11: =IF(COUNTA(DO11:DW11)>0,"x","") | DX11: =IF(COUNTA(DY11:EE11)>0,"x","") | EF11: =IF(COUNTA(EG11:EL11)>0,"x","") | EM11: Bäume | EN11: ha | EO11: übergreifend/sonstige | EQ11: =COUNTIF(D11:EL11,"p") -> 1 | ER11: =COUNTIF(D11:EL11,"s") -> 8
A12: 1 | B12: Baumpflanzung im Siedlungsbereich | C12: grün | E12: =IF(COUNTA(F12:Q12)>0,"x","") | R12: =IF(COUNTA(S12:AA12)>0,"x","") | AB12: =IF(COUNTA(AC12:AL12)>0,"x","") | AM12: =IF(COUNTA(AN12:AT12)>0,"x","") | AU12: =IF(COUNTA(AV12:BA12)>0,"x","") | BB12: =IF(COUNTA(BC12:BM12)>0,"x","") | BN12: =IF(COUNTA(BO12:BU12)>0,"x","") | BV12: =IF(COUNTA(BW12:CE12)>0,"x","") | CF12: =IF(COUNTA(CG12:CO12)>0,"x","") | CP12: =IF(COUNTA(CQ12:DC12)>0,"x","") -> x | CS12: s | CT12: s | CZ12: s | DB12: s | DD12: =IF(COUNTA(DE12:DM12)>0,"x","") | DN12: =IF(COUNTA(DO12:DW12)>0,"x","") | DX12: =IF(COUNTA(DY12:EE12)>0,"x","") | EF12: =IF(COUNTA(EG12:EL12)>0,"x","") -> x | EI12: p | EM12: Bäume | EN12: - | EO12: übergreifend/sonstige | EQ12: =COUNTIF(D12:EL12,"p") -> 1 | ER12: =COUNTIF(D12:EL12,"s") -> 4
A13: 1 | B13: Betriebliche Abläufe (Produktion, Lieferketten, Mitarbeiter:innen, Logistik, Energieversorgung, etc.) - Klimarisikoanalyse/-management | C13: smart | E13: =IF(COUNTA(F13:Q13)>0,"x","") | R13: =IF(COUNTA(S13:AA13)>0,"x","") | AB13: =IF(COUNTA(AC13:AL13)>0,"x","") -> x | AF13: s | AG13: s | AH13: s | AJ13: s | AK13: s | AM13: =IF(COUNTA(AN13:AT13)>0,"x","") | AU13: =IF(COUNTA(AV13:BA13)>0,"x","") -> x | AV13: s | AX13: s | AY13: s | BB13: =IF(COUNTA(BC13:BM13)>0,"x","") -> x | BC13: s | BD13: s | BE13: s | BG13: s | BH13: s | BN13: =IF(COUNTA(BO13:BU13)>0,"x","") -> x | BO13: s | BQ13: s | BU13: s | BV13: =IF(COUNTA(BW13:CE13)>0,"x","") | CF13: =IF(COUNTA(CG13:CO13)>0,"x","") -> x | CJ13: s | CM13: s | CN13: s | CO13: s | CP13: =IF(COUNTA(CQ13:DC13)>0,"x","") | DD13: =IF(COUNTA(DE13:DM13)>0,"x","") -> x | DE13: s | DN13: =IF(COUNTA(DO13:DW13)>0,"x","") | DX13: =IF(COUNTA(DY13:EE13)>0,"x","") -> x | DY13: p | DZ13: s | EA13: s | EB13: s | EC13: s | EF13: =IF(COUNTA(EG13:EL13)>0,"x","") | EM13: Gefahren- und Risikoanalyse | EN13: sonstige (bitte spezifizieren!) | EO13: übergreifend/sonstige | EQ13: =COUNTIF(D13:EL13,"p") -> 1 | ER13: =COUNTIF(D13:EL13,"s") -> 25
A14: 1 | B14: Betriebliche Abläufe (Produktion, Lieferketten, Mitarbeiter:innen, Logistik, Energieversorgung, etc.) - Umsetzung betriebliches Risikomanagement | C14: smart | E14: =IF(COUNTA(F14:Q14)>0,"x","") | R14: =IF(COUNTA(S14:AA14)>0,"x","") | AB14: =IF(COUNTA(AC14:AL14)>0,"x","") -> x | AF14: s | AG14: s | AH14: s | AJ14: s | AK14: s | AM14: =IF(COUNTA(AN14:AT14)>0,"x","") | AU14: =IF(COUNTA(AV14:BA14)>0,"x","") -> x | AV14: s | AX14: s | AY14: s | BB14: =IF(COUNTA(BC14:BM14)>0,"x","") -> x | BC14: s | BD14: s | BE14: s | BG14: s | BH14: s | BN14: =IF(COUNTA(BO14:BU14)>0,"x","") -> x | BO14: s | BQ14: s | BU14: s | BV14: =IF(COUNTA(BW14:CE14)>0,"x","") | CF14: =IF(COUNTA(CG14:CO14)>0,"x","") -> x | CJ14: s | CM14: s | CN14: s | CO14: s | CP14: =IF(COUNTA(CQ14:DC14)>0,"x","") | DD14: =IF(COUNTA(DE14:DM14)>0,"x","") -> x | DE14: s | DN14: =IF(COUNTA(DO14:DW14)>0,"x","") | DX14: =IF(COUNTA(DY14:EE14)>0,"x","") -> x | DY14: s | DZ14: p | EA14: s | EB14: s | EC14: s | EF14: =IF(COUNTA(EG14:EL14)>0,"x","") | EM14: Eigenvorsorge-Maßnahme | EN14: sonstige (bitte spezifizieren!) | EO14: übergreifend/sonstige | EQ14: =COUNTIF(D14:EL14,"p") -> 1 | ER14: =COUNTIF(D14:EL14,"s") -> 25
A15: 1 | B15: Bewusstseinsbildung, Kommunikation, Öffentlichkeitsarbeit allgemein/sektorübergreifend Klimawandelanpassung | C15: soft | D15: p | E15: =IF(COUNTA(F15:Q15)>0,"x","") | R15: =IF(COUNTA(S15:AA15)>0,"x","") | AB15: =IF(COUNTA(AC15:AL15)>0,"x","") | AM15: =IF(COUNTA(AN15:AT15)>0,"x","") | AU15: =IF(COUNTA(AV15:BA15)>0,"x","") | BB15: =IF(COUNTA(BC15:BM15)>0,"x","") | BN15: =IF(COUNTA(BO15:BU15)>0,"x","") | BV15: =IF(COUNTA(BW15:CE15)>0,"x","") | CF15: =IF(COUNTA(CG15:CO15)>0,"x","") | CP15: =IF(COUNTA(CQ15:DC15)>0,"x","") | DD15: =IF(COUNTA(DE15:DM15)>0,"x","") | DN15: =IF(COUNTA(DO15:DW15)>0,"x","") | DX15: =IF(COUNTA(DY15:EE15)>0,"x","") -> x | ED15: s | EF15: =IF(COUNTA(EG15:EL15)>0,"x","") | EN15: erreichte Personen | EO15: übergreifend/sonstige | EQ15: =COUNTIF(D15:EL15,"p") -> 1 | ER15: =COUNTIF(D15:EL15,"s") -> 1
A16: 1 | B16: Bewusstseinsbildung, Kommunikation, Öffentlichkeitsarbeit Bauen und Wohnen | C16: soft | E16: =IF(COUNTA(F16:Q16)>0,"x","") | R16: =IF(COUNTA(S16:AA16)>0,"x","") | AB16: =IF(COUNTA(AC16:AL16)>0,"x","") | AM16: =IF(COUNTA(AN16:AT16)>0,"x","") | AU16: =IF(COUNTA(AV16:BA16)>0,"x","") | BB16: =IF(COUNTA(BC16:BM16)>0,"x","") -> x | BJ16: p | BN16: =IF(COUNTA(BO16:BU16)>0,"x","") | BV16: =IF(COUNTA(BW16:CE16)>0,"x","") | CF16: =IF(COUNTA(CG16:CO16)>0,"x","") | CP16: =IF(COUNTA(CQ16:DC16)>0,"x","") | DD16: =IF(COUNTA(DE16:DM16)>0,"x","") | DN16: =IF(COUNTA(DO16:DW16)>0,"x","") | DX16: =IF(COUNTA(DY16:EE16)>0,"x","") -> x | ED16: s | EF16: =IF(COUNTA(EG16:EL16)>0,"x","") | EN16: erreichte Personen | EO16: übergreifend/sonstige | EQ16: =COUNTIF(D16:EL16,"p") -> 1 | ER16: =COUNTIF(D16:EL16,"s") -> 1
A17: 1 | B17: Bewusstseinsbildung, Kommunikation, Öffentlichkeitsarbeit Biodiversitäts- und Ökosysteme | C17: soft | E17: =IF(COUNTA(F17:Q17)>0,"x","") | R17: =IF(COUNTA(S17:AA17)>0,"x","") | AB17: =IF(COUNTA(AC17:AL17)>0,"x","") | AM17: =IF(COUNTA(AN17:AT17)>0,"x","") | AU17: =IF(COUNTA(AV17:BA17)>0,"x","") | BB17: =IF(COUNTA(BC17:BM17)>0,"x","") | BN17: =IF(COUNTA(BO17:BU17)>0,"x","") | BV17: =IF(COUNTA(BW17:CE17)>0,"x","") | CF17: =IF(COUNTA(CG17:CO17)>0,"x","") | CP17: =IF(COUNTA(CQ17:DC17)>0,"x","") -> x | CY17: p | DD17: =IF(COUNTA(DE17:DM17)>0,"x","") | DN17: =IF(COUNTA(DO17:DW17)>0,"x","") | DX17: =IF(COUNTA(DY17:EE17)>0,"x","") | EF17: =IF(COUNTA(EG17:EL17)>0,"x","") | EN17: erreichte Personen | EO17: übergreifend/sonstige | EQ17: =COUNTIF(D17:EL17,"p") -> 1 | ER17: =COUNTIF(D17:EL17,"s") -> 0
A18: 1 | B18: Bewusstseinsbildung, Kommunikation, Öffentlichkeitsarbeit Bodenschutz, Bodenverbrauch, Entsiegelung im Siedlungsraum/Verkehrsflächen | C18: soft | E18: =IF(COUNTA(F18:Q18)>0,"x","") | R18: =IF(COUNTA(S18:AA18)>0,"x","") | AB18: =IF(COUNTA(AC18:AL18)>0,"x","") | AM18: =IF(COUNTA(AN18:AT18)>0,"x","") | AU18: =IF(COUNTA(AV18:BA18)>0,"x","") | BB18: =IF(COUNTA(BC18:BM18)>0,"x","") -> x | BH18: s | BN18: =IF(COUNTA(BO18:BU18)>0,"x","") -> x | BQ18: s | BV18: =IF(COUNTA(BW18:CE18)>0,"x","") | CF18: =IF(COUNTA(CG18:CO18)>0,"x","") | CP18: =IF(COUNTA(CQ18:DC18)>0,"x","") -> x | CS18: s | CZ18: s | DD18: =IF(COUNTA(DE18:DM18)>0,"x","") -> x | DI18: s | DN18: =IF(COUNTA(DO18:DW18)>0,"x","") -> x | DO18: s | DV18: p | DW18: s | DX18: =IF(COUNTA(DY18:EE18)>0,"x","") | EF18: =IF(COUNTA(EG18:EL18)>0,"x","") -> x | EK18: s | EL18: s | EN18: erreichte Personen | EO18: übergreifend/sonstige | EQ18: =COUNTIF(D18:EL18,"p") -> 1 | ER18: =COUNTIF(D18:EL18,"s") -> 9
A19: 1 | B19: Bewusstseinsbildung, Kommunikation, Öffentlichkeitsarbeit Gesundheit allgemein | C19: soft | E19: =IF(COUNTA(F19:Q19)>0,"x","") | R19: =IF(COUNTA(S19:AA19)>0,"x","") | AB19: =IF(COUNTA(AC19:AL19)>0,"x","") | AM19: =IF(COUNTA(AN19:AT19)>0,"x","") | AU19: =IF(COUNTA(AV19:BA19)>0,"x","") | BB19: =IF(COUNTA(BC19:BM19)>0,"x","") | BN19: =IF(COUNTA(BO19:BU19)>0,"x","") | BV19: =IF(COUNTA(BW19:CE19)>0,"x","") | CF19: =IF(COUNTA(CG19:CO19)>0,"x","") -> x | CG19: p | CH19: s | CJ19: s | CK19: s | CL19: s | CM19: s | CN19: s | CP19: =IF(COUNTA(CQ19:DC19)>0,"x","") | DD19: =IF(COUNTA(DE19:DM19)>0,"x","") | DN19: =IF(COUNTA(DO19:DW19)>0,"x","") | DX19: =IF(COUNTA(DY19:EE19)>0,"x","") | EF19: =IF(COUNTA(EG19:EL19)>0,"x","") | EN19: erreichte Personen | EO19: übergreifend/sonstige | EQ19: =COUNTIF(D19:EL19,"p") -> 1 | ER19: =COUNTIF(D19:EL19,"s") -> 6
A20: 1 | B20: Bewusstseinsbildung, Kommunikation, Öffentlichkeitsarbeit Hitzeschutz Gesundheit (Verhaltenshinweise, …) | C20: soft | E20: =IF(COUNTA(F20:Q20)>0,"x","") | R20: =IF(COUNTA(S20:AA20)>0,"x","") | AB20: =IF(COUNTA(AC20:AL20)>0,"x","") | AM20: =IF(COUNTA(AN20:AT20)>0,"x","") | AU20: =IF(COUNTA(AV20:BA20)>0,"x","") | BB20: =IF(COUNTA(BC20:BM20)>0,"x","") | BN20: =IF(COUNTA(BO20:BU20)>0,"x","") | BV20: =IF(COUNTA(BW20:CE20)>0,"x","") | CF20: =IF(COUNTA(CG20:CO20)>0,"x","") -> x | CG20: s | CH20: s | CJ20: p | CP20: =IF(COUNTA(CQ20:DC20)>0,"x","") | DD20: =IF(COUNTA(DE20:DM20)>0,"x","") | DN20: =IF(COUNTA(DO20:DW20)>0,"x","") | DX20: =IF(COUNTA(DY20:EE20)>0,"x","") | EF20: =IF(COUNTA(EG20:EL20)>0,"x","") | EN20: erreichte Personen | EO20: Hitze | EQ20: =COUNTIF(D20:EL20,"p") -> 1 | ER20: =COUNTIF(D20:EL20,"s") -> 2
A21: 1 | B21: Bewusstseinsbildung, Kommunikation, Öffentlichkeitsarbeit Hochwasser fluvial | C21: soft | E21: =IF(COUNTA(F21:Q21)>0,"x","") | R21: =IF(COUNTA(S21:AA21)>0,"x","") | AB21: =IF(COUNTA(AC21:AL21)>0,"x","") -> x | AH21: s | AM21: =IF(COUNTA(AN21:AT21)>0,"x","") | AU21: =IF(COUNTA(AV21:BA21)>0,"x","") | BB21: =IF(COUNTA(BC21:BM21)>0,"x","") | BN21: =IF(COUNTA(BO21:BU21)>0,"x","") -> x | BO21: p | BQ21: s | BU21: s | BV21: =IF(COUNTA(BW21:CE21)>0,"x","") | CF21: =IF(COUNTA(CG21:CO21)>0,"x","") | CP21: =IF(COUNTA(CQ21:DC21)>0,"x","") | DD21: =IF(COUNTA(DE21:DM21)>0,"x","") | DN21: =IF(COUNTA(DO21:DW21)>0,"x","") | DX21: =IF(COUNTA(DY21:EE21)>0,"x","") | EF21: =IF(COUNTA(EG21:EL21)>0,"x","") | EN21: erreichte Personen | EO21: Hochwasser | EQ21: =COUNTIF(D21:EL21,"p") -> 1 | ER21: =COUNTIF(D21:EL21,"s") -> 3
A22: 1 | B22: Bewusstseinsbildung, Kommunikation, Öffentlichkeitsarbeit Hochwasser pluvial, Oberflächenabfluss, Starkregen | C22: soft | E22: =IF(COUNTA(F22:Q22)>0,"x","") | R22: =IF(COUNTA(S22:AA22)>0,"x","") | AB22: =IF(COUNTA(AC22:AL22)>0,"x","") -> x | AH22: s | AM22: =IF(COUNTA(AN22:AT22)>0,"x","") | AU22: =IF(COUNTA(AV22:BA22)>0,"x","") | BB22: =IF(COUNTA(BC22:BM22)>0,"x","") -> x | BH22: s | BN22: =IF(COUNTA(BO22:BU22)>0,"x","") -> x | BO22: p | BQ22: s | BU22: s | BV22: =IF(COUNTA(BW22:CE22)>0,"x","") | CF22: =IF(COUNTA(CG22:CO22)>0,"x","") | CP22: =IF(COUNTA(CQ22:DC22)>0,"x","") | DD22: =IF(COUNTA(DE22:DM22)>0,"x","") | DN22: =IF(COUNTA(DO22:DW22)>0,"x","") | DX22: =IF(COUNTA(DY22:EE22)>0,"x","") | EF22: =IF(COUNTA(EG22:EL22)>0,"x","") | EN22: erreichte Personen | EO22: Starkniederschlag/Oberflächenabfluss | EQ22: =COUNTIF(D22:EL22,"p") -> 1 | ER22: =COUNTIF(D22:EL22,"s") -> 4
A23: 1 | B23: Bewusstseinsbildung, Kommunikation, Öffentlichkeitsarbeit klimaresilienter Garten (Natur im Garten, klimaresilientes Gärtnern, Biodiversitätsflächen, …) | C23: soft | E23: =IF(COUNTA(F23:Q23)>0,"x","") | R23: =IF(COUNTA(S23:AA23)>0,"x","") | AB23: =IF(COUNTA(AC23:AL23)>0,"x","") | AM23: =IF(COUNTA(AN23:AT23)>0,"x","") | AU23: =IF(COUNTA(AV23:BA23)>0,"x","") | BB23: =IF(COUNTA(BC23:BM23)>0,"x","") -> x | BE23: s | BJ23: s | BN23: =IF(COUNTA(BO23:BU23)>0,"x","") | BV23: =IF(COUNTA(BW23:CE23)>0,"x","") | CF23: =IF(COUNTA(CG23:CO23)>0,"x","") -> x | CL23: s | CP23: =IF(COUNTA(CQ23:DC23)>0,"x","") -> x | CS23: s | CY23: s | CZ23: s | DB23: p | DD23: =IF(COUNTA(DE23:DM23)>0,"x","") | DN23: =IF(COUNTA(DO23:DW23)>0,"x","") | DX23: =IF(COUNTA(DY23:EE23)>0,"x","") | EF23: =IF(COUNTA(EG23:EL23)>0,"x","") -> x | EI23: s | EJ23: s | EK23: s | EN23: erreichte Personen | EO23: übergreifend/sonstige | EQ23: =COUNTIF(D23:EL23,"p") -> 1 | ER23: =COUNTIF(D23:EL23,"s") -> 9
A24: 1 | B24: Bewusstseinsbildung, Kommunikation, Öffentlichkeitsarbeit Krisen- und Katastrophenschutz (Schaffung eines adäquaten, zielgruppengerechten Risikobewusstseins, Risikokommunikation, Risikoverhalten, …) | C24: soft | E24: =IF(COUNTA(F24:Q24)>0,"x","") | R24: =IF(COUNTA(S24:AA24)>0,"x","") | AB24: =IF(COUNTA(AC24:AL24)>0,"x","") | AM24: =IF(COUNTA(AN24:AT24)>0,"x","") | AU24: =IF(COUNTA(AV24:BA24)>0,"x","") | BB24: =IF(COUNTA(BC24:BM24)>0,"x","") | BN24: =IF(COUNTA(BO24:BU24)>0,"x","") | BV24: =IF(COUNTA(BW24:CE24)>0,"x","") -> x | BW24: p | CA24: s | CB24: s | CD24: s | CF24: =IF(COUNTA(CG24:CO24)>0,"x","") | CP24: =IF(COUNTA(CQ24:DC24)>0,"x","") | DD24: =IF(COUNTA(DE24:DM24)>0,"x","") | DN24: =IF(COUNTA(DO24:DW24)>0,"x","") | DX24: =IF(COUNTA(DY24:EE24)>0,"x","") | EF24: =IF(COUNTA(EG24:EL24)>0,"x","") | EN24: erreichte Personen | EO24: übergreifend/sonstige | EQ24: =COUNTIF(D24:EL24,"p") -> 1 | ER24: =COUNTIF(D24:EL24,"s") -> 3
A25: 1 | B25: Bewusstseinsbildung, Kommunikation, Öffentlichkeitsarbeit Landwirtschaft - Ackerflächen, Grünland | C25: soft | E25: =IF(COUNTA(F25:Q25)>0,"x","") -> x | G25: p | H25: s | K25: s | L25: s | M25: s | Q25: s | R25: =IF(COUNTA(S25:AA25)>0,"x","") | AB25: =IF(COUNTA(AC25:AL25)>0,"x","") | AM25: =IF(COUNTA(AN25:AT25)>0,"x","") | AU25: =IF(COUNTA(AV25:BA25)>0,"x","") | BB25: =IF(COUNTA(BC25:BM25)>0,"x","") | BN25: =IF(COUNTA(BO25:BU25)>0,"x","") | BV25: =IF(COUNTA(BW25:CE25)>0,"x","") | CF25: =IF(COUNTA(CG25:CO25)>0,"x","") -> x | CO25: s | CP25: =IF(COUNTA(CQ25:DC25)>0,"x","") -> x | CR25: s | CZ25: s | DD25: =IF(COUNTA(DE25:DM25)>0,"x","") | DN25: =IF(COUNTA(DO25:DW25)>0,"x","") | DX25: =IF(COUNTA(DY25:EE25)>0,"x","") | EF25: =IF(COUNTA(EG25:EL25)>0,"x","") | EN25: erreichte Personen | EO25: übergreifend/sonstige | EQ25: =COUNTIF(D25:EL25,"p") -> 1 | ER25: =COUNTIF(D25:EL25,"s") -> 8
A26: 1 | B26: Bewusstseinsbildung, Kommunikation, Öffentlichkeitsarbeit Landwirtschaft - Almen | C26: soft | E26: =IF(COUNTA(F26:Q26)>0,"x","") -> x | G26: s | H26: s | L26: s | O26: p | Q26: s | R26: =IF(COUNTA(S26:AA26)>0,"x","") | AB26: =IF(COUNTA(AC26:AL26)>0,"x","") | AM26: =IF(COUNTA(AN26:AT26)>0,"x","") | AU26: =IF(COUNTA(AV26:BA26)>0,"x","") | BB26: =IF(COUNTA(BC26:BM26)>0,"x","") | BN26: =IF(COUNTA(BO26:BU26)>0,"x","") | BV26: =IF(COUNTA(BW26:CE26)>0,"x","") | CF26: =IF(COUNTA(CG26:CO26)>0,"x","") -> x | CO26: s | CP26: =IF(COUNTA(CQ26:DC26)>0,"x","") -> x | CR26: s | CZ26: s | DD26: =IF(COUNTA(DE26:DM26)>0,"x","") | DN26: =IF(COUNTA(DO26:DW26)>0,"x","") | DX26: =IF(COUNTA(DY26:EE26)>0,"x","") | EF26: =IF(COUNTA(EG26:EL26)>0,"x","") | EN26: erreichte Personen | EO26: übergreifend/sonstige | EQ26: =COUNTIF(D26:EL26,"p") -> 1 | ER26: =COUNTIF(D26:EL26,"s") -> 7
A27: 1 | B27: Bewusstseinsbildung, Kommunikation, Öffentlichkeitsarbeit Landwirtschaft - Bodenschutz | C27: soft | E27: =IF(COUNTA(F27:Q27)>0,"x","") -> x | F27: p | G27: s | H27: s | L27: s | M27: s | Q27: s | R27: =IF(COUNTA(S27:AA27)>0,"x","") | AB27: =IF(COUNTA(AC27:AL27)>0,"x","") | AM27: =IF(COUNTA(AN27:AT27)>0,"x","") | AU27: =IF(COUNTA(AV27:BA27)>0,"x","") | BB27: =IF(COUNTA(BC27:BM27)>0,"x","") | BN27: =IF(COUNTA(BO27:BU27)>0,"x","") | BV27: =IF(COUNTA(BW27:CE27)>0,"x","") | CF27: =IF(COUNTA(CG27:CO27)>0,"x","") -> x | CO27: s | CP27: =IF(COUNTA(CQ27:DC27)>0,"x","") -> x | CR27: s | CZ27: s | DD27: =IF(COUNTA(DE27:DM27)>0,"x","") | DN27: =IF(COUNTA(DO27:DW27)>0,"x","") | DX27: =IF(COUNTA(DY27:EE27)>0,"x","") | EF27: =IF(COUNTA(EG27:EL27)>0,"x","") | EN27: erreichte Personen | EO27: übergreifend/sonstige | EQ27: =COUNTIF(D27:EL27,"p") -> 1 | ER27: =COUNTIF(D27:EL27,"s") -> 8
A28: 1 | B28: Bewusstseinsbildung, Kommunikation, Öffentlichkeitsarbeit Landwirtschaft - Obst- und Weinbau | C28: soft | E28: =IF(COUNTA(F28:Q28)>0,"x","") -> x | G28: p | K28: s | L28: s | M28: s | O28: s | Q28: s | R28: =IF(COUNTA(S28:AA28)>0,"x","") | AB28: =IF(COUNTA(AC28:AL28)>0,"x","") | AM28: =IF(COUNTA(AN28:AT28)>0,"x","") | AU28: =IF(COUNTA(AV28:BA28)>0,"x","") | BB28: =IF(COUNTA(BC28:BM28)>0,"x","") | BN28: =IF(COUNTA(BO28:BU28)>0,"x","") | BV28: =IF(COUNTA(BW28:CE28)>0,"x","") | CF28: =IF(COUNTA(CG28:CO28)>0,"x","") -> x | CO28: s | CP28: =IF(COUNTA(CQ28:DC28)>0,"x","") -> x | CR28: s | CZ28: s | DD28: =IF(COUNTA(DE28:DM28)>0,"x","") | DN28: =IF(COUNTA(DO28:DW28)>0,"x","") | DX28: =IF(COUNTA(DY28:EE28)>0,"x","") | EF28: =IF(COUNTA(EG28:EL28)>0,"x","") | EN28: erreichte Personen | EO28: übergreifend/sonstige | EQ28: =COUNTIF(D28:EL28,"p") -> 1 | ER28: =COUNTIF(D28:EL28,"s") -> 8
A29: 1 | B29: Bewusstseinsbildung, Kommunikation, Öffentlichkeitsarbeit Landwirtschaft - Viehhaltung, Tierwohl | C29: soft | E29: =IF(COUNTA(F29:Q29)>0,"x","") -> x | F29: s | G29: s | L29: s | P29: p | Q29: s | R29: =IF(COUNTA(S29:AA29)>0,"x","") | AB29: =IF(COUNTA(AC29:AL29)>0,"x","") | AM29: =IF(COUNTA(AN29:AT29)>0,"x","") | AU29: =IF(COUNTA(AV29:BA29)>0,"x","") | BB29: =IF(COUNTA(BC29:BM29)>0,"x","") | BN29: =IF(COUNTA(BO29:BU29)>0,"x","") | BV29: =IF(COUNTA(BW29:CE29)>0,"x","") | CF29: =IF(COUNTA(CG29:CO29)>0,"x","") -> x | CK29: s | CO29: s | CP29: =IF(COUNTA(CQ29:DC29)>0,"x","") -> x | CR29: s | CZ29: s | DD29: =IF(COUNTA(DE29:DM29)>0,"x","") | DN29: =IF(COUNTA(DO29:DW29)>0,"x","") | DX29: =IF(COUNTA(DY29:EE29)>0,"x","") | EF29: =IF(COUNTA(EG29:EL29)>0,"x","") | EN29: erreichte Personen | EO29: übergreifend/sonstige | EQ29: =COUNTIF(D29:EL29,"p") -> 1 | ER29: =COUNTIF(D29:EL29,"s") -> 8
A30: 1 | B30: Bewusstseinsbildung, Kommunikation, Öffentlichkeitsarbeit Neophyten-/Neobiotamanagement | C30: soft | E30: =IF(COUNTA(F30:Q30)>0,"x","") | R30: =IF(COUNTA(S30:AA30)>0,"x","") | AB30: =IF(COUNTA(AC30:AL30)>0,"x","") | AM30: =IF(COUNTA(AN30:AT30)>0,"x","") | AU30: =IF(COUNTA(AV30:BA30)>0,"x","") | BB30: =IF(COUNTA(BC30:BM30)>0,"x","") | BN30: =IF(COUNTA(BO30:BU30)>0,"x","") | BV30: =IF(COUNTA(BW30:CE30)>0,"x","") | CF30: =IF(COUNTA(CG30:CO30)>0,"x","") -> x | CL30: s | CP30: =IF(COUNTA(CQ30:DC30)>0,"x","") -> x | CR30: s | CS30: s | CU30: s | CV30: s | CW30: s | CY30: p | DD30: =IF(COUNTA(DE30:DM30)>0,"x","") | DN30: =IF(COUNTA(DO30:DW30)>0,"x","") | DX30: =IF(COUNTA(DY30:EE30)>0,"x","") | EF30: =IF(COUNTA(EG30:EL30)>0,"x","") | EN30: erreichte Personen | EO30: Schädlingskalamitäten und invasive Arten | EQ30: =COUNTIF(D30:EL30,"p") -> 1 | ER30: =COUNTIF(D30:EL30,"s") -> 6
A31: 1 | B31: Bewusstseinsbildung, Kommunikation, Öffentlichkeitsarbeit Reaktivierung/Revitalisierung Ortskern, versiegelte Flächen etc. | C31: soft | E31: =IF(COUNTA(F31:Q31)>0,"x","") | R31: =IF(COUNTA(S31:AA31)>0,"x","") | AB31: =IF(COUNTA(AC31:AL31)>0,"x","") | AM31: =IF(COUNTA(AN31:AT31)>0,"x","") | AU31: =IF(COUNTA(AV31:BA31)>0,"x","") | BB31: =IF(COUNTA(BC31:BM31)>0,"x","") -> x | BE31: s | BN31: =IF(COUNTA(BO31:BU31)>0,"x","") -> x | BU31: s | BV31: =IF(COUNTA(BW31:CE31)>0,"x","") | CF31: =IF(COUNTA(CG31:CO31)>0,"x","") | CP31: =IF(COUNTA(CQ31:DC31)>0,"x","") -> x | DB31: s | DD31: =IF(COUNTA(DE31:DM31)>0,"x","") -> x | DM31: s | DN31: =IF(COUNTA(DO31:DW31)>0,"x","") -> x | DO31: p | DX31: =IF(COUNTA(DY31:EE31)>0,"x","") | EF31: =IF(COUNTA(EG31:EL31)>0,"x","") | EN31: erreichte Personen | EO31: übergreifend/sonstige | EQ31: =COUNTIF(D31:EL31,"p") -> 1 | ER31: =COUNTIF(D31:EL31,"s") -> 4
A32: 1 | B32: Bewusstseinsbildung, Kommunikation, Öffentlichkeitsarbeit Schutz vor Naturgefahren/Klimafolgen, verhaltenswirksame Vorsorge vulnerable Gruppen | C32: soft | E32: =IF(COUNTA(F32:Q32)>0,"x","") | R32: =IF(COUNTA(S32:AA32)>0,"x","") | AB32: =IF(COUNTA(AC32:AL32)>0,"x","") | AM32: =IF(COUNTA(AN32:AT32)>0,"x","") | AU32: =IF(COUNTA(AV32:BA32)>0,"x","") | BB32: =IF(COUNTA(BC32:BM32)>0,"x","") | BN32: =IF(COUNTA(BO32:BU32)>0,"x","") -> x | BO32: p | BU32: s | BV32: =IF(COUNTA(BW32:CE32)>0,"x","") -> x | BW32: s | BY32: s | CF32: =IF(COUNTA(CG32:CO32)>0,"x","") | CP32: =IF(COUNTA(CQ32:DC32)>0,"x","") | DD32: =IF(COUNTA(DE32:DM32)>0,"x","") | DN32: =IF(COUNTA(DO32:DW32)>0,"x","") | DX32: =IF(COUNTA(DY32:EE32)>0,"x","") | EF32: =IF(COUNTA(EG32:EL32)>0,"x","") | EN32: erreichte Personen | EO32: übergreifend/sonstige | EQ32: =COUNTIF(D32:EL32,"p") -> 1 | ER32: =COUNTIF(D32:EL32,"s") -> 3
A33: 1 | B33: Bewusstseinsbildung, Kommunikation, Öffentlichkeitsarbeit Schutz vor Naturgefahren/Klimafolgen, verhaltenswirksame Vorsorge | C33: soft | E33: =IF(COUNTA(F33:Q33)>0,"x","") | R33: =IF(COUNTA(S33:AA33)>0,"x","") | AB33: =IF(COUNTA(AC33:AL33)>0,"x","") | AM33: =IF(COUNTA(AN33:AT33)>0,"x","") | AU33: =IF(COUNTA(AV33:BA33)>0,"x","") | BB33: =IF(COUNTA(BC33:BM33)>0,"x","") | BN33: =IF(COUNTA(BO33:BU33)>0,"x","") -> x | BO33: p | BU33: s | BV33: =IF(COUNTA(BW33:CE33)>0,"x","") -> x | BY33: s | CF33: =IF(COUNTA(CG33:CO33)>0,"x","") | CP33: =IF(COUNTA(CQ33:DC33)>0,"x","") | DD33: =IF(COUNTA(DE33:DM33)>0,"x","") | DN33: =IF(COUNTA(DO33:DW33)>0,"x","") | DX33: =IF(COUNTA(DY33:EE33)>0,"x","") | EF33: =IF(COUNTA(EG33:EL33)>0,"x","") | EN33: erreichte Personen | EO33: übergreifend/sonstige | EQ33: =COUNTIF(D33:EL33,"p") -> 1 | ER33: =COUNTIF(D33:EL33,"s") -> 2
A34: 1 | B34: Bewusstseinsbildung, Kommunikation, Öffentlichkeitsarbeit Schwammstadt, Versickerung im Siedlungsbereich | C34: soft | E34: =IF(COUNTA(F34:Q34)>0,"x","") | R34: =IF(COUNTA(S34:AA34)>0,"x","") | AB34: =IF(COUNTA(AC34:AL34)>0,"x","") -> x | AG34: s | AH34: s | AM34: =IF(COUNTA(AN34:AT34)>0,"x","") | AU34: =IF(COUNTA(AV34:BA34)>0,"x","") | BB34: =IF(COUNTA(BC34:BM34)>0,"x","") -> x | BE34: s | BG34: s | BH34: s | BJ34: p | BL34: s | BN34: =IF(COUNTA(BO34:BU34)>0,"x","") -> x | BQ34: s | BV34: =IF(COUNTA(BW34:CE34)>0,"x","") | CF34: =IF(COUNTA(CG34:CO34)>0,"x","") | CP34: =IF(COUNTA(CQ34:DC34)>0,"x","") | DD34: =IF(COUNTA(DE34:DM34)>0,"x","") | DN34: =IF(COUNTA(DO34:DW34)>0,"x","") | DX34: =IF(COUNTA(DY34:EE34)>0,"x","") | EF34: =IF(COUNTA(EG34:EL34)>0,"x","") -> x | EH34: s | EJ34: s | EN34: erreichte Personen | EO34: Starkniederschlag/Oberflächenabfluss | EQ34: =COUNTIF(D34:EL34,"p") -> 1 | ER34: =COUNTIF(D34:EL34,"s") -> 9
A35: 1 | B35: Bewusstseinsbildung, Kommunikation, Öffentlichkeitsarbeit Verkehrsflächen (Klimaresilienz bzgl. Starkregen, Hitze, Frost-Tau-Wechsel, etc.) | C35: soft | E35: =IF(COUNTA(F35:Q35)>0,"x","") | R35: =IF(COUNTA(S35:AA35)>0,"x","") | AB35: =IF(COUNTA(AC35:AL35)>0,"x","") | AM35: =IF(COUNTA(AN35:AT35)>0,"x","") | AU35: =IF(COUNTA(AV35:BA35)>0,"x","") | BB35: =IF(COUNTA(BC35:BM35)>0,"x","") | BN35: =IF(COUNTA(BO35:BU35)>0,"x","") -> x | BQ35: s | BV35: =IF(COUNTA(BW35:CE35)>0,"x","") | CF35: =IF(COUNTA(CG35:CO35)>0,"x","") | CP35: =IF(COUNTA(CQ35:DC35)>0,"x","") | DD35: =IF(COUNTA(DE35:DM35)>0,"x","") -> x | DE35: s | DH35: s | DI35: s | DJ35: s | DK35: s | DL35: s | DM35: p | DN35: =IF(COUNTA(DO35:DW35)>0,"x","") | DX35: =IF(COUNTA(DY35:EE35)>0,"x","") | EF35: =IF(COUNTA(EG35:EL35)>0,"x","") | EN35: erreichte Personen | EO35: übergreifend/sonstige | EQ35: =COUNTIF(D35:EL35,"p") -> 1 | ER35: =COUNTIF(D35:EL35,"s") -> 7
A36: 1 | B36: Bewusstseinsbildung, Kommunikation, Öffentlichkeitsarbeit Wald und Forst | C36: soft | E36: =IF(COUNTA(F36:Q36)>0,"x","") | R36: =IF(COUNTA(S36:AA36)>0,"x","") -> x | V36: p | AB36: =IF(COUNTA(AC36:AL36)>0,"x","") | AM36: =IF(COUNTA(AN36:AT36)>0,"x","") | AU36: =IF(COUNTA(AV36:BA36)>0,"x","") | BB36: =IF(COUNTA(BC36:BM36)>0,"x","") | BN36: =IF(COUNTA(BO36:BU36)>0,"x","") | BV36: =IF(COUNTA(BW36:CE36)>0,"x","") | CF36: =IF(COUNTA(CG36:CO36)>0,"x","") | CP36: =IF(COUNTA(CQ36:DC36)>0,"x","") | DD36: =IF(COUNTA(DE36:DM36)>0,"x","") | DN36: =IF(COUNTA(DO36:DW36)>0,"x","") | DX36: =IF(COUNTA(DY36:EE36)>0,"x","") | EF36: =IF(COUNTA(EG36:EL36)>0,"x","") | EN36: erreichte Personen | EO36: übergreifend/sonstige | EQ36: =COUNTIF(D36:EL36,"p") -> 1 | ER36: =COUNTIF(D36:EL36,"s") -> 0
A37: 1 | B37: Bewusstseinsbildung, Kommunikation, Öffentlichkeitsarbeit Waldbrandgefahr und -vorsorge | C37: soft | E37: =IF(COUNTA(F37:Q37)>0,"x","") | R37: =IF(COUNTA(S37:AA37)>0,"x","") -> x | X37: p | AB37: =IF(COUNTA(AC37:AL37)>0,"x","") | AM37: =IF(COUNTA(AN37:AT37)>0,"x","") | AU37: =IF(COUNTA(AV37:BA37)>0,"x","") | BB37: =IF(COUNTA(BC37:BM37)>0,"x","") | BN37: =IF(COUNTA(BO37:BU37)>0,"x","") -> x | BO37: s | BV37: =IF(COUNTA(BW37:CE37)>0,"x","") | CF37: =IF(COUNTA(CG37:CO37)>0,"x","") | CP37: =IF(COUNTA(CQ37:DC37)>0,"x","") | DD37: =IF(COUNTA(DE37:DM37)>0,"x","") | DN37: =IF(COUNTA(DO37:DW37)>0,"x","") | DX37: =IF(COUNTA(DY37:EE37)>0,"x","") -> x | ED37: s | EF37: =IF(COUNTA(EG37:EL37)>0,"x","") | EN37: erreichte Personen | EO37: Wald-/Flächenbrand | EQ37: =COUNTIF(D37:EL37,"p") -> 1 | ER37: =COUNTIF(D37:EL37,"s") -> 2
A38: 1 | B38: Bewusstseinsbildung, Kommunikation, Öffentlichkeitsarbeit Wasserressourcen / Trockenheit - Wasserverbrauch, Wasserversorgung, Wasserentsorgung, Wasserqualität (Trinkwasser, Nutzwasser, Abwasser, ...) | C38: soft | E38: =IF(COUNTA(F38:Q38)>0,"x","") -> x | M38: s | R38: =IF(COUNTA(S38:AA38)>0,"x","") | AB38: =IF(COUNTA(AC38:AL38)>0,"x","") -> x | AC38: s | AE38: s | AF38: s | AG38: s | AJ38: s | AK38: s | AL38: p | AM38: =IF(COUNTA(AN38:AT38)>0,"x","") | AU38: =IF(COUNTA(AV38:BA38)>0,"x","") | BB38: =IF(COUNTA(BC38:BM38)>0,"x","") | BN38: =IF(COUNTA(BO38:BU38)>0,"x","") | BV38: =IF(COUNTA(BW38:CE38)>0,"x","") | CF38: =IF(COUNTA(CG38:CO38)>0,"x","") | CP38: =IF(COUNTA(CQ38:DC38)>0,"x","") | DD38: =IF(COUNTA(DE38:DM38)>0,"x","") | DN38: =IF(COUNTA(DO38:DW38)>0,"x","") | DX38: =IF(COUNTA(DY38:EE38)>0,"x","") | EF38: =IF(COUNTA(EG38:EL38)>0,"x","") | EN38: erreichte Personen | EO38: Trockenheit | EQ38: =COUNTIF(D38:EL38,"p") -> 1 | ER38: =COUNTIF(D38:EL38,"s") -> 7
A39: 1 | B39: Biodiversitätsfläche / klimaresiliente Grünfläche - Planung (Analyse, Konzept, "Natur im Garten" etc.) | C39: smart | E39: =IF(COUNTA(F39:Q39)>0,"x","") -> x | F39: s | G39: s | H39: s | L39: s | R39: =IF(COUNTA(S39:AA39)>0,"x","") | AB39: =IF(COUNTA(AC39:AL39)>0,"x","") | AM39: =IF(COUNTA(AN39:AT39)>0,"x","") | AU39: =IF(COUNTA(AV39:BA39)>0,"x","") | BB39: =IF(COUNTA(BC39:BM39)>0,"x","") | BN39: =IF(COUNTA(BO39:BU39)>0,"x","") | BV39: =IF(COUNTA(BW39:CE39)>0,"x","") | CF39: =IF(COUNTA(CG39:CO39)>0,"x","") -> x | CL39: s | CP39: =IF(COUNTA(CQ39:DC39)>0,"x","") -> x | CR39: s | CS39: s | CT39: s | CY39: s | CZ39: s | DB39: p | DD39: =IF(COUNTA(DE39:DM39)>0,"x","") | DN39: =IF(COUNTA(DO39:DW39)>0,"x","") -> x | DO39: s | DP39: s | DX39: =IF(COUNTA(DY39:EE39)>0,"x","") | EF39: =IF(COUNTA(EG39:EL39)>0,"x","") -> x | EI39: s | EJ39: s | EM39: Plan/Konzept/Strategie/Leitlinie | EN39: m² | EO39: übergreifend/sonstige | EQ39: =COUNTIF(D39:EL39,"p") -> 1 | ER39: =COUNTIF(D39:EL39,"s") -> 14
A40: 1 | B40: Biodiversitätsfläche / klimaresilienter Grünfläche - Umsetzung (Errichtung, Bepflanzung, Pflege, "Natur im Garten"...) | C40: grün | E40: =IF(COUNTA(F40:Q40)>0,"x","") -> x | F40: s | G40: s | H40: s | L40: s | R40: =IF(COUNTA(S40:AA40)>0,"x","") | AB40: =IF(COUNTA(AC40:AL40)>0,"x","") | AM40: =IF(COUNTA(AN40:AT40)>0,"x","") | AU40: =IF(COUNTA(AV40:BA40)>0,"x","") | BB40: =IF(COUNTA(BC40:BM40)>0,"x","") | BN40: =IF(COUNTA(BO40:BU40)>0,"x","") | BV40: =IF(COUNTA(BW40:CE40)>0,"x","") | CF40: =IF(COUNTA(CG40:CO40)>0,"x","") -> x | CL40: s | CP40: =IF(COUNTA(CQ40:DC40)>0,"x","") -> x | CR40: s | CS40: s | CT40: s | CY40: s | CZ40: s | DB40: p | DD40: =IF(COUNTA(DE40:DM40)>0,"x","") | DN40: =IF(COUNTA(DO40:DW40)>0,"x","") | DX40: =IF(COUNTA(DY40:EE40)>0,"x","") | EF40: =IF(COUNTA(EG40:EL40)>0,"x","") -> x | EI40: s | EJ40: s | EM40: Biodiversitätsfläche/Grünfläche/Garten | EN40: m² | EO40: übergreifend/sonstige | EQ40: =COUNTIF(D40:EL40,"p") -> 1 | ER40: =COUNTIF(D40:EL40,"s") -> 12
A41: 1 | B41: Bodenschutz - Forstwirtschaft | C41: grün | E41: =IF(COUNTA(F41:Q41)>0,"x","") | R41: =IF(COUNTA(S41:AA41)>0,"x","") -> x | T41: p | Y41: s | AB41: =IF(COUNTA(AC41:AL41)>0,"x","") | AM41: =IF(COUNTA(AN41:AT41)>0,"x","") | AU41: =IF(COUNTA(AV41:BA41)>0,"x","") | BB41: =IF(COUNTA(BC41:BM41)>0,"x","") | BN41: =IF(COUNTA(BO41:BU41)>0,"x","") -> x | BQ41: s | BV41: =IF(COUNTA(BW41:CE41)>0,"x","") | CF41: =IF(COUNTA(CG41:CO41)>0,"x","") | CP41: =IF(COUNTA(CQ41:DC41)>0,"x","") -> x | CR41: s | CS41: s | CZ41: s | DD41: =IF(COUNTA(DE41:DM41)>0,"x","") | DN41: =IF(COUNTA(DO41:DW41)>0,"x","") | DX41: =IF(COUNTA(DY41:EE41)>0,"x","") | EF41: =IF(COUNTA(EG41:EL41)>0,"x","") | EM41: Forst-/Waldfläche | EN41: ha | EO41: übergreifend/sonstige | EQ41: =COUNTIF(D41:EL41,"p") -> 1 | ER41: =COUNTIF(D41:EL41,"s") -> 5
A42: 1 | B42: Bodenschutz - Landwirtschaft | C42: grün | E42: =IF(COUNTA(F42:Q42)>0,"x","") -> x | F42: p | L42: s | R42: =IF(COUNTA(S42:AA42)>0,"x","") | AB42: =IF(COUNTA(AC42:AL42)>0,"x","") -> x | AC42: s | AD42: s | AF42: s | AL42: s | AM42: =IF(COUNTA(AN42:AT42)>0,"x","") | AU42: =IF(COUNTA(AV42:BA42)>0,"x","") | BB42: =IF(COUNTA(BC42:BM42)>0,"x","") | BN42: =IF(COUNTA(BO42:BU42)>0,"x","") | BV42: =IF(COUNTA(BW42:CE42)>0,"x","") | CF42: =IF(COUNTA(CG42:CO42)>0,"x","") | CP42: =IF(COUNTA(CQ42:DC42)>0,"x","") -> x | CR42: s | CZ42: s | DD42: =IF(COUNTA(DE42:DM42)>0,"x","") | DN42: =IF(COUNTA(DO42:DW42)>0,"x","") | DX42: =IF(COUNTA(DY42:EE42)>0,"x","") | EF42: =IF(COUNTA(EG42:EL42)>0,"x","") | EM42: Landwirtschaftliche Nutzfläche | EN42: ha | EO42: übergreifend/sonstige | EQ42: =COUNTIF(D42:EL42,"p") -> 1 | ER42: =COUNTIF(D42:EL42,"s") -> 7
A43: 1 | B43: Climate Proofing von Bauvorhaben | C43: smart | E43: =IF(COUNTA(F43:Q43)>0,"x","") | R43: =IF(COUNTA(S43:AA43)>0,"x","") | AB43: =IF(COUNTA(AC43:AL43)>0,"x","") -> x | AG43: s | AH43: s | AI43: s | AJ43: s | AL43: s | AM43: =IF(COUNTA(AN43:AT43)>0,"x","") | AU43: =IF(COUNTA(AV43:BA43)>0,"x","") | BB43: =IF(COUNTA(BC43:BM43)>0,"x","") -> x | BD43: s | BE43: s | BG43: p | BH43: s | BL43: s | BN43: =IF(COUNTA(BO43:BU43)>0,"x","") -> x | BU43: s | BV43: =IF(COUNTA(BW43:CE43)>0,"x","") -> x | BW43: s | CF43: =IF(COUNTA(CG43:CO43)>0,"x","") | CP43: =IF(COUNTA(CQ43:DC43)>0,"x","") -> x | DB43: s | DD43: =IF(COUNTA(DE43:DM43)>0,"x","") | DN43: =IF(COUNTA(DO43:DW43)>0,"x","") -> x | DQ43: s | DW43: s | DX43: =IF(COUNTA(DY43:EE43)>0,"x","") | EF43: =IF(COUNTA(EG43:EL43)>0,"x","") | EM43: Climate Proofing | EN43: - | EO43: übergreifend/sonstige | EQ43: =COUNTIF(D43:EL43,"p") -> 1 | ER43: =COUNTIF(D43:EL43,"s") -> 14
A44: 1 | B44: Eigenvorsorge - Erhöhung Schutz vor Naturgefahren/Klimafolgen in Privathaushalten | C44: grün/grau | E44: =IF(COUNTA(F44:Q44)>0,"x","") | R44: =IF(COUNTA(S44:AA44)>0,"x","") | AB44: =IF(COUNTA(AC44:AL44)>0,"x","") | AM44: =IF(COUNTA(AN44:AT44)>0,"x","") | AU44: =IF(COUNTA(AV44:BA44)>0,"x","") -> x | AX44: s | AY44: s | BB44: =IF(COUNTA(BC44:BM44)>0,"x","") -> x | BC44: s | BD44: s | BH44: s | BL44: s | BN44: =IF(COUNTA(BO44:BU44)>0,"x","") -> x | BO44: s | BT44: s | BU44: p | BV44: =IF(COUNTA(BW44:CE44)>0,"x","") | CF44: =IF(COUNTA(CG44:CO44)>0,"x","") | CP44: =IF(COUNTA(CQ44:DC44)>0,"x","") | DD44: =IF(COUNTA(DE44:DM44)>0,"x","") | DN44: =IF(COUNTA(DO44:DW44)>0,"x","") | DX44: =IF(COUNTA(DY44:EE44)>0,"x","") -> x | ED44: s | EF44: =IF(COUNTA(EG44:EL44)>0,"x","") | EM44: Eigenvorsorge-Maßnahme | EN44: sonstige (bitte spezifizieren!) | EO44: übergreifend/sonstige | EQ44: =COUNTIF(D44:EL44,"p") -> 1 | ER44: =COUNTIF(D44:EL44,"s") -> 9
A45: 1 | B45: Energieinfrastruktur - Sicherstellung der Energiespeicherung | C45: grau | E45: =IF(COUNTA(F45:Q45)>0,"x","") | R45: =IF(COUNTA(S45:AA45)>0,"x","") | AB45: =IF(COUNTA(AC45:AL45)>0,"x","") | AM45: =IF(COUNTA(AN45:AT45)>0,"x","") | AU45: =IF(COUNTA(AV45:BA45)>0,"x","") -> x | AV45: s | AW45: p | AX45: s | AY45: s | AZ45: s | BA45: s | BB45: =IF(COUNTA(BC45:BM45)>0,"x","") | BN45: =IF(COUNTA(BO45:BU45)>0,"x","") -> x | BU45: s | BV45: =IF(COUNTA(BW45:CE45)>0,"x","") | CF45: =IF(COUNTA(CG45:CO45)>0,"x","") | CP45: =IF(COUNTA(CQ45:DC45)>0,"x","") | DD45: =IF(COUNTA(DE45:DM45)>0,"x","") | DN45: =IF(COUNTA(DO45:DW45)>0,"x","") -> x | DU45: s | DX45: =IF(COUNTA(DY45:EE45)>0,"x","") -> x | DZ45: s | EF45: =IF(COUNTA(EG45:EL45)>0,"x","") | EM45: sonstige (bitte spezifizieren!) | EN45: kWh | EO45: übergreifend/sonstige | EQ45: =COUNTIF(D45:EL45,"p") -> 1 | ER45: =COUNTIF(D45:EL45,"s") -> 8
A46: 1 | B46: Energieinfrastruktur - Sicherstellung der regionalen Energieerzeugung | C46: grau | E46: =IF(COUNTA(F46:Q46)>0,"x","") | R46: =IF(COUNTA(S46:AA46)>0,"x","") | AB46: =IF(COUNTA(AC46:AL46)>0,"x","") | AM46: =IF(COUNTA(AN46:AT46)>0,"x","") | AU46: =IF(COUNTA(AV46:BA46)>0,"x","") -> x | AV46: p | AW46: s | AX46: s | AY46: s | AZ46: s | BA46: s | BB46: =IF(COUNTA(BC46:BM46)>0,"x","") | BN46: =IF(COUNTA(BO46:BU46)>0,"x","") -> x | BU46: s | BV46: =IF(COUNTA(BW46:CE46)>0,"x","") | CF46: =IF(COUNTA(CG46:CO46)>0,"x","") | CP46: =IF(COUNTA(CQ46:DC46)>0,"x","") | DD46: =IF(COUNTA(DE46:DM46)>0,"x","") | DN46: =IF(COUNTA(DO46:DW46)>0,"x","") -> x | DU46: s | DX46: =IF(COUNTA(DY46:EE46)>0,"x","") -> x | DZ46: s | EF46: =IF(COUNTA(EG46:EL46)>0,"x","") | EM46: sonstige (bitte spezifizieren!) | EN46: kW | EO46: übergreifend/sonstige | EQ46: =COUNTIF(D46:EL46,"p") -> 1 | ER46: =COUNTIF(D46:EL46,"s") -> 8
A47: 1 | B47: Energieinfrastruktur - Sicherstellung der regionalen Energieerzeugung/-speicherung - Planung | C47: smart | E47: =IF(COUNTA(F47:Q47)>0,"x","") | R47: =IF(COUNTA(S47:AA47)>0,"x","") | AB47: =IF(COUNTA(AC47:AL47)>0,"x","") | AM47: =IF(COUNTA(AN47:AT47)>0,"x","") | AU47: =IF(COUNTA(AV47:BA47)>0,"x","") -> x | AV47: s | AX47: s | AY47: s | AZ47: s | BA47: p | BB47: =IF(COUNTA(BC47:BM47)>0,"x","") | BN47: =IF(COUNTA(BO47:BU47)>0,"x","") | BV47: =IF(COUNTA(BW47:CE47)>0,"x","") | CF47: =IF(COUNTA(CG47:CO47)>0,"x","") | CP47: =IF(COUNTA(CQ47:DC47)>0,"x","") | DD47: =IF(COUNTA(DE47:DM47)>0,"x","") | DN47: =IF(COUNTA(DO47:DW47)>0,"x","") | DX47: =IF(COUNTA(DY47:EE47)>0,"x","") | EF47: =IF(COUNTA(EG47:EL47)>0,"x","") | EM47: Plan/Konzept/Strategie/Leitlinie | EN47: sonstige (bitte spezifizieren!) | EO47: übergreifend/sonstige | EQ47: =COUNTIF(D47:EL47,"p") -> 1 | ER47: =COUNTIF(D47:EL47,"s") -> 4
A48: 1 | B48: Entsiegelung, Bodenschutz und Reduzierung des Bodenverbrauchs - planerische Maßnahme | C48: smart | E48: =IF(COUNTA(F48:Q48)>0,"x","") -> x | F48: s | L48: s | R48: =IF(COUNTA(S48:AA48)>0,"x","") | AB48: =IF(COUNTA(AC48:AL48)>0,"x","") -> x | AH48: s | AM48: =IF(COUNTA(AN48:AT48)>0,"x","") | AU48: =IF(COUNTA(AV48:BA48)>0,"x","") | BB48: =IF(COUNTA(BC48:BM48)>0,"x","") -> x | BH48: s | BN48: =IF(COUNTA(BO48:BU48)>0,"x","") -> x | BQ48: s | BV48: =IF(COUNTA(BW48:CE48)>0,"x","") | CF48: =IF(COUNTA(CG48:CO48)>0,"x","") | CP48: =IF(COUNTA(CQ48:DC48)>0,"x","") -> x | CR48: s | CS48: s | CT48: s | CZ48: s | DB48: s | DD48: =IF(COUNTA(DE48:DM48)>0,"x","") -> x | DH48: s | DI48: s | DN48: =IF(COUNTA(DO48:DW48)>0,"x","") -> x | DO48: p | DP48: s | DR48: s | DX48: =IF(COUNTA(DY48:EE48)>0,"x","") | EF48: =IF(COUNTA(EG48:EL48)>0,"x","") -> x | EG48: s | EI48: s | EJ48: s | EM48: Plan/Konzept/Strategie/Leitlinie | EN48: sonstige (bitte spezifizieren!) | EO48: übergreifend/sonstige | EQ48: =COUNTIF(D48:EL48,"p") -> 1 | ER48: =COUNTIF(D48:EL48,"s") -> 17
A49: 1 | B49: Entsiegelung, Bodenschutz und Reduzierung des Bodenverbrauchs - Umsetzungsmaßnahme | C49: grün | E49: =IF(COUNTA(F49:Q49)>0,"x","") -> x | F49: s | L49: s | R49: =IF(COUNTA(S49:AA49)>0,"x","") | AB49: =IF(COUNTA(AC49:AL49)>0,"x","") -> x | AH49: s | AM49: =IF(COUNTA(AN49:AT49)>0,"x","") | AU49: =IF(COUNTA(AV49:BA49)>0,"x","") | BB49: =IF(COUNTA(BC49:BM49)>0,"x","") -> x | BH49: s | BN49: =IF(COUNTA(BO49:BU49)>0,"x","") -> x | BQ49: s | BV49: =IF(COUNTA(BW49:CE49)>0,"x","") | CF49: =IF(COUNTA(CG49:CO49)>0,"x","") | CP49: =IF(COUNTA(CQ49:DC49)>0,"x","") -> x | CR49: s | CS49: s | CT49: s | CZ49: s | DB49: s | DD49: =IF(COUNTA(DE49:DM49)>0,"x","") -> x | DH49: s | DI49: s | DN49: =IF(COUNTA(DO49:DW49)>0,"x","") -> x | DO49: p | DP49: s | DR49: s | DX49: =IF(COUNTA(DY49:EE49)>0,"x","") | EF49: =IF(COUNTA(EG49:EL49)>0,"x","") -> x | EG49: s | EI49: s | EJ49: s | EM49: Entsiegelte Fläche | EN49: m² | EO49: übergreifend/sonstige | EQ49: =COUNTIF(D49:EL49,"p") -> 1 | ER49: =COUNTIF(D49:EL49,"s") -> 17
A50: 1 | B50: Himmelsteich - Planung | C50: smart | E50: =IF(COUNTA(F50:Q50)>0,"x","") -> x | M50: s | R50: =IF(COUNTA(S50:AA50)>0,"x","") | AB50: =IF(COUNTA(AC50:AL50)>0,"x","") -> x | AC50: s | AF50: s | AG50: s | AH50: s | AL50: s | AM50: =IF(COUNTA(AN50:AT50)>0,"x","") | AU50: =IF(COUNTA(AV50:BA50)>0,"x","") | BB50: =IF(COUNTA(BC50:BM50)>0,"x","") | BN50: =IF(COUNTA(BO50:BU50)>0,"x","") -> x | BP50: s | BQ50: p | BU50: s | BV50: =IF(COUNTA(BW50:CE50)>0,"x","") | CF50: =IF(COUNTA(CG50:CO50)>0,"x","") | CP50: =IF(COUNTA(CQ50:DC50)>0,"x","") | DD50: =IF(COUNTA(DE50:DM50)>0,"x","") | DN50: =IF(COUNTA(DO50:DW50)>0,"x","") | DX50: =IF(COUNTA(DY50:EE50)>0,"x","") | EF50: =IF(COUNTA(EG50:EL50)>0,"x","") | EM50: Plan/Konzept/Strategie/Leitlinie | EN50: sonstige (bitte spezifizieren!) | EO50: Hochwasser | EQ50: =COUNTIF(D50:EL50,"p") -> 1 | ER50: =COUNTIF(D50:EL50,"s") -> 8
A51: 1 | B51: Himmelsteich - Umsetzung | C51: blau | E51: =IF(COUNTA(F51:Q51)>0,"x","") -> x | M51: s | R51: =IF(COUNTA(S51:AA51)>0,"x","") | AB51: =IF(COUNTA(AC51:AL51)>0,"x","") -> x | AC51: s | AF51: s | AG51: s | AH51: s | AL51: s | AM51: =IF(COUNTA(AN51:AT51)>0,"x","") | AU51: =IF(COUNTA(AV51:BA51)>0,"x","") | BB51: =IF(COUNTA(BC51:BM51)>0,"x","") | BN51: =IF(COUNTA(BO51:BU51)>0,"x","") -> x | BP51: s | BQ51: p | BU51: s | BV51: =IF(COUNTA(BW51:CE51)>0,"x","") | CF51: =IF(COUNTA(CG51:CO51)>0,"x","") | CP51: =IF(COUNTA(CQ51:DC51)>0,"x","") | DD51: =IF(COUNTA(DE51:DM51)>0,"x","") | DN51: =IF(COUNTA(DO51:DW51)>0,"x","") | DX51: =IF(COUNTA(DY51:EE51)>0,"x","") | EF51: =IF(COUNTA(EG51:EL51)>0,"x","") | EM51: Wasserfläche, Feuchtgebiet | EN51: m³ | EO51: Hochwasser | EQ51: =COUNTIF(D51:EL51,"p") -> 1 | ER51: =COUNTIF(D51:EL51,"s") -> 8
A52: 1 | B52: Hitzeschutz - Gebäude allgemeine Bauprinzipien (Ausrichtung, opale Flächen, etc.) - Planung | C52: smart | E52: =IF(COUNTA(F52:Q52)>0,"x","") | R52: =IF(COUNTA(S52:AA52)>0,"x","") | AB52: =IF(COUNTA(AC52:AL52)>0,"x","") | AM52: =IF(COUNTA(AN52:AT52)>0,"x","") | AU52: =IF(COUNTA(AV52:BA52)>0,"x","") | BB52: =IF(COUNTA(BC52:BM52)>0,"x","") -> x | BC52: p | BD52: s | BL52: s | BN52: =IF(COUNTA(BO52:BU52)>0,"x","") -> x | BU52: s | BV52: =IF(COUNTA(BW52:CE52)>0,"x","") | CF52: =IF(COUNTA(CG52:CO52)>0,"x","") -> x | CJ52: s | CP52: =IF(COUNTA(CQ52:DC52)>0,"x","") | DD52: =IF(COUNTA(DE52:DM52)>0,"x","") | DN52: =IF(COUNTA(DO52:DW52)>0,"x","") | DX52: =IF(COUNTA(DY52:EE52)>0,"x","") | EF52: =IF(COUNTA(EG52:EL52)>0,"x","") | EM52: Plan/Konzept/Strategie/Leitlinie | EN52: sonstige (bitte spezifizieren!) | EO52: Hitze | EQ52: =COUNTIF(D52:EL52,"p") -> 1 | ER52: =COUNTIF(D52:EL52,"s") -> 4
A53: 1 | B53: Hitzeschutz - Gebäude allgemeine Bauprinzipien (Ausrichtung, opale Flächen, etc.) - Umsetzung | C53: grau | E53: =IF(COUNTA(F53:Q53)>0,"x","") | R53: =IF(COUNTA(S53:AA53)>0,"x","") | AB53: =IF(COUNTA(AC53:AL53)>0,"x","") | AM53: =IF(COUNTA(AN53:AT53)>0,"x","") | AU53: =IF(COUNTA(AV53:BA53)>0,"x","") | BB53: =IF(COUNTA(BC53:BM53)>0,"x","") -> x | BC53: p | BD53: s | BL53: s | BN53: =IF(COUNTA(BO53:BU53)>0,"x","") -> x | BU53: s | BV53: =IF(COUNTA(BW53:CE53)>0,"x","") | CF53: =IF(COUNTA(CG53:CO53)>0,"x","") -> x | CJ53: s | CP53: =IF(COUNTA(CQ53:DC53)>0,"x","") | DD53: =IF(COUNTA(DE53:DM53)>0,"x","") | DN53: =IF(COUNTA(DO53:DW53)>0,"x","") | DX53: =IF(COUNTA(DY53:EE53)>0,"x","") | EF53: =IF(COUNTA(EG53:EL53)>0,"x","") | EM53: klimafitte Gebäude (Neu-, An-, Rück-, Umbau) | EN53: Anzahl Gebäude/Bauwerke | EO53: Hitze | EQ53: =COUNTIF(D53:EL53,"p") -> 1 | ER53: =COUNTIF(D53:EL53,"s") -> 4
A54: 1 | B54: Hitzeschutz - Gebäude Dach-/Fassadenbegrünung - Planung | C54: smart | E54: =IF(COUNTA(F54:Q54)>0,"x","") | R54: =IF(COUNTA(S54:AA54)>0,"x","") | AB54: =IF(COUNTA(AC54:AL54)>0,"x","") | AM54: =IF(COUNTA(AN54:AT54)>0,"x","") | AU54: =IF(COUNTA(AV54:BA54)>0,"x","") | BB54: =IF(COUNTA(BC54:BM54)>0,"x","") -> x | BC54: s | BD54: s | BE54: p | BH54: s | BL54: s | BN54: =IF(COUNTA(BO54:BU54)>0,"x","") -> x | BU54: s | BV54: =IF(COUNTA(BW54:CE54)>0,"x","") | CF54: =IF(COUNTA(CG54:CO54)>0,"x","") -> x | CJ54: s | CP54: =IF(COUNTA(CQ54:DC54)>0,"x","") | DD54: =IF(COUNTA(DE54:DM54)>0,"x","") | DN54: =IF(COUNTA(DO54:DW54)>0,"x","") | DX54: =IF(COUNTA(DY54:EE54)>0,"x","") | EF54: =IF(COUNTA(EG54:EL54)>0,"x","") | EM54: Plan/Konzept/Strategie/Leitlinie | EN54: sonstige (bitte spezifizieren!) | EO54: Hitze | EQ54: =COUNTIF(D54:EL54,"p") -> 1 | ER54: =COUNTIF(D54:EL54,"s") -> 6
A55: 1 | B55: Hitzeschutz - Gebäude Dach-/Fassadenbegrünung - Umsetzung | C55: grün | E55: =IF(COUNTA(F55:Q55)>0,"x","") | R55: =IF(COUNTA(S55:AA55)>0,"x","") | AB55: =IF(COUNTA(AC55:AL55)>0,"x","") | AM55: =IF(COUNTA(AN55:AT55)>0,"x","") | AU55: =IF(COUNTA(AV55:BA55)>0,"x","") | BB55: =IF(COUNTA(BC55:BM55)>0,"x","") -> x | BC55: s | BD55: p | BH55: s | BL55: s | BN55: =IF(COUNTA(BO55:BU55)>0,"x","") -> x | BU55: s | BV55: =IF(COUNTA(BW55:CE55)>0,"x","") | CF55: =IF(COUNTA(CG55:CO55)>0,"x","") -> x | CJ55: s | CP55: =IF(COUNTA(CQ55:DC55)>0,"x","") | DD55: =IF(COUNTA(DE55:DM55)>0,"x","") | DN55: =IF(COUNTA(DO55:DW55)>0,"x","") | DX55: =IF(COUNTA(DY55:EE55)>0,"x","") | EF55: =IF(COUNTA(EG55:EL55)>0,"x","") | EM55: klimafitte Gebäude (Neu-, An-, Rück-, Umbau) | EN55: m² | EO55: Hitze | EQ55: =COUNTIF(D55:EL55,"p") -> 1 | ER55: =COUNTIF(D55:EL55,"s") -> 5
A56: 1 | B56: Hitzeschutz - Hitzeinseln Siedlungsbereich (Identifikation Hot-Spots, Kommunikation, …) | C56: smart | E56: =IF(COUNTA(F56:Q56)>0,"x","") | R56: =IF(COUNTA(S56:AA56)>0,"x","") | AB56: =IF(COUNTA(AC56:AL56)>0,"x","") | AM56: =IF(COUNTA(AN56:AT56)>0,"x","") | AU56: =IF(COUNTA(AV56:BA56)>0,"x","") | BB56: =IF(COUNTA(BC56:BM56)>0,"x","") -> x | BD56: s | BE56: p | BJ56: s | BK56: s | BN56: =IF(COUNTA(BO56:BU56)>0,"x","") -> x | BU56: s | BV56: =IF(COUNTA(BW56:CE56)>0,"x","") | CF56: =IF(COUNTA(CG56:CO56)>0,"x","") -> x | CJ56: s | CP56: =IF(COUNTA(CQ56:DC56)>0,"x","") | DD56: =IF(COUNTA(DE56:DM56)>0,"x","") | DN56: =IF(COUNTA(DO56:DW56)>0,"x","") | DX56: =IF(COUNTA(DY56:EE56)>0,"x","") | EF56: =IF(COUNTA(EG56:EL56)>0,"x","") | EM56: Gefahren- und Risikoanalyse | EN56: sonstige (bitte spezifizieren!) | EO56: Hitze | EQ56: =COUNTIF(D56:EL56,"p") -> 1 | ER56: =COUNTIF(D56:EL56,"s") -> 5
A57: 1 | B57: Hitzeschutz - Landwirtschaft Viehhaltung - baulich (z.B. in Ställen) | C57: grau | E57: =IF(COUNTA(F57:Q57)>0,"x","") -> x | P57: p | R57: =IF(COUNTA(S57:AA57)>0,"x","") | AB57: =IF(COUNTA(AC57:AL57)>0,"x","") | AM57: =IF(COUNTA(AN57:AT57)>0,"x","") | AU57: =IF(COUNTA(AV57:BA57)>0,"x","") | BB57: =IF(COUNTA(BC57:BM57)>0,"x","") | BN57: =IF(COUNTA(BO57:BU57)>0,"x","") | BV57: =IF(COUNTA(BW57:CE57)>0,"x","") | CF57: =IF(COUNTA(CG57:CO57)>0,"x","") | CP57: =IF(COUNTA(CQ57:DC57)>0,"x","") | DD57: =IF(COUNTA(DE57:DM57)>0,"x","") | DN57: =IF(COUNTA(DO57:DW57)>0,"x","") | DX57: =IF(COUNTA(DY57:EE57)>0,"x","") | EF57: =IF(COUNTA(EG57:EL57)>0,"x","") | EM57: klimafitte Gebäude (Neu-, An-, Rück-, Umbau) | EN57: sonstige (bitte spezifizieren!) | EO57: Hitze | EQ57: =COUNTIF(D57:EL57,"p") -> 1 | ER57: =COUNTIF(D57:EL57,"s") -> 0
A58: 1 | B58: Hitzeschutz - Landwirtschaft Viehhaltung - grüne/blaue Maßnahme (z.B. Verschattung durch Pflanzen, "Rinderdusche", ...) | C58: blau/grün | E58: =IF(COUNTA(F58:Q58)>0,"x","") -> x | P58: p | R58: =IF(COUNTA(S58:AA58)>0,"x","") | AB58: =IF(COUNTA(AC58:AL58)>0,"x","") | AM58: =IF(COUNTA(AN58:AT58)>0,"x","") | AU58: =IF(COUNTA(AV58:BA58)>0,"x","") | BB58: =IF(COUNTA(BC58:BM58)>0,"x","") | BN58: =IF(COUNTA(BO58:BU58)>0,"x","") | BV58: =IF(COUNTA(BW58:CE58)>0,"x","") | CF58: =IF(COUNTA(CG58:CO58)>0,"x","") | CP58: =IF(COUNTA(CQ58:DC58)>0,"x","") | DD58: =IF(COUNTA(DE58:DM58)>0,"x","") | DN58: =IF(COUNTA(DO58:DW58)>0,"x","") | DX58: =IF(COUNTA(DY58:EE58)>0,"x","") | EF58: =IF(COUNTA(EG58:EL58)>0,"x","") | EM58: sonstige (bitte spezifizieren!) | EN58: sonstige (bitte spezifizieren!) | EO58: Hitze | EQ58: =COUNTIF(D58:EL58,"p") -> 1 | ER58: =COUNTIF(D58:EL58,"s") -> 0
A59: 1 | B59: Hitzeschutz - Mobilitätsbereich (z.B. Bushaltestellen, ÖPNV, Verschattung Fuß- und Radwege) | C59: grün/grau | E59: =IF(COUNTA(F59:Q59)>0,"x","") | R59: =IF(COUNTA(S59:AA59)>0,"x","") | AB59: =IF(COUNTA(AC59:AL59)>0,"x","") | AM59: =IF(COUNTA(AN59:AT59)>0,"x","") | AU59: =IF(COUNTA(AV59:BA59)>0,"x","") | BB59: =IF(COUNTA(BC59:BM59)>0,"x","") | BN59: =IF(COUNTA(BO59:BU59)>0,"x","") | BV59: =IF(COUNTA(BW59:CE59)>0,"x","") | CF59: =IF(COUNTA(CG59:CO59)>0,"x","") -> x | CJ59: s | CP59: =IF(COUNTA(CQ59:DC59)>0,"x","") | DD59: =IF(COUNTA(DE59:DM59)>0,"x","") -> x | DG59: p | DN59: =IF(COUNTA(DO59:DW59)>0,"x","") | DX59: =IF(COUNTA(DY59:EE59)>0,"x","") | EF59: =IF(COUNTA(EG59:EL59)>0,"x","") | EM59: sonstige (bitte spezifizieren!) | EN59: sonstige (bitte spezifizieren!) | EO59: Hitze | EQ59: =COUNTIF(D59:EL59,"p") -> 1 | ER59: =COUNTIF(D59:EL59,"s") -> 1
A60: 1 | B60: Hitzeschutz - Siedlungs-/Stadt-/Raumplanung (Konzept, Strategie, Pläne, Leitlinie …) | C60: smart | E60: =IF(COUNTA(F60:Q60)>0,"x","") | R60: =IF(COUNTA(S60:AA60)>0,"x","") | AB60: =IF(COUNTA(AC60:AL60)>0,"x","") | AM60: =IF(COUNTA(AN60:AT60)>0,"x","") | AU60: =IF(COUNTA(AV60:BA60)>0,"x","") | BB60: =IF(COUNTA(BC60:BM60)>0,"x","") -> x | BD60: s | BE60: s | BF60: s | BN60: =IF(COUNTA(BO60:BU60)>0,"x","") | BV60: =IF(COUNTA(BW60:CE60)>0,"x","") | CF60: =IF(COUNTA(CG60:CO60)>0,"x","") -> x | CJ60: s | CP60: =IF(COUNTA(CQ60:DC60)>0,"x","") | DD60: =IF(COUNTA(DE60:DM60)>0,"x","") | DN60: =IF(COUNTA(DO60:DW60)>0,"x","") -> x | DP60: s | DQ60: p | DU60: s | DX60: =IF(COUNTA(DY60:EE60)>0,"x","") | EF60: =IF(COUNTA(EG60:EL60)>0,"x","") | EM60: Plan/Konzept/Strategie/Leitlinie | EN60: sonstige (bitte spezifizieren!) | EO60: Hitze | EQ60: =COUNTIF(D60:EL60,"p") -> 1 | ER60: =COUNTIF(D60:EL60,"s") -> 6
A61: 1 | B61: Hitzeschutz - Verbesserung des Mikroklimas im Gebäudeumfeld (Begrünung und/oder Wasserfläche, Verschattung durch Sonnensegel etc.) | C61: grün/grau/blau | E61: =IF(COUNTA(F61:Q61)>0,"x","") | R61: =IF(COUNTA(S61:AA61)>0,"x","") | AB61: =IF(COUNTA(AC61:AL61)>0,"x","") | AM61: =IF(COUNTA(AN61:AT61)>0,"x","") -> x | AS61: s | AT61: s | AU61: =IF(COUNTA(AV61:BA61)>0,"x","") | BB61: =IF(COUNTA(BC61:BM61)>0,"x","") -> x | BE61: p | BN61: =IF(COUNTA(BO61:BU61)>0,"x","") | BV61: =IF(COUNTA(BW61:CE61)>0,"x","") | CF61: =IF(COUNTA(CG61:CO61)>0,"x","") -> x | CJ61: s | CP61: =IF(COUNTA(CQ61:DC61)>0,"x","") | DD61: =IF(COUNTA(DE61:DM61)>0,"x","") | DN61: =IF(COUNTA(DO61:DW61)>0,"x","") -> x | DP61: s | DX61: =IF(COUNTA(DY61:EE61)>0,"x","") | EF61: =IF(COUNTA(EG61:EL61)>0,"x","") -> x | EH61: s | EM61: Siedlungsfläche | EN61: m² | EO61: Hitze | EQ61: =COUNTIF(D61:EL61,"p") -> 1 | ER61: =COUNTIF(D61:EL61,"s") -> 5
A62: 1 | B62: Hitzeschutz - Verkehrsflächen - baulich (Straßenbelag, Asphalt, Parkplätze) | C62: grau | E62: =IF(COUNTA(F62:Q62)>0,"x","") | R62: =IF(COUNTA(S62:AA62)>0,"x","") | AB62: =IF(COUNTA(AC62:AL62)>0,"x","") | AM62: =IF(COUNTA(AN62:AT62)>0,"x","") -> x | AS62: s | AT62: s | AU62: =IF(COUNTA(AV62:BA62)>0,"x","") | BB62: =IF(COUNTA(BC62:BM62)>0,"x","") -> x | BE62: s | BN62: =IF(COUNTA(BO62:BU62)>0,"x","") | BV62: =IF(COUNTA(BW62:CE62)>0,"x","") | CF62: =IF(COUNTA(CG62:CO62)>0,"x","") -> x | CJ62: s | CP62: =IF(COUNTA(CQ62:DC62)>0,"x","") | DD62: =IF(COUNTA(DE62:DM62)>0,"x","") -> x | DE62: p | DH62: s | DN62: =IF(COUNTA(DO62:DW62)>0,"x","") | DX62: =IF(COUNTA(DY62:EE62)>0,"x","") | EF62: =IF(COUNTA(EG62:EL62)>0,"x","") | EM62: Verkehrsfläche | EN62: m² | EO62: Hitze | EQ62: =COUNTIF(D62:EL62,"p") -> 1 | ER62: =COUNTIF(D62:EL62,"s") -> 5
A63: 1 | B63: Hitzeschutz - Verkehrsflächen - grüne Maßnahme (z.B. Straßenbegleitgrün) | C63: grün | E63: =IF(COUNTA(F63:Q63)>0,"x","") | R63: =IF(COUNTA(S63:AA63)>0,"x","") | AB63: =IF(COUNTA(AC63:AL63)>0,"x","") | AM63: =IF(COUNTA(AN63:AT63)>0,"x","") | AU63: =IF(COUNTA(AV63:BA63)>0,"x","") | BB63: =IF(COUNTA(BC63:BM63)>0,"x","") -> x | BE63: s | BN63: =IF(COUNTA(BO63:BU63)>0,"x","") | BV63: =IF(COUNTA(BW63:CE63)>0,"x","") | CF63: =IF(COUNTA(CG63:CO63)>0,"x","") -> x | CJ63: s | CP63: =IF(COUNTA(CQ63:DC63)>0,"x","") | DD63: =IF(COUNTA(DE63:DM63)>0,"x","") -> x | DE63: p | DH63: s | DN63: =IF(COUNTA(DO63:DW63)>0,"x","") | DX63: =IF(COUNTA(DY63:EE63)>0,"x","") | EF63: =IF(COUNTA(EG63:EL63)>0,"x","") | EM63: Verkehrsfläche | EN63: m² | EO63: Hitze | EQ63: =COUNTIF(D63:EL63,"p") -> 1 | ER63: =COUNTIF(D63:EL63,"s") -> 3
A64: 1 | B64: Hitzeschutzplan (Entwicklung/Implementierung) | C64: smart | E64: =IF(COUNTA(F64:Q64)>0,"x","") | R64: =IF(COUNTA(S64:AA64)>0,"x","") | AB64: =IF(COUNTA(AC64:AL64)>0,"x","") | AM64: =IF(COUNTA(AN64:AT64)>0,"x","") | AU64: =IF(COUNTA(AV64:BA64)>0,"x","") | BB64: =IF(COUNTA(BC64:BM64)>0,"x","") | BN64: =IF(COUNTA(BO64:BU64)>0,"x","") | BV64: =IF(COUNTA(BW64:CE64)>0,"x","") | CF64: =IF(COUNTA(CG64:CO64)>0,"x","") -> x | CI64: s | CJ64: p | CP64: =IF(COUNTA(CQ64:DC64)>0,"x","") | DD64: =IF(COUNTA(DE64:DM64)>0,"x","") | DN64: =IF(COUNTA(DO64:DW64)>0,"x","") | DX64: =IF(COUNTA(DY64:EE64)>0,"x","") | EF64: =IF(COUNTA(EG64:EL64)>0,"x","") | EM64: Plan/Konzept/Strategie/Leitlinie | EN64: - | EO64: Hitze | EQ64: =COUNTIF(D64:EL64,"p") -> 1 | ER64: =COUNTIF(D64:EL64,"s") -> 1
A65: 1 | B65: Hochwasserschutz - Hochwasserzonierung, Identifikation von Überflutungsflächen an Fließgewässern (fluvial) | C65: smart | E65: =IF(COUNTA(F65:Q65)>0,"x","") | R65: =IF(COUNTA(S65:AA65)>0,"x","") | AB65: =IF(COUNTA(AC65:AL65)>0,"x","") -> x | AH65: s | AM65: =IF(COUNTA(AN65:AT65)>0,"x","") | AU65: =IF(COUNTA(AV65:BA65)>0,"x","") | BB65: =IF(COUNTA(BC65:BM65)>0,"x","") | BN65: =IF(COUNTA(BO65:BU65)>0,"x","") -> x | BP65: p | BV65: =IF(COUNTA(BW65:CE65)>0,"x","") | CF65: =IF(COUNTA(CG65:CO65)>0,"x","") | CP65: =IF(COUNTA(CQ65:DC65)>0,"x","") | DD65: =IF(COUNTA(DE65:DM65)>0,"x","") | DN65: =IF(COUNTA(DO65:DW65)>0,"x","") -> x | DR65: s | DS65: s | DX65: =IF(COUNTA(DY65:EE65)>0,"x","") | EF65: =IF(COUNTA(EG65:EL65)>0,"x","") | EM65: Gefahren- und Risikoanalyse | EN65: ha | EO65: Hochwasser | EQ65: =COUNTIF(D65:EL65,"p") -> 1 | ER65: =COUNTIF(D65:EL65,"s") -> 3
A66: 1 | B66: Hochwasserschutz - Oberflächenabfluss, Identifikation von kritischen Bereichen (pluvial) | C66: smart | E66: =IF(COUNTA(F66:Q66)>0,"x","") | R66: =IF(COUNTA(S66:AA66)>0,"x","") | AB66: =IF(COUNTA(AC66:AL66)>0,"x","") -> x | AH66: s | AM66: =IF(COUNTA(AN66:AT66)>0,"x","") | AU66: =IF(COUNTA(AV66:BA66)>0,"x","") | BB66: =IF(COUNTA(BC66:BM66)>0,"x","") | BN66: =IF(COUNTA(BO66:BU66)>0,"x","") -> x | BP66: p | BV66: =IF(COUNTA(BW66:CE66)>0,"x","") | CF66: =IF(COUNTA(CG66:CO66)>0,"x","") | CP66: =IF(COUNTA(CQ66:DC66)>0,"x","") | DD66: =IF(COUNTA(DE66:DM66)>0,"x","") | DN66: =IF(COUNTA(DO66:DW66)>0,"x","") -> x | DR66: s | DS66: s | DX66: =IF(COUNTA(DY66:EE66)>0,"x","") | EF66: =IF(COUNTA(EG66:EL66)>0,"x","") | EM66: Gefahren- und Risikoanalyse | EN66: ha | EO66: Starkniederschlag/Oberflächenabfluss | EQ66: =COUNTIF(D66:EL66,"p") -> 1 | ER66: =COUNTIF(D66:EL66,"s") -> 3
A67: 1 | B67: Hochwasserschutz - Planungsmaßnahme | C67: smart | E67: =IF(COUNTA(F67:Q67)>0,"x","") | R67: =IF(COUNTA(S67:AA67)>0,"x","") | AB67: =IF(COUNTA(AC67:AL67)>0,"x","") -> x | AH67: s | AM67: =IF(COUNTA(AN67:AT67)>0,"x","") | AU67: =IF(COUNTA(AV67:BA67)>0,"x","") | BB67: =IF(COUNTA(BC67:BM67)>0,"x","") | BN67: =IF(COUNTA(BO67:BU67)>0,"x","") -> x | BQ67: s | BU67: s | BV67: =IF(COUNTA(BW67:CE67)>0,"x","") | CF67: =IF(COUNTA(CG67:CO67)>0,"x","") | CP67: =IF(COUNTA(CQ67:DC67)>0,"x","") | DD67: =IF(COUNTA(DE67:DM67)>0,"x","") | DN67: =IF(COUNTA(DO67:DW67)>0,"x","") -> x | DR67: p | DS67: s | DX67: =IF(COUNTA(DY67:EE67)>0,"x","") | EF67: =IF(COUNTA(EG67:EL67)>0,"x","") | EM67: Plan/Konzept/Strategie/Leitlinie | EN67: - | EO67: Hochwasser | EQ67: =COUNTIF(D67:EL67,"p") -> 1 | ER67: =COUNTIF(D67:EL67,"s") -> 4
A68: 1 | B68: Hochwasserschutz flächig - naturnahe Ausführung (z.B. Retentionsfläche) | C68: grün | E68: =IF(COUNTA(F68:Q68)>0,"x","") | R68: =IF(COUNTA(S68:AA68)>0,"x","") | AB68: =IF(COUNTA(AC68:AL68)>0,"x","") -> x | AH68: s | AM68: =IF(COUNTA(AN68:AT68)>0,"x","") | AU68: =IF(COUNTA(AV68:BA68)>0,"x","") | BB68: =IF(COUNTA(BC68:BM68)>0,"x","") | BN68: =IF(COUNTA(BO68:BU68)>0,"x","") -> x | BQ68: p | BV68: =IF(COUNTA(BW68:CE68)>0,"x","") | CF68: =IF(COUNTA(CG68:CO68)>0,"x","") | CP68: =IF(COUNTA(CQ68:DC68)>0,"x","") -> x | CV68: s | DD68: =IF(COUNTA(DE68:DM68)>0,"x","") | DN68: =IF(COUNTA(DO68:DW68)>0,"x","") | DX68: =IF(COUNTA(DY68:EE68)>0,"x","") | EF68: =IF(COUNTA(EG68:EL68)>0,"x","") | EM68: Retentionsfläche | EN68: m² | EO68: Hochwasser | EQ68: =COUNTIF(D68:EL68,"p") -> 1 | ER68: =COUNTIF(D68:EL68,"s") -> 2
A69: 1 | B69: Hochwasserschutz graue Maßnahme Retentionsraum (Rückhaltebecken,…) | C69: grün/grau | E69: =IF(COUNTA(F69:Q69)>0,"x","") | R69: =IF(COUNTA(S69:AA69)>0,"x","") | AB69: =IF(COUNTA(AC69:AL69)>0,"x","") -> x | AH69: p | AM69: =IF(COUNTA(AN69:AT69)>0,"x","") | AU69: =IF(COUNTA(AV69:BA69)>0,"x","") | BB69: =IF(COUNTA(BC69:BM69)>0,"x","") | BN69: =IF(COUNTA(BO69:BU69)>0,"x","") -> x | BQ69: s | BV69: =IF(COUNTA(BW69:CE69)>0,"x","") | CF69: =IF(COUNTA(CG69:CO69)>0,"x","") | CP69: =IF(COUNTA(CQ69:DC69)>0,"x","") | DD69: =IF(COUNTA(DE69:DM69)>0,"x","") | DN69: =IF(COUNTA(DO69:DW69)>0,"x","") -> x | DR69: s | DX69: =IF(COUNTA(DY69:EE69)>0,"x","") | EF69: =IF(COUNTA(EG69:EL69)>0,"x","") | EM69: Schutzbauten/Schutzvorrichtung | EN69: m³ | EO69: Hochwasser | EQ69: =COUNTIF(D69:EL69,"p") -> 1 | ER69: =COUNTIF(D69:EL69,"s") -> 2
A70: 1 | B70: Hochwasserschutz Längs-/Querbauwerke - baulich (z.B. mobile Hochwasserschutzwände, Ufermauern, Buhne) | C70: grau | E70: =IF(COUNTA(F70:Q70)>0,"x","") | R70: =IF(COUNTA(S70:AA70)>0,"x","") | AB70: =IF(COUNTA(AC70:AL70)>0,"x","") -> x | AH70: p | AM70: =IF(COUNTA(AN70:AT70)>0,"x","") | AU70: =IF(COUNTA(AV70:BA70)>0,"x","") | BB70: =IF(COUNTA(BC70:BM70)>0,"x","") | BN70: =IF(COUNTA(BO70:BU70)>0,"x","") | BV70: =IF(COUNTA(BW70:CE70)>0,"x","") | CF70: =IF(COUNTA(CG70:CO70)>0,"x","") | CP70: =IF(COUNTA(CQ70:DC70)>0,"x","") | DD70: =IF(COUNTA(DE70:DM70)>0,"x","") | DN70: =IF(COUNTA(DO70:DW70)>0,"x","") | DX70: =IF(COUNTA(DY70:EE70)>0,"x","") | EF70: =IF(COUNTA(EG70:EL70)>0,"x","") | EM70: Schutzbauten/Schutzvorrichtung | EN70: m | EO70: Hochwasser | EQ70: =COUNTIF(D70:EL70,"p") -> 1 | ER70: =COUNTIF(D70:EL70,"s") -> 0
A71: 1 | B71: Hochwasserschutz Längs-/Querbauwerke - naturnah (z.B. ingenieurökologische Ufer-/Gerinnegestaltung, ökologische Sperrbauwerke) | C71: grün/grau | E71: =IF(COUNTA(F71:Q71)>0,"x","") | R71: =IF(COUNTA(S71:AA71)>0,"x","") | AB71: =IF(COUNTA(AC71:AL71)>0,"x","") -> x | AH71: p | AM71: =IF(COUNTA(AN71:AT71)>0,"x","") | AU71: =IF(COUNTA(AV71:BA71)>0,"x","") | BB71: =IF(COUNTA(BC71:BM71)>0,"x","") | BN71: =IF(COUNTA(BO71:BU71)>0,"x","") | BV71: =IF(COUNTA(BW71:CE71)>0,"x","") | CF71: =IF(COUNTA(CG71:CO71)>0,"x","") | CP71: =IF(COUNTA(CQ71:DC71)>0,"x","") -> x | CV71: s | DD71: =IF(COUNTA(DE71:DM71)>0,"x","") | DN71: =IF(COUNTA(DO71:DW71)>0,"x","") | DX71: =IF(COUNTA(DY71:EE71)>0,"x","") | EF71: =IF(COUNTA(EG71:EL71)>0,"x","") | EM71: Schutzbauten/Schutzvorrichtung | EN71: m | EO71: Hochwasser | EQ71: =COUNTIF(D71:EL71,"p") -> 1 | ER71: =COUNTIF(D71:EL71,"s") -> 1
A72: 1 | B72: Hochwasserschutz Uferpflege entlang von Bächen und Flüssen (ausg. Wildbäche) - Planung | C72: smart | E72: =IF(COUNTA(F72:Q72)>0,"x","") | R72: =IF(COUNTA(S72:AA72)>0,"x","") | AB72: =IF(COUNTA(AC72:AL72)>0,"x","") -> x | AH72: p | AM72: =IF(COUNTA(AN72:AT72)>0,"x","") | AU72: =IF(COUNTA(AV72:BA72)>0,"x","") | BB72: =IF(COUNTA(BC72:BM72)>0,"x","") | BN72: =IF(COUNTA(BO72:BU72)>0,"x","") -> x | BO72: s | BV72: =IF(COUNTA(BW72:CE72)>0,"x","") | CF72: =IF(COUNTA(CG72:CO72)>0,"x","") | CP72: =IF(COUNTA(CQ72:DC72)>0,"x","") -> x | CU72: s | DD72: =IF(COUNTA(DE72:DM72)>0,"x","") | DN72: =IF(COUNTA(DO72:DW72)>0,"x","") | DX72: =IF(COUNTA(DY72:EE72)>0,"x","") | EF72: =IF(COUNTA(EG72:EL72)>0,"x","") | EM72: Plan/Konzept/Strategie/Leitlinie | EN72: - | EO72: Hochwasser | EQ72: =COUNTIF(D72:EL72,"p") -> 1 | ER72: =COUNTIF(D72:EL72,"s") -> 2
A73: 1 | B73: Hochwasserschutz Uferpflege entlang von Bächen und Flüssen (ausg. Wildbäche) - Umsetzungsmaßnahme | C73: grün | E73: =IF(COUNTA(F73:Q73)>0,"x","") | R73: =IF(COUNTA(S73:AA73)>0,"x","") | AB73: =IF(COUNTA(AC73:AL73)>0,"x","") -> x | AH73: p | AM73: =IF(COUNTA(AN73:AT73)>0,"x","") | AU73: =IF(COUNTA(AV73:BA73)>0,"x","") | BB73: =IF(COUNTA(BC73:BM73)>0,"x","") | BN73: =IF(COUNTA(BO73:BU73)>0,"x","") -> x | BO73: s | BV73: =IF(COUNTA(BW73:CE73)>0,"x","") | CF73: =IF(COUNTA(CG73:CO73)>0,"x","") | CP73: =IF(COUNTA(CQ73:DC73)>0,"x","") -> x | CU73: s | DD73: =IF(COUNTA(DE73:DM73)>0,"x","") | DN73: =IF(COUNTA(DO73:DW73)>0,"x","") | DX73: =IF(COUNTA(DY73:EE73)>0,"x","") | EF73: =IF(COUNTA(EG73:EL73)>0,"x","") | EM73: Aktion | EN73: m | EO73: Hochwasser | EQ73: =COUNTIF(D73:EL73,"p") -> 1 | ER73: =COUNTIF(D73:EL73,"s") -> 2
A74: 1 | B74: Innovative/Sonstige Maßnahme (Bitte unter Anmerkungen/Spezifizierung erläutern!) | C74: - | D74: p | EM74: sonstige (bitte spezifizieren!) | EN74: sonstige (bitte spezifizieren!) | EO74: übergreifend/sonstige | EQ74: =COUNTIF(D74:EL74,"p") -> 1 | ER74: =COUNTIF(D74:EL74,"s") -> 0
A75: 1 | B75: klimafitte Acker-/Grünlandwirtschaft | C75: grün | E75: =IF(COUNTA(F75:Q75)>0,"x","") -> x | G75: p | R75: =IF(COUNTA(S75:AA75)>0,"x","") | AB75: =IF(COUNTA(AC75:AL75)>0,"x","") | AM75: =IF(COUNTA(AN75:AT75)>0,"x","") | AU75: =IF(COUNTA(AV75:BA75)>0,"x","") | BB75: =IF(COUNTA(BC75:BM75)>0,"x","") | BN75: =IF(COUNTA(BO75:BU75)>0,"x","") | BV75: =IF(COUNTA(BW75:CE75)>0,"x","") | CF75: =IF(COUNTA(CG75:CO75)>0,"x","") | CP75: =IF(COUNTA(CQ75:DC75)>0,"x","") -> x | CR75: s | CZ75: s | DD75: =IF(COUNTA(DE75:DM75)>0,"x","") | DN75: =IF(COUNTA(DO75:DW75)>0,"x","") | DX75: =IF(COUNTA(DY75:EE75)>0,"x","") | EF75: =IF(COUNTA(EG75:EL75)>0,"x","") | EM75: Landwirtschaftliche Nutzfläche | EN75: ha | EO75: übergreifend/sonstige | EQ75: =COUNTIF(D75:EL75,"p") -> 1 | ER75: =COUNTIF(D75:EL75,"s") -> 2
A76: 1 | B76: klimafitte Ortskernentwicklung (Planung) | C76: smart | E76: =IF(COUNTA(F76:Q76)>0,"x","") | R76: =IF(COUNTA(S76:AA76)>0,"x","") | AB76: =IF(COUNTA(AC76:AL76)>0,"x","") | AM76: =IF(COUNTA(AN76:AT76)>0,"x","") | AU76: =IF(COUNTA(AV76:BA76)>0,"x","") | BB76: =IF(COUNTA(BC76:BM76)>0,"x","") -> x | BE76: p | BF76: s | BG76: s | BH76: s | BJ76: s | BK76: s | BL76: s | BM76: s | BN76: =IF(COUNTA(BO76:BU76)>0,"x","") | BV76: =IF(COUNTA(BW76:CE76)>0,"x","") | CF76: =IF(COUNTA(CG76:CO76)>0,"x","") | CP76: =IF(COUNTA(CQ76:DC76)>0,"x","") | DD76: =IF(COUNTA(DE76:DM76)>0,"x","") -> x | DE76: s | DH76: s | DI76: s | DN76: =IF(COUNTA(DO76:DW76)>0,"x","") -> x | DO76: s | DP76: s | DW76: s | DX76: =IF(COUNTA(DY76:EE76)>0,"x","") | EF76: =IF(COUNTA(EG76:EL76)>0,"x","") -> x | EG76: s | EM76: Plan/Konzept/Strategie/Leitlinie | EN76: ha | EO76: übergreifend/sonstige | EQ76: =COUNTIF(D76:EL76,"p") -> 1 | ER76: =COUNTIF(D76:EL76,"s") -> 14
A77: 1 | B77: klimafitter Gemüse-/Obst-/Weinbau | C77: grün | E77: =IF(COUNTA(F77:Q77)>0,"x","") -> x | I77: p | R77: =IF(COUNTA(S77:AA77)>0,"x","") | AB77: =IF(COUNTA(AC77:AL77)>0,"x","") | AM77: =IF(COUNTA(AN77:AT77)>0,"x","") | AU77: =IF(COUNTA(AV77:BA77)>0,"x","") | BB77: =IF(COUNTA(BC77:BM77)>0,"x","") | BN77: =IF(COUNTA(BO77:BU77)>0,"x","") | BV77: =IF(COUNTA(BW77:CE77)>0,"x","") | CF77: =IF(COUNTA(CG77:CO77)>0,"x","") | CP77: =IF(COUNTA(CQ77:DC77)>0,"x","") -> x | CR77: s | CZ77: s | DD77: =IF(COUNTA(DE77:DM77)>0,"x","") | DN77: =IF(COUNTA(DO77:DW77)>0,"x","") | DX77: =IF(COUNTA(DY77:EE77)>0,"x","") | EF77: =IF(COUNTA(EG77:EL77)>0,"x","") | EM77: Landwirtschaftliche Nutzfläche | EN77: ha | EO77: übergreifend/sonstige | EQ77: =COUNTIF(D77:EL77,"p") -> 1 | ER77: =COUNTIF(D77:EL77,"s") -> 2
A78: 1 | B78: Kooperation, Vernetzung, Lobbying - allgemein/sonstige Klimawandelanpassung | C78: soft | D78: p | E78: =IF(COUNTA(F78:Q78)>0,"x","") | R78: =IF(COUNTA(S78:AA78)>0,"x","") | AB78: =IF(COUNTA(AC78:AL78)>0,"x","") | AM78: =IF(COUNTA(AN78:AT78)>0,"x","") | AU78: =IF(COUNTA(AV78:BA78)>0,"x","") | BB78: =IF(COUNTA(BC78:BM78)>0,"x","") | BN78: =IF(COUNTA(BO78:BU78)>0,"x","") | BV78: =IF(COUNTA(BW78:CE78)>0,"x","") | CF78: =IF(COUNTA(CG78:CO78)>0,"x","") | CP78: =IF(COUNTA(CQ78:DC78)>0,"x","") | DD78: =IF(COUNTA(DE78:DM78)>0,"x","") | DN78: =IF(COUNTA(DO78:DW78)>0,"x","") | DX78: =IF(COUNTA(DY78:EE78)>0,"x","") | EF78: =IF(COUNTA(EG78:EL78)>0,"x","") | EN78: erreichte Personen | EO78: Klimawandel/Temperaturerhöhung allgemein | EQ78: =COUNTIF(D78:EL78,"p") -> 1 | ER78: =COUNTIF(D78:EL78,"s") -> 0
A79: 1 | B79: Kooperation, Vernetzung, Lobbying - Bauen und Wohnen | C79: soft | E79: =IF(COUNTA(F79:Q79)>0,"x","") | R79: =IF(COUNTA(S79:AA79)>0,"x","") | AB79: =IF(COUNTA(AC79:AL79)>0,"x","") | AM79: =IF(COUNTA(AN79:AT79)>0,"x","") | AU79: =IF(COUNTA(AV79:BA79)>0,"x","") -> x | AX79: s | BB79: =IF(COUNTA(BC79:BM79)>0,"x","") -> x | BC79: s | BF79: s | BG79: s | BI79: s | BJ79: p | BK79: s | BL79: s | BN79: =IF(COUNTA(BO79:BU79)>0,"x","") -> x | BO79: s | BP79: s | BR79: s | BU79: s | BV79: =IF(COUNTA(BW79:CE79)>0,"x","") | CF79: =IF(COUNTA(CG79:CO79)>0,"x","") -> x | CG79: s | CJ79: s | CP79: =IF(COUNTA(CQ79:DC79)>0,"x","") | DD79: =IF(COUNTA(DE79:DM79)>0,"x","") | DN79: =IF(COUNTA(DO79:DW79)>0,"x","") -> x | DP79: s | DQ79: s | DS79: s | DT79: s | DW79: s | DX79: =IF(COUNTA(DY79:EE79)>0,"x","") | EF79: =IF(COUNTA(EG79:EL79)>0,"x","") -> x | EG79: s | EN79: erreichte Personen | EO79: übergreifend/sonstige | EQ79: =COUNTIF(D79:EL79,"p") -> 1 | ER79: =COUNTIF(D79:EL79,"s") -> 19
A80: 1 | B80: Kooperation, Vernetzung, Lobbying - Energie | C80: soft | E80: =IF(COUNTA(F80:Q80)>0,"x","") -> x | F80: s | G80: s | M80: s | R80: =IF(COUNTA(S80:AA80)>0,"x","") -> x | S80: s | T80: s | W80: s | AB80: =IF(COUNTA(AC80:AL80)>0,"x","") -> x | AD80: s | AF80: s | AH80: s | AJ80: s | AM80: =IF(COUNTA(AN80:AT80)>0,"x","") | AU80: =IF(COUNTA(AV80:BA80)>0,"x","") -> x | AZ80: p | BB80: =IF(COUNTA(BC80:BM80)>0,"x","") | BN80: =IF(COUNTA(BO80:BU80)>0,"x","") | BV80: =IF(COUNTA(BW80:CE80)>0,"x","") | CF80: =IF(COUNTA(CG80:CO80)>0,"x","") | CP80: =IF(COUNTA(CQ80:DC80)>0,"x","") | DD80: =IF(COUNTA(DE80:DM80)>0,"x","") | DN80: =IF(COUNTA(DO80:DW80)>0,"x","") -> x | DU80: s | DW80: s | DX80: =IF(COUNTA(DY80:EE80)>0,"x","") -> x | DZ80: s | EF80: =IF(COUNTA(EG80:EL80)>0,"x","") | EN80: erreichte Personen | EO80: übergreifend/sonstige | EQ80: =COUNTIF(D80:EL80,"p") -> 1 | ER80: =COUNTIF(D80:EL80,"s") -> 13
A81: 1 | B81: Kooperation, Vernetzung, Lobbying - Forstwirtschaft | C81: soft | E81: =IF(COUNTA(F81:Q81)>0,"x","") | R81: =IF(COUNTA(S81:AA81)>0,"x","") -> x | S81: s | T81: s | U81: s | V81: p | W81: s | X81: s | Y81: s | Z81: s | AA81: s | AB81: =IF(COUNTA(AC81:AL81)>0,"x","") | AM81: =IF(COUNTA(AN81:AT81)>0,"x","") | AU81: =IF(COUNTA(AV81:BA81)>0,"x","") | BB81: =IF(COUNTA(BC81:BM81)>0,"x","") | BN81: =IF(COUNTA(BO81:BU81)>0,"x","") -> x | BP81: s | BQ81: s | BV81: =IF(COUNTA(BW81:CE81)>0,"x","") | CF81: =IF(COUNTA(CG81:CO81)>0,"x","") | CP81: =IF(COUNTA(CQ81:DC81)>0,"x","") | DD81: =IF(COUNTA(DE81:DM81)>0,"x","") | DN81: =IF(COUNTA(DO81:DW81)>0,"x","") | DX81: =IF(COUNTA(DY81:EE81)>0,"x","") | EF81: =IF(COUNTA(EG81:EL81)>0,"x","") | EN81: erreichte Personen | EO81: übergreifend/sonstige | EQ81: =COUNTIF(D81:EL81,"p") -> 1 | ER81: =COUNTIF(D81:EL81,"s") -> 10
A82: 1 | B82: Kooperation, Vernetzung, Lobbying - Gesundheit | C82: soft | E82: =IF(COUNTA(F82:Q82)>0,"x","") | R82: =IF(COUNTA(S82:AA82)>0,"x","") | AB82: =IF(COUNTA(AC82:AL82)>0,"x","") | AM82: =IF(COUNTA(AN82:AT82)>0,"x","") | AU82: =IF(COUNTA(AV82:BA82)>0,"x","") | BB82: =IF(COUNTA(BC82:BM82)>0,"x","") | BN82: =IF(COUNTA(BO82:BU82)>0,"x","") | BV82: =IF(COUNTA(BW82:CE82)>0,"x","") -> x | BW82: s | BY82: s | BZ82: s | CA82: s | CB82: s | CD82: s | CE82: s | CF82: =IF(COUNTA(CG82:CO82)>0,"x","") -> x | CG82: s | CH82: p | CI82: s | CP82: =IF(COUNTA(CQ82:DC82)>0,"x","") | DD82: =IF(COUNTA(DE82:DM82)>0,"x","") | DN82: =IF(COUNTA(DO82:DW82)>0,"x","") -> x | DW82: s | DX82: =IF(COUNTA(DY82:EE82)>0,"x","") | EF82: =IF(COUNTA(EG82:EL82)>0,"x","") | EN82: erreichte Personen | EO82: übergreifend/sonstige | EQ82: =COUNTIF(D82:EL82,"p") -> 1 | ER82: =COUNTIF(D82:EL82,"s") -> 10
A83: 1 | B83: Kooperation, Vernetzung, Lobbying - Krisen- und Katastrophenmanagement | C83: soft | E83: =IF(COUNTA(F83:Q83)>0,"x","") | R83: =IF(COUNTA(S83:AA83)>0,"x","") | AB83: =IF(COUNTA(AC83:AL83)>0,"x","") -> x | AE83: s | AF83: s | AJ83: s | AM83: =IF(COUNTA(AN83:AT83)>0,"x","") | AU83: =IF(COUNTA(AV83:BA83)>0,"x","") -> x | AV83: s | AX83: s | AY83: s | BA83: s | BB83: =IF(COUNTA(BC83:BM83)>0,"x","") | BN83: =IF(COUNTA(BO83:BU83)>0,"x","") -> x | BO83: s | BR83: s | BS83: s | BT83: s | BV83: =IF(COUNTA(BW83:CE83)>0,"x","") -> x | BW83: s | BY83: s | BZ83: s | CA83: s | CB83: s | CD83: s | CE83: p | CF83: =IF(COUNTA(CG83:CO83)>0,"x","") -> x | CG83: s | CH83: s | CI83: s | CP83: =IF(COUNTA(CQ83:DC83)>0,"x","") | DD83: =IF(COUNTA(DE83:DM83)>0,"x","") -> x | DE83: s | DJ83: s | DN83: =IF(COUNTA(DO83:DW83)>0,"x","") -> x | DW83: s | DX83: =IF(COUNTA(DY83:EE83)>0,"x","") -> x | ED83: s | EF83: =IF(COUNTA(EG83:EL83)>0,"x","") | EN83: erreichte Personen | EO83: übergreifend/sonstige | EQ83: =COUNTIF(D83:EL83,"p") -> 1 | ER83: =COUNTIF(D83:EL83,"s") -> 24
A84: 1 | B84: Kooperation, Vernetzung, Lobbying - Landwirtschaft | C84: soft | E84: =IF(COUNTA(F84:Q84)>0,"x","") -> x | G84: p | J84: s | Q84: s | R84: =IF(COUNTA(S84:AA84)>0,"x","") | AB84: =IF(COUNTA(AC84:AL84)>0,"x","") -> x | AI84: s | AJ84: s | AM84: =IF(COUNTA(AN84:AT84)>0,"x","") | AU84: =IF(COUNTA(AV84:BA84)>0,"x","") -> x | AX84: s | AY84: s | BB84: =IF(COUNTA(BC84:BM84)>0,"x","") | BN84: =IF(COUNTA(BO84:BU84)>0,"x","") | BV84: =IF(COUNTA(BW84:CE84)>0,"x","") | CF84: =IF(COUNTA(CG84:CO84)>0,"x","") -> x | CL84: s | CO84: s | CP84: =IF(COUNTA(CQ84:DC84)>0,"x","") -> x | CR84: s | CX84: s | CY84: s | DD84: =IF(COUNTA(DE84:DM84)>0,"x","") | DN84: =IF(COUNTA(DO84:DW84)>0,"x","") | DX84: =IF(COUNTA(DY84:EE84)>0,"x","") | EF84: =IF(COUNTA(EG84:EL84)>0,"x","") | EN84: erreichte Personen | EO84: übergreifend/sonstige | EQ84: =COUNTIF(D84:EL84,"p") -> 1 | ER84: =COUNTIF(D84:EL84,"s") -> 11
A85: 1 | B85: Kooperation, Vernetzung, Lobbying - Ökosysteme und Biodiversität | C85: soft | E85: =IF(COUNTA(F85:Q85)>0,"x","") -> x | F85: s | G85: s | I85: s | J85: s | K85: s | L85: s | Q85: s | R85: =IF(COUNTA(S85:AA85)>0,"x","") -> x | V85: s | W85: s | Y85: s | Z85: s | AB85: =IF(COUNTA(AC85:AL85)>0,"x","") -> x | AI85: s | AJ85: s | AL85: s | AM85: =IF(COUNTA(AN85:AT85)>0,"x","") -> x | AN85: s | AO85: s | AU85: =IF(COUNTA(AV85:BA85)>0,"x","") -> x | AW85: s | AX85: s | BA85: s | BB85: =IF(COUNTA(BC85:BM85)>0,"x","") | BN85: =IF(COUNTA(BO85:BU85)>0,"x","") | BV85: =IF(COUNTA(BW85:CE85)>0,"x","") | CF85: =IF(COUNTA(CG85:CO85)>0,"x","") | CP85: =IF(COUNTA(CQ85:DC85)>0,"x","") -> x | CW85: s | CY85: s | DA85: s | DB85: s | DC85: p | DD85: =IF(COUNTA(DE85:DM85)>0,"x","") | DN85: =IF(COUNTA(DO85:DW85)>0,"x","") | DX85: =IF(COUNTA(DY85:EE85)>0,"x","") -> x | EA85: s | EB85: s | EF85: =IF(COUNTA(EG85:EL85)>0,"x","") | EN85: erreichte Personen | EO85: übergreifend/sonstige | EQ85: =COUNTIF(D85:EL85,"p") -> 1 | ER85: =COUNTIF(D85:EL85,"s") -> 25
A86: 1 | B86: Kooperation, Vernetzung, Lobbying - Raumordnung | C86: soft | E86: =IF(COUNTA(F86:Q86)>0,"x","") -> x | L86: s | R86: =IF(COUNTA(S86:AA86)>0,"x","") | AB86: =IF(COUNTA(AC86:AL86)>0,"x","") -> x | AG86: s | AH86: s | AM86: =IF(COUNTA(AN86:AT86)>0,"x","") | AU86: =IF(COUNTA(AV86:BA86)>0,"x","") | BB86: =IF(COUNTA(BC86:BM86)>0,"x","") -> x | BE86: s | BN86: =IF(COUNTA(BO86:BU86)>0,"x","") -> x | BP86: s | BV86: =IF(COUNTA(BW86:CE86)>0,"x","") | CF86: =IF(COUNTA(CG86:CO86)>0,"x","") -> x | CJ86: s | CL86: s | CM86: s | CP86: =IF(COUNTA(CQ86:DC86)>0,"x","") | DD86: =IF(COUNTA(DE86:DM86)>0,"x","") | DN86: =IF(COUNTA(DO86:DW86)>0,"x","") -> x | DT86: p | DV86: s | DW86: s | DX86: =IF(COUNTA(DY86:EE86)>0,"x","") -> x | DZ86: s | EF86: =IF(COUNTA(EG86:EL86)>0,"x","") | EN86: erreichte Personen | EO86: übergreifend/sonstige | EQ86: =COUNTIF(D86:EL86,"p") -> 1 | ER86: =COUNTIF(D86:EL86,"s") -> 11
A87: 1 | B87: Kooperation, Vernetzung, Lobbying - Schutz vor Naturgefahren/Klimafolgen | C87: soft | E87: =IF(COUNTA(F87:Q87)>0,"x","") | R87: =IF(COUNTA(S87:AA87)>0,"x","") | AB87: =IF(COUNTA(AC87:AL87)>0,"x","") | AM87: =IF(COUNTA(AN87:AT87)>0,"x","") -> x | AN87: s | AU87: =IF(COUNTA(AV87:BA87)>0,"x","") -> x | AV87: s | AY87: s | BA87: s | BB87: =IF(COUNTA(BC87:BM87)>0,"x","") -> x | BF87: s | BI87: s | BJ87: s | BK87: s | BN87: =IF(COUNTA(BO87:BU87)>0,"x","") -> x | BO87: p | BV87: =IF(COUNTA(BW87:CE87)>0,"x","") -> x | BX87: s | BY87: s | BZ87: s | CF87: =IF(COUNTA(CG87:CO87)>0,"x","") -> x | CG87: s | CI87: s | CN87: s | CP87: =IF(COUNTA(CQ87:DC87)>0,"x","") | DD87: =IF(COUNTA(DE87:DM87)>0,"x","") -> x | DE87: s | DJ87: s | DM87: s | DN87: =IF(COUNTA(DO87:DW87)>0,"x","") -> x | DR87: s | DS87: s | DT87: s | DV87: s | DW87: s | DX87: =IF(COUNTA(DY87:EE87)>0,"x","") -> x | DY87: s | DZ87: s | EA87: s | ED87: s | EF87: =IF(COUNTA(EG87:EL87)>0,"x","") | EN87: erreichte Personen | EO87: übergreifend/sonstige | EQ87: =COUNTIF(D87:EL87,"p") -> 1 | ER87: =COUNTIF(D87:EL87,"s") -> 26
A88: 1 | B88: Kooperation, Vernetzung, Lobbying - Stadt - urbane Frei- und Grünräume | C88: soft | E88: =IF(COUNTA(F88:Q88)>0,"x","") | R88: =IF(COUNTA(S88:AA88)>0,"x","") | AB88: =IF(COUNTA(AC88:AL88)>0,"x","") | AM88: =IF(COUNTA(AN88:AT88)>0,"x","") | AU88: =IF(COUNTA(AV88:BA88)>0,"x","") | BB88: =IF(COUNTA(BC88:BM88)>0,"x","") -> x | BE88: s | BN88: =IF(COUNTA(BO88:BU88)>0,"x","") | BV88: =IF(COUNTA(BW88:CE88)>0,"x","") | CF88: =IF(COUNTA(CG88:CO88)>0,"x","") | CP88: =IF(COUNTA(CQ88:DC88)>0,"x","") -> x | DB88: s | DD88: =IF(COUNTA(DE88:DM88)>0,"x","") | DN88: =IF(COUNTA(DO88:DW88)>0,"x","") -> x | DT88: s | DW88: s | DX88: =IF(COUNTA(DY88:EE88)>0,"x","") | EF88: =IF(COUNTA(EG88:EL88)>0,"x","") -> x | EK88: p | EN88: erreichte Personen | EO88: übergreifend/sonstige | EQ88: =COUNTIF(D88:EL88,"p") -> 1 | ER88: =COUNTIF(D88:EL88,"s") -> 4
A89: 1 | B89: Kooperation, Vernetzung, Lobbying - Tourismus | C89: soft | E89: =IF(COUNTA(F89:Q89)>0,"x","") -> x | L89: s | O89: s | R89: =IF(COUNTA(S89:AA89)>0,"x","") -> x | X89: s | Y89: s | AB89: =IF(COUNTA(AC89:AL89)>0,"x","") -> x | AE89: s | AF89: s | AM89: =IF(COUNTA(AN89:AT89)>0,"x","") -> x | AN89: s | AO89: p | AP89: s | AQ89: s | AR89: s | AS89: s | AT89: s | AU89: =IF(COUNTA(AV89:BA89)>0,"x","") -> x | AV89: s | AW89: s | AX89: s | BB89: =IF(COUNTA(BC89:BM89)>0,"x","") -> x | BC89: s | BD89: s | BE89: s | BJ89: s | BL89: s | BN89: =IF(COUNTA(BO89:BU89)>0,"x","") -> x | BO89: s | BV89: =IF(COUNTA(BW89:CE89)>0,"x","") | CF89: =IF(COUNTA(CG89:CO89)>0,"x","") -> x | CG89: s | CP89: =IF(COUNTA(CQ89:DC89)>0,"x","") -> x | DA89: s | DB89: s | DD89: =IF(COUNTA(DE89:DM89)>0,"x","") -> x | DG89: s | DJ89: s | DN89: =IF(COUNTA(DO89:DW89)>0,"x","") -> x | DP89: s | DQ89: s | DS89: s | DT89: s | DV89: s | DW89: s | DX89: =IF(COUNTA(DY89:EE89)>0,"x","") -> x | DY89: s | DZ89: s | EF89: =IF(COUNTA(EG89:EL89)>0,"x","") | EN89: erreichte Personen | EO89: übergreifend/sonstige | EQ89: =COUNTIF(D89:EL89,"p") -> 1 | ER89: =COUNTIF(D89:EL89,"s") -> 34
A90: 1 | B90: Kooperation, Vernetzung, Lobbying - Verkehrsinfrastruktur und Mobilität | C90: soft | E90: =IF(COUNTA(F90:Q90)>0,"x","") -> x | L90: s | R90: =IF(COUNTA(S90:AA90)>0,"x","") -> x | V90: s | AB90: =IF(COUNTA(AC90:AL90)>0,"x","") -> x | AL90: s | AM90: =IF(COUNTA(AN90:AT90)>0,"x","") -> x | AN90: s | AO90: s | AP90: s | AU90: =IF(COUNTA(AV90:BA90)>0,"x","") -> x | AV90: s | BB90: =IF(COUNTA(BC90:BM90)>0,"x","") -> x | BE90: s | BJ90: s | BL90: s | BM90: s | BN90: =IF(COUNTA(BO90:BU90)>0,"x","") -> x | BP90: s | BQ90: s | BU90: s | BV90: =IF(COUNTA(BW90:CE90)>0,"x","") -> x | BY90: s | CF90: =IF(COUNTA(CG90:CO90)>0,"x","") -> x | CG90: s | CP90: =IF(COUNTA(CQ90:DC90)>0,"x","") -> x | CT90: s | CZ90: s | DD90: =IF(COUNTA(DE90:DM90)>0,"x","") -> x | DJ90: s | DK90: s | DL90: s | DM90: p | DN90: =IF(COUNTA(DO90:DW90)>0,"x","") -> x | DP90: s | DR90: s | DS90: s | DT90: s | DW90: s | DX90: =IF(COUNTA(DY90:EE90)>0,"x","") -> x | EA90: s | EF90: =IF(COUNTA(EG90:EL90)>0,"x","") -> x | EK90: s | EN90: erreichte Personen | EO90: übergreifend/sonstige | EQ90: =COUNTIF(D90:EL90,"p") -> 1 | ER90: =COUNTIF(D90:EL90,"s") -> 28
A91: 1 | B91: Kooperation, Vernetzung, Lobbying - Wasserwirtschaft | C91: soft | E91: =IF(COUNTA(F91:Q91)>0,"x","") -> x | G91: s | M91: s | R91: =IF(COUNTA(S91:AA91)>0,"x","") | AB91: =IF(COUNTA(AC91:AL91)>0,"x","") -> x | AC91: s | AD91: s | AI91: s | AJ91: s | AL91: p | AM91: =IF(COUNTA(AN91:AT91)>0,"x","") -> x | AN91: s | AO91: s | AP91: s | AU91: =IF(COUNTA(AV91:BA91)>0,"x","") -> x | AV91: s | AX91: s | AY91: s | BB91: =IF(COUNTA(BC91:BM91)>0,"x","") | BN91: =IF(COUNTA(BO91:BU91)>0,"x","") | BV91: =IF(COUNTA(BW91:CE91)>0,"x","") | CF91: =IF(COUNTA(CG91:CO91)>0,"x","") -> x | CJ91: s | CN91: s | CP91: =IF(COUNTA(CQ91:DC91)>0,"x","") | DD91: =IF(COUNTA(DE91:DM91)>0,"x","") | DN91: =IF(COUNTA(DO91:DW91)>0,"x","") | DX91: =IF(COUNTA(DY91:EE91)>0,"x","") -> x | DY91: s | DZ91: s | EA91: s | EF91: =IF(COUNTA(EG91:EL91)>0,"x","") -> x | EH91: s | EN91: erreichte Personen | EO91: übergreifend/sonstige | EQ91: =COUNTIF(D91:EL91,"p") -> 1 | ER91: =COUNTIF(D91:EL91,"s") -> 18
A92: 1 | B92: Kooperation, Vernetzung, Lobbying - Wirtschaft | C92: soft | E92: =IF(COUNTA(F92:Q92)>0,"x","") -> x | G92: s | R92: =IF(COUNTA(S92:AA92)>0,"x","") -> x | S92: s | AA92: s | AB92: =IF(COUNTA(AC92:AL92)>0,"x","") -> x | AI92: s | AJ92: s | AM92: =IF(COUNTA(AN92:AT92)>0,"x","") | AU92: =IF(COUNTA(AV92:BA92)>0,"x","") | BB92: =IF(COUNTA(BC92:BM92)>0,"x","") -> x | BJ92: s | BN92: =IF(COUNTA(BO92:BU92)>0,"x","") | BV92: =IF(COUNTA(BW92:CE92)>0,"x","") -> x | CA92: s | CB92: s | CC92: s | CE92: s | CF92: =IF(COUNTA(CG92:CO92)>0,"x","") | CP92: =IF(COUNTA(CQ92:DC92)>0,"x","") | DD92: =IF(COUNTA(DE92:DM92)>0,"x","") -> x | DE92: s | DI92: s | DL92: s | DN92: =IF(COUNTA(DO92:DW92)>0,"x","") -> x | DO92: s | DQ92: s | DR92: s | DS92: s | DT92: s | DU92: s | DV92: s | DW92: s | DX92: =IF(COUNTA(DY92:EE92)>0,"x","") -> x | EC92: p | EF92: =IF(COUNTA(EG92:EL92)>0,"x","") | EN92: erreichte Personen | EO92: übergreifend/sonstige | EQ92: =COUNTIF(D92:EL92,"p") -> 1 | ER92: =COUNTIF(D92:EL92,"s") -> 21
A93: 1 | B93: Krisen- und Katastrophenmanagement - Kommunikationskette bei (herannahenden) Naturgefahren/Klimafolgen (Hitze, Unwetter, Hochwasser, Schnee/Eis, Sturm, Schädlinge etc.) | C93: smart | E93: =IF(COUNTA(F93:Q93)>0,"x","") | R93: =IF(COUNTA(S93:AA93)>0,"x","") | AB93: =IF(COUNTA(AC93:AL93)>0,"x","") | AM93: =IF(COUNTA(AN93:AT93)>0,"x","") | AU93: =IF(COUNTA(AV93:BA93)>0,"x","") | BB93: =IF(COUNTA(BC93:BM93)>0,"x","") | BN93: =IF(COUNTA(BO93:BU93)>0,"x","") -> x | BO93: s | BR93: s | BV93: =IF(COUNTA(BW93:CE93)>0,"x","") -> x | BW93: s | BX93: s | BZ93: s | CB93: p | CD93: s | CF93: =IF(COUNTA(CG93:CO93)>0,"x","") -> x | CJ93: s | CN93: s | CP93: =IF(COUNTA(CQ93:DC93)>0,"x","") | DD93: =IF(COUNTA(DE93:DM93)>0,"x","") | DN93: =IF(COUNTA(DO93:DW93)>0,"x","") | DX93: =IF(COUNTA(DY93:EE93)>0,"x","") | EF93: =IF(COUNTA(EG93:EL93)>0,"x","") | EM93: Checkliste, Maßnahmenkatalog, Prozessablauf, etc. | EN93: - | EO93: übergreifend/sonstige | EQ93: =COUNTIF(D93:EL93,"p") -> 1 | ER93: =COUNTIF(D93:EL93,"s") -> 8
A94: 1 | B94: Krisen- und Katastrophenmanagement - Übungen | C94: smart | E94: =IF(COUNTA(F94:Q94)>0,"x","") | R94: =IF(COUNTA(S94:AA94)>0,"x","") | AB94: =IF(COUNTA(AC94:AL94)>0,"x","") | AM94: =IF(COUNTA(AN94:AT94)>0,"x","") | AU94: =IF(COUNTA(AV94:BA94)>0,"x","") -> x | AV94: s | BA94: s | BB94: =IF(COUNTA(BC94:BM94)>0,"x","") -> x | BJ94: s | BN94: =IF(COUNTA(BO94:BU94)>0,"x","") -> x | BO94: s | BR94: s | BU94: s | BV94: =IF(COUNTA(BW94:CE94)>0,"x","") -> x | CB94: p | CF94: =IF(COUNTA(CG94:CO94)>0,"x","") -> x | CG94: s | CJ94: s | CN94: s | CP94: =IF(COUNTA(CQ94:DC94)>0,"x","") | DD94: =IF(COUNTA(DE94:DM94)>0,"x","") | DN94: =IF(COUNTA(DO94:DW94)>0,"x","") | DX94: =IF(COUNTA(DY94:EE94)>0,"x","") | EF94: =IF(COUNTA(EG94:EL94)>0,"x","") | EM94: Übung | EN94: - | EO94: übergreifend/sonstige | EQ94: =COUNTIF(D94:EL94,"p") -> 1 | ER94: =COUNTIF(D94:EL94,"s") -> 9
A95: 1 | B95: Krisen- und Katastrophenmanagement - Unterstützung partizipativer Ansätze im Risiko- und Krisenmanagement | C95: smart | E95: =IF(COUNTA(F95:Q95)>0,"x","") | R95: =IF(COUNTA(S95:AA95)>0,"x","") | AB95: =IF(COUNTA(AC95:AL95)>0,"x","") | AM95: =IF(COUNTA(AN95:AT95)>0,"x","") | AU95: =IF(COUNTA(AV95:BA95)>0,"x","") | BB95: =IF(COUNTA(BC95:BM95)>0,"x","") | BN95: =IF(COUNTA(BO95:BU95)>0,"x","") -> x | BO95: s | BT95: s | BV95: =IF(COUNTA(BW95:CE95)>0,"x","") -> x | BW95: s | BX95: s | BY95: s | BZ95: s | CA95: s | CB95: p | CD95: s | CE95: s | CF95: =IF(COUNTA(CG95:CO95)>0,"x","") -> x | CJ95: s | CN95: s | CP95: =IF(COUNTA(CQ95:DC95)>0,"x","") | DD95: =IF(COUNTA(DE95:DM95)>0,"x","") | DN95: =IF(COUNTA(DO95:DW95)>0,"x","") | DX95: =IF(COUNTA(DY95:EE95)>0,"x","") -> x | EE95: s | EF95: =IF(COUNTA(EG95:EL95)>0,"x","") | EM95: Plan/Konzept/Strategie/Leitlinie | EN95: - | EO95: übergreifend/sonstige | EQ95: =COUNTIF(D95:EL95,"p") -> 1 | ER95: =COUNTIF(D95:EL95,"s") -> 12
A96: 1 | B96: Lehrpfad/Themenweg Klimawandelanpassung - allgemein / themenübergreifend | C96: soft | D96: p | E96: =IF(COUNTA(F96:Q96)>0,"x","") | R96: =IF(COUNTA(S96:AA96)>0,"x","") | AB96: =IF(COUNTA(AC96:AL96)>0,"x","") | AM96: =IF(COUNTA(AN96:AT96)>0,"x","") | AU96: =IF(COUNTA(AV96:BA96)>0,"x","") | BB96: =IF(COUNTA(BC96:BM96)>0,"x","") | BN96: =IF(COUNTA(BO96:BU96)>0,"x","") | BV96: =IF(COUNTA(BW96:CE96)>0,"x","") | CF96: =IF(COUNTA(CG96:CO96)>0,"x","") | CP96: =IF(COUNTA(CQ96:DC96)>0,"x","") | DD96: =IF(COUNTA(DE96:DM96)>0,"x","") | DN96: =IF(COUNTA(DO96:DW96)>0,"x","") | DX96: =IF(COUNTA(DY96:EE96)>0,"x","") | EF96: =IF(COUNTA(EG96:EL96)>0,"x","") | EN96: km | EO96: übergreifend/sonstige | EQ96: =COUNTIF(D96:EL96,"p") -> 1 | ER96: =COUNTIF(D96:EL96,"s") -> 0
A97: 1 | B97: Lehrpfad/Themenweg Klimawandelanpassung - Biodiversität und Ökosysteme | C97: soft | E97: =IF(COUNTA(F97:Q97)>0,"x","") | R97: =IF(COUNTA(S97:AA97)>0,"x","") | AB97: =IF(COUNTA(AC97:AL97)>0,"x","") | AM97: =IF(COUNTA(AN97:AT97)>0,"x","") | AU97: =IF(COUNTA(AV97:BA97)>0,"x","") | BB97: =IF(COUNTA(BC97:BM97)>0,"x","") | BN97: =IF(COUNTA(BO97:BU97)>0,"x","") | BV97: =IF(COUNTA(BW97:CE97)>0,"x","") | CF97: =IF(COUNTA(CG97:CO97)>0,"x","") | CP97: =IF(COUNTA(CQ97:DC97)>0,"x","") -> x | CY97: p | DD97: =IF(COUNTA(DE97:DM97)>0,"x","") | DN97: =IF(COUNTA(DO97:DW97)>0,"x","") | DX97: =IF(COUNTA(DY97:EE97)>0,"x","") | EF97: =IF(COUNTA(EG97:EL97)>0,"x","") | EN97: km | EO97: übergreifend/sonstige | EQ97: =COUNTIF(D97:EL97,"p") -> 1 | ER97: =COUNTIF(D97:EL97,"s") -> 0
A98: 1 | B98: Mainstreaming von Klimawandelanpassung in Energiestrategien | C98: smart | E98: =IF(COUNTA(F98:Q98)>0,"x","") | R98: =IF(COUNTA(S98:AA98)>0,"x","") | AB98: =IF(COUNTA(AC98:AL98)>0,"x","") -> x | AF98: s | AG98: s | AH98: s | AI98: s | AJ98: s | AL98: s | AM98: =IF(COUNTA(AN98:AT98)>0,"x","") | AU98: =IF(COUNTA(AV98:BA98)>0,"x","") -> x | AV98: s | AW98: s | AX98: s | AY98: s | AZ98: s | BA98: p | BB98: =IF(COUNTA(BC98:BM98)>0,"x","") | BN98: =IF(COUNTA(BO98:BU98)>0,"x","") -> x | BU98: s | BV98: =IF(COUNTA(BW98:CE98)>0,"x","") -> x | BW98: s | CF98: =IF(COUNTA(CG98:CO98)>0,"x","") -> x | CM98: s | CP98: =IF(COUNTA(CQ98:DC98)>0,"x","") -> x | CQ98: s | DD98: =IF(COUNTA(DE98:DM98)>0,"x","") | DN98: =IF(COUNTA(DO98:DW98)>0,"x","") -> x | DU98: s | DW98: s | DX98: =IF(COUNTA(DY98:EE98)>0,"x","") -> x | DZ98: s | EF98: =IF(COUNTA(EG98:EL98)>0,"x","") | EM98: Plan/Konzept/Strategie/Leitlinie | EN98: - | EO98: übergreifend/sonstige | EQ98: =COUNTIF(D98:EL98,"p") -> 1 | ER98: =COUNTIF(D98:EL98,"s") -> 18
A99: 1 | B99: Mainstreaming von Klimawandelanpassung in Raumordnungs-/Stadtplanungs-Vorhaben (Örtliches oder Regionales Entwicklungskonzept, etc.) | C99: smart | E99: =IF(COUNTA(F99:Q99)>0,"x","") | R99: =IF(COUNTA(S99:AA99)>0,"x","") | AB99: =IF(COUNTA(AC99:AL99)>0,"x","") -> x | AE99: s | AF99: s | AG99: s | AH99: s | AI99: s | AJ99: s | AL99: s | AM99: =IF(COUNTA(AN99:AT99)>0,"x","") | AU99: =IF(COUNTA(AV99:BA99)>0,"x","") | BB99: =IF(COUNTA(BC99:BM99)>0,"x","") -> x | BE99: s | BN99: =IF(COUNTA(BO99:BU99)>0,"x","") -> x | BP99: s | BQ99: s | BU99: s | BV99: =IF(COUNTA(BW99:CE99)>0,"x","") | CF99: =IF(COUNTA(CG99:CO99)>0,"x","") | CP99: =IF(COUNTA(CQ99:DC99)>0,"x","") -> x | CQ99: s | DB99: s | DD99: =IF(COUNTA(DE99:DM99)>0,"x","") -> x | DE99: s | DH99: s | DI99: s | DN99: =IF(COUNTA(DO99:DW99)>0,"x","") -> x | DO99: s | DP99: s | DQ99: s | DR99: s | DU99: s | DV99: s | DW99: p | DX99: =IF(COUNTA(DY99:EE99)>0,"x","") | EF99: =IF(COUNTA(EG99:EL99)>0,"x","") -> x | EG99: s | EH99: s | EI99: s | EJ99: s | EM99: Plan/Konzept/Strategie/Leitlinie | EN99: - | EO99: übergreifend/sonstige | EQ99: =COUNTIF(D99:EL99,"p") -> 1
A100: 1 | B100: Mainstreaming von Klimawandelanpassung in Tourismus-Strategien/-vorhaben | C100: smart | E100: =IF(COUNTA(F100:Q100)>0,"x","") | R100: =IF(COUNTA(S100:AA100)>0,"x","") | AB100: =IF(COUNTA(AC100:AL100)>0,"x","") -> x | AG100: s | AH100: s | AI100: s | AJ100: s | AL100: s | AM100: =IF(COUNTA(AN100:AT100)>0,"x","") -> x | AN100: p | AO100: s | AP100: s | AQ100: s | AR100: s | AS100: s | AT100: s | AU100: =IF(COUNTA(AV100:BA100)>0,"x","") | BB100: =IF(COUNTA(BC100:BM100)>0,"x","") | BN100: =IF(COUNTA(BO100:BU100)>0,"x","") -> x | BO100: s | BV100: =IF(COUNTA(BW100:CE100)>0,"x","") -> x | BW100: s | CF100: =IF(COUNTA(CG100:CO100)>0,"x","") -> x | CJ100: s | CN100: s | CP100: =IF(COUNTA(CQ100:DC100)>0,"x","") -> x | DA100: s | DD100: =IF(COUNTA(DE100:DM100)>0,"x","") | DN100: =IF(COUNTA(DO100:DW100)>0,"x","") | DX100: =IF(COUNTA(DY100:EE100)>0,"x","") | EF100: =IF(COUNTA(EG100:EL100)>0,"x","") | EM100: Plan/Konzept/Strategie/Leitlinie | EN100: - | EO100: übergreifend/sonstige | EQ100: =COUNTIF(D100:EL100,"p") -> 1 | ER100: =COUNTIF(D100:EL100,"s") -> 16
...

Sheet Handlungsempfehlungen NAS
B1: Aktivitätsfeld | C1: Ziel Aktivitätsfeld | D1: Handlungsempfehlung | E1: Nr. | F1: Ziel Handlungsempfehlung | G1: Als Standardmaßnahme
A2: Sektorübergreifend | B2: Sektorübergreifend | C2: Nachhaltige Reduzierung der Verwundbarkeit (Vulnerabilität) gegenüber der Klimaänderung bzw. Erhöhung der Widerstandsfähigkeit (Resilienz) von Umwelt, Gesellschaft und Wirtschaft sowie Nutzung möglicher Chancen durch veränderte klimatischen Bedingungen. | D2: Sektorübergreifend | E2: 000 | F2: Nachhaltige und ganzheitliche Stärkung der natürlichen, gesellschaftlichen und technischen Anpassungskapazität unter Vermeidung von Fehlanpassung sowie Entwicklung bzw. Stärkung des Bewusstseins für die Notwendigkeit und Dringlichkeit des Anpassungsbedarfs auf allen Ebenen sowie Sensibilisierung aller Akteur:innen und Greifbarmachung des Themas und seiner komplexen Zusammenhänge. | G2: 1
A3: Landwirtschaft | B3: Landwirtschaft | C3: Sicherung einer nachhaltigen, ressourcenschonenden, klimafreundlichen landwirtschaftlichen Produktion in hochwertiger Qualität und ausreichender Quantität zur Aufrechterhaltung der Versorgungssicherheit sowie der Erhalt bzw. die Verbesserung der Ökosystemleistungen der Landwirtschaft und Sicherstellung der Resilienz gegenüber sich verändernden klimatischen Bedingungen und deren Folgen. | D3: Nachhaltiger Aufbau, Wiederherstellung und Erhalt der Ressource Boden | E3: 2.5.1 | F3: Steigerung der Resilienz der landwirtschaftlichen Produktion gegenüber den Folgen des Klimawandels durch Sicherung bzw. Wiederherstellung von Böden, der natürlichen Bodenfunktionen, Aufbau, Erhalt und langfristige Stabilisierung eines optimalen Humus- und Nährstoffgehaltes, Wasseraufnahme- und -Wasserspeicherkapazität sowie schonenden Umgang mit der Ressource Boden. | G3: 1
A4: Landwirtschaft | C4: Sicherung einer nachhaltigen, ressourcenschonenden, klimafreundlichen landwirtschaftlichen Produktion in hochwertiger Qualität und ausreichender Quantität zur Aufrechterhaltung der Versorgungssicherheit sowie der Erhalt bzw. die Verbesserung der Ökosystemleistungen der Landwirtschaft und Sicherstellung der Resilienz gegenüber sich verändernden klimatischen Bedingungen und deren Folgen. | D4: Anpassung des landwirtschaftlichen Bewirtschaftungsmanagements an klimawandelbedingte Veränderungen | E4: 2.5.2 | F4: Bedarfsgerechte(r) und standardbezogene(r) Pflanzenbau, Pflanzenschutz, Pflanzenernährung und landwirtschaftliche Verfahrenstechnik als Beitrag zur Ertragssicherheit und Ernährungssicherung unter veränderten klimatischen Bedingungen. | G4: 0
A5: Landwirtschaft | C5: Sicherung einer nachhaltigen, ressourcenschonenden, klimafreundlichen landwirtschaftlichen Produktion in hochwertiger Qualität und ausreichender Quantität zur Aufrechterhaltung der Versorgungssicherheit sowie der Erhalt bzw. die Verbesserung der Ökosystemleistungen der Landwirtschaft und Sicherstellung der Resilienz gegenüber sich verändernden klimatischen Bedingungen und deren Folgen. | D5: Überprüfung der Standorteignung von Kulturpflanzen aufgrund sich ändernder Umgebungsbedingungen und Erarbeitung von Empfehlungen für die Kulturwahl | E5: 2.5.3 | F5: Auswahl geeigneter Kulturpflanzen für die jeweiligen Standortbedingungen, Erweiterung des Kulturartenspektrums und Sicherung einer nachhaltigen Ernährungssicherheit. | G5: 0
A6: Landwirtschaft | C6: Sicherung einer nachhaltigen, ressourcenschonenden, klimafreundlichen landwirtschaftlichen Produktion in hochwertiger Qualität und ausreichender Quantität zur Aufrechterhaltung der Versorgungssicherheit sowie der Erhalt bzw. die Verbesserung der Ökosystemleistungen der Landwirtschaft und Sicherstellung der Resilienz gegenüber sich verändernden klimatischen Bedingungen und deren Folgen. | D6: Züchtung klimafitter Kulturpflanzen | E6: 2.5.4 | F6: Bereitstellung von Pflanzenarten, Saatgutmischungen und Neuzüchtungen von Sorten, welche klimawandelbedingte Herausforderungen besser tolerieren. Insbesondere hitzetolerante und wassereffiziente Acker- und Grünlandpflanzen bzw. -sorten mit einer geringen Anfälligkeit gegenüber Krankheiten und Schadorganismen stehen im Fokus. | G6: 1
A7: Landwirtschaft | C7: Sicherung einer nachhaltigen, ressourcenschonenden, klimafreundlichen landwirtschaftlichen Produktion in hochwertiger Qualität und ausreichender Quantität zur Aufrechterhaltung der Versorgungssicherheit sowie der Erhalt bzw. die Verbesserung der Ökosystemleistungen der Landwirtschaft und Sicherstellung der Resilienz gegenüber sich verändernden klimatischen Bedingungen und deren Folgen. | D7: Forschung zu und Bekämpfung von gebietsfremden invasiven Schaderregern bei Nutz- und Zierpflanzen | E7: 2.5.5 | F7: Verbesserung des Kenntnisstandes hinsichtlich gebietsfremder invasiv auftretender Schaderreger um im Bedarfsfall rasch und effizient reagieren zu können. Flächendeckendes Monitoring, Optimierung und Ausbau von Warnsystemen sowie Verbesserung des Informations- und Datentransfers. | G7: 1
A8: Landwirtschaft | C8: Sicherung einer nachhaltigen, ressourcenschonenden, klimafreundlichen landwirtschaftlichen Produktion in hochwertiger Qualität und ausreichender Quantität zur Aufrechterhaltung der Versorgungssicherheit sowie der Erhalt bzw. die Verbesserung der Ökosystemleistungen der Landwirtschaft und Sicherstellung der Resilienz gegenüber sich verändernden klimatischen Bedingungen und deren Folgen. | D8: Umweltgerechte und nachhaltige Umsetzung von Pflanzenschutzmaßnahmen | E8: 2.5.6 | F8: Optimierung von Pflanzenschutzmaßnahmen gegen etablierte Schaderreger und andere klimawandelbedingte Herausforderungen durch Veränderung des Anwendungszeitpunktes bzw. -verfahrens sowie Forcierung eines umweltgerechten und nachhaltigen Pflanzenschutzmittelspektrums idealerweise verbunden mit der Entwicklung hin zu einer langfristigen Reduktion des Pflanzenschutzmitteleinsatzes. | G8: 1
A9: Landwirtschaft | C9: Sicherung einer nachhaltigen, ressourcenschonenden, klimafreundlichen landwirtschaftlichen Produktion in hochwertiger Qualität und ausreichender Quantität zur Aufrechterhaltung der Versorgungssicherheit sowie der Erhalt bzw. die Verbesserung der Ökosystemleistungen der Landwirtschaft und Sicherstellung der Resilienz gegenüber sich verändernden klimatischen Bedingungen und deren Folgen. | D9: Integrierte Landschaftsgestaltung und Verbesserung der Agroökosysteme inklusive Erhalt und Pflege von Landschaftselementen | E9: 2.5.7 | F9: Verbesserung der agrarökologischen Situation (Produktion und Standortsicherung) durch biodiversitätsfördernde landwirtschaftliche Nutzung sowie Erhalt der natürlichen Biodiversität durch die Reduktion von Windangriffsflächen, Windgeschwindigkeiten und Bodenerosion sowie Verbesserung des Wasserrückhalts durch Reduzierung der Evapotranspiration. | G9: 0
A10: Landwirtschaft | C10: Sicherung einer nachhaltigen, ressourcenschonenden, klimafreundlichen landwirtschaftlichen Produktion in hochwertiger Qualität und ausreichender Quantität zur Aufrechterhaltung der Versorgungssicherheit sowie der Erhalt bzw. die Verbesserung der Ökosystemleistungen der Landwirtschaft und Sicherstellung der Resilienz gegenüber sich verändernden klimatischen Bedingungen und deren Folgen. | D10: Verstärkte Etablierung und Förderung von wassersparenden Bewässerungssystemen sowie Verbesserung der Bewässerungsplanung inkl. Konfliktmanagement | E10: 2.5.8 | F10: Effizienzsteigerung in der Bewässerung und Wassernutzung durch den Einsatz moderner technologischer Methoden, die eine Optimierung der Bewässerung hinsichtlich Zeitpunkt und Menge erlauben. | G10: 1
A11: Landwirtschaft | C11: Sicherung einer nachhaltigen, ressourcenschonenden, klimafreundlichen landwirtschaftlichen Produktion in hochwertiger Qualität und ausreichender Quantität zur Aufrechterhaltung der Versorgungssicherheit sowie der Erhalt bzw. die Verbesserung der Ökosystemleistungen der Landwirtschaft und Sicherstellung der Resilienz gegenüber sich verändernden klimatischen Bedingungen und deren Folgen. | D11: Optimierung des geschützten Anbaus (Glashäuser und Folientunnel) | E11: 2.5.9 | F11: Effizienzsteigerung des Energie- und Wasserverbrauchs von Glashäusern und Folientunneln insbesondere hinsichtlich der zunehmenden Hitzebelastung im Sommer. Schutz von Glashäusern und Folientunneln vor vermehrt auftretenden Extremereignissen. | G11: 0
A12: Landwirtschaft | C12: Sicherung einer nachhaltigen, ressourcenschonenden, klimafreundlichen landwirtschaftlichen Produktion in hochwertiger Qualität und ausreichender Quantität zur Aufrechterhaltung der Versorgungssicherheit sowie der Erhalt bzw. die Verbesserung der Ökosystemleistungen der Landwirtschaft und Sicherstellung der Resilienz gegenüber sich verändernden klimatischen Bedingungen und deren Folgen. | D12: Erhalt bestehender Almflächen und Revitalisierung aufgelassener Almen | E12: 2.5.10 | F12: Erhöhung der Resilienz von landwirtschaftlichen Betrieben, Förderung der Gesundheit und des Wohlbefindens gealpter Tiere, Abmilderung von Naturgefahren und Klimarisiken, Stärkung der Biodiversität und Erholungsmöglichkeit für Almbesucher:innen. | G12: 1
A13: Landwirtschaft | C13: Sicherung einer nachhaltigen, ressourcenschonenden, klimafreundlichen landwirtschaftlichen Produktion in hochwertiger Qualität und ausreichender Quantität zur Aufrechterhaltung der Versorgungssicherheit sowie der Erhalt bzw. die Verbesserung der Ökosystemleistungen der Landwirtschaft und Sicherstellung der Resilienz gegenüber sich verändernden klimatischen Bedingungen und deren Folgen. | D13: Förderung des Tierwohls und der Tiergesundheit unter sich verändernden klimatischen Verhältnissen | E13: 2.5.11 | F13: Ausbau des Wissensstandes und Bewertung der Auswirkungen des Klimawandels auf das Tierwohl und die Tiergesundheit. Verringerung der thermischen Belastung landwirtschaftlicher Nutztiere in Kombination mit einer artgerechten, stressfreien Haltung. Ausarbeitung präventiver und allenfalls erforderlicher veterinärmedizinischer Maßnahmen als Entscheidungsgrundlage für Behörden und Landwirt:innen. | G13: 0
A14: Landwirtschaft | C14: Sicherung einer nachhaltigen, ressourcenschonenden, klimafreundlichen landwirtschaftlichen Produktion in hochwertiger Qualität und ausreichender Quantität zur Aufrechterhaltung der Versorgungssicherheit sowie der Erhalt bzw. die Verbesserung der Ökosystemleistungen der Landwirtschaft und Sicherstellung der Resilienz gegenüber sich verändernden klimatischen Bedingungen und deren Folgen. | D14: Risikominimierung sowie Entwicklung und Ausbau von Instrumenten der Risikostreuung | E14: 2.5.12 | F14: Verringerung von Produktionsrisiken sowie Weiterentwicklung von Versicherungsmodellen zur Aufrechterhaltung einer (klein-)bäuerlichen Struktur und Sicherung der flächendeckenden Bewirtschaftung. | G14: 0
A15: Forstwirtschaft | B15: Forstwirtschaft | C15: Erhöhung der Stabilität, Klimaresilienz und Anpassungsfähigkeit von Wäldern. Sicherung der multifunktionalen Leistungen des Waldes und einer nachhaltigen und an den Klimawandel angepassten Bewirtschaftung. | D15: Anpassung der Baumarten- und Herkunftswahl sowie der Baumartenmischung unter Berücksichtigung von Waldverjüngung und Förderung der Diversität | E15: 3.5.1 | F15: Erhöhung der Stabilität, Klimaresilienz und Anpassungsfähigkeit von Wäldern sowie Reduzierung der Störanfälligkeit des Waldökosystems (z. B. durch Schadorganismen oder Sturm). Stärkung einer standortangepassten Baumarten- und Herkunftswahl unter Berücksichtigung des Klimawandels im Zuge einer nachhaltigen Waldbewirtschaftung. Erhöhung der an die jeweils standörtlichen Verhältnisse angepassten Diversität auf allen Ebenen (genetisch, artspezifisch, strukturell, Diversität der Lebensräume etc.) und rechtzeitige Einleitung von (Natur)Verjüngungsmaßnahmen. | G15: 1
A16: Forstwirtschaft | C16: Erhöhung der Stabilität, Klimaresilienz und Anpassungsfähigkeit von Wäldern. Sicherung der multifunktionalen Leistungen des Waldes und einer nachhaltigen und an den Klimawandel angepassten Bewirtschaftung. | D16: Bodenschonende Bewirtschaftung | E16: 3.5.2 | F16: Erhaltung der physikalischen und ökologischen Funktionen des Bodens, insbesondere als Wasser- und Kohlenstoffspeicher und Nährstofflieferant. | G16: 1
A17: Forstwirtschaft | C17: Erhöhung der Stabilität, Klimaresilienz und Anpassungsfähigkeit von Wäldern. Sicherung der multifunktionalen Leistungen des Waldes und einer nachhaltigen und an den Klimawandel angepassten Bewirtschaftung. | D17: Reduktion der Wildschadensbelastung | E17: 3.5.3 | F17: Geringere Beeinträchtigungen durch Wild- und Weideeinfluss (Schälung und Verbiss) als Voraussetzung für eine klimawandelangepasste Waldverjüngung und Erhaltung der Bestandsstabilität. | G17: 0
A18: Forstwirtschaft | C18: Erhöhung der Stabilität, Klimaresilienz und Anpassungsfähigkeit von Wäldern. Sicherung der multifunktionalen Leistungen des Waldes und einer nachhaltigen und an den Klimawandel angepassten Bewirtschaftung. | D18: Beratung, Aus-, Fort- und Weiterbildung zur Anpassung der Wälder an den Klimawandel | E18: 3.5.4 | F18: Fortlaufende Beratung, Aus-, Fort- und Weiterbildung sowie Bewusstseinsbildung relevanter Akteur:innen (wie Waldbewirtschafter:innen, Personen aus der Verwaltung, den Interessensvertretungen, Ausbildungsstätten und insbesondere alle Waldbesitzer:innen) zur Erhöhung der Stabilität, Klimaresilienz und Anpassungsfähigkeit von Wäldern, unter Berücksichtigung neuester Ergebnisse aus der Forschung. | G18: 1
A19: Forstwirtschaft | C19: Erhöhung der Stabilität, Klimaresilienz und Anpassungsfähigkeit von Wäldern. Sicherung der multifunktionalen Leistungen des Waldes und einer nachhaltigen und an den Klimawandel angepassten Bewirtschaftung. | D19: Adaptierung und Verbesserung des Störungs- und Kalamitätsmanagements | E19: 3.5.5 | F19: Schadensbegrenzung bei vermehrt auftretenden biotischen und abiotischen Schadereignissen (wie z. B. Windwürfen oder Schädlingskalamitäten). | G19: 1
A20: Forstwirtschaft | C20: Erhöhung der Stabilität, Klimaresilienz und Anpassungsfähigkeit von Wäldern. Sicherung der multifunktionalen Leistungen des Waldes und einer nachhaltigen und an den Klimawandel angepassten Bewirtschaftung. | D20: Vorsorgemaßnahmen zur Prävention und Bekämpfung von Waldbränden | E20: 3.5.6 | F20: Entwicklung weiterer Vorsorgemaßnahmen, Bewusstseinsbildung sowie Weiterführung von Waldbrandbeobachtungs- und Frühwarnsystemen, um das Risiko von Waldbränden zu minimieren. Erstellung bzw. Überarbeitung von Einsatzplänen zur Bekämpfung von Waldbränden. | G20: 1
A21: Forstwirtschaft | C21: Erhöhung der Stabilität, Klimaresilienz und Anpassungsfähigkeit von Wäldern. Sicherung der multifunktionalen Leistungen des Waldes und einer nachhaltigen und an den Klimawandel angepassten Bewirtschaftung. | D21: Erhalt, Verbesserung und Wiederherstellung der Waldbiodiversität sowie der Ökosystemfunktionen von Waldlebensräumen | E21: 3.5.7 | F21: Berücksichtigung von Biodiversitätserhalt und -verbesserung bei einer an den Klimawandel angepassten Bewirtschaftung des Waldes. | G21: 1
A22: Forstwirtschaft | C22: Erhöhung der Stabilität, Klimaresilienz und Anpassungsfähigkeit von Wäldern. Sicherung der multifunktionalen Leistungen des Waldes und einer nachhaltigen und an den Klimawandel angepassten Bewirtschaftung. | D22: Immissionsschutz zur Stärkung der Klimaresilienz von Wäldern und ihrer Ökosystemleistungen | E22: 3.5.8 | F22: Schutz vor Immissionen, insbesondere Vermeidung der Eutrophierung von (nährstoffarmen) Wäldern durch Stickstoffverbindungen und Mikroaerosole, zur Stärkung der Klimaresilienz von Wäldern und ihrer Ökosystemleistungen. | G22: 0
A23: Forstwirtschaft | C23: Erhöhung der Stabilität, Klimaresilienz und Anpassungsfähigkeit von Wäldern. Sicherung der multifunktionalen Leistungen des Waldes und einer nachhaltigen und an den Klimawandel angepassten Bewirtschaftung. | D23: Vorausschauende Berücksichtigung möglicher Veränderungen in der Holzqualität und der Baumarten in der Holzverarbeitung | E23: 3.5.9 | F23: Entwicklung innovativer effizienter Techniken zur Verarbeitung von Holz, um bestmöglich auf allfällige Veränderungen der Holzqualität und der Baumarten vorbereitet zu sein und um die Wertschöpfung der Holznutzungskette sowie die Substitution von Materialien mit höheren Lebenszyklusemissionen durch langlebige Holzprodukte zu steigern. | G23: 0
A24: Wasserwirtschaft | B24: Wasserwirtschaft | C24: Nachhaltige Sicherung der Wasserressourcen als Lebensgrundlage und Lebensraum für Mensch, Fauna und Flora sowie Sicherung der Versorgung mit qualitativ hochwertigem Trinkwasser, der umweltgerechten Reinigung der Abwässer, der Vermeidung von schädlichen Stoffeinträgen in Grund- und Oberflächengewässer und Stärkung des Schutzes der Bevölkerung und Landschaft vor Naturgefahren unter veränderten klimatischen Bedingungen. | D24: Vorausschauende, klimaresiliente und nachhaltige Bewirtschaftung der Grundwasservorkommen | E24: 4.5.1 | F24: Verminderung des Risikos von negativen Auswirkungen des Klimawandels und sozioökonomischer Änderungen auf die Grundwasserressourcen und auf grundwasserabhängige Ökosysteme zur Sicherung des guten mengenmäßigen und chemischen Zustands der Grundwasserkörper bis 2027 und darüber hinaus. | G24: 0
A25: Wasserwirtschaft | C25: Nachhaltige Sicherung der Wasserressourcen als Lebensgrundlage und Lebensraum für Mensch, Fauna und Flora sowie Sicherung der Versorgung mit qualitativ hochwertigem Trinkwasser, der umweltgerechten Reinigung der Abwässer, der Vermeidung von schädlichen Stoffeinträgen in Grund- und Oberflächengewässer und Stärkung des Schutzes der Bevölkerung und Landschaft vor Naturgefahren unter veränderten klimatischen Bedingungen. | D25: Vorausschauende, klimaresiliente und nachhaltige Bewirtschaftung der Oberflächengewässer | E25: 4.5.2 | F25: Verminderung des Risikos negativer klimawandelbedingter und sozioökonomischer Auswirkungen auf die Oberflächengewässer zur Erreichung und Sicherung des guten ökologischen Zustands bzw. Potentials und des guten chemischen Zustands von Oberflächengewässern bis 2027 und darüber hinaus. | G25: 0
A26: Wasserwirtschaft | C26: Nachhaltige Sicherung der Wasserressourcen als Lebensgrundlage und Lebensraum für Mensch, Fauna und Flora sowie Sicherung der Versorgung mit qualitativ hochwertigem Trinkwasser, der umweltgerechten Reinigung der Abwässer, der Vermeidung von schädlichen Stoffeinträgen in Grund- und Oberflächengewässer und Stärkung des Schutzes der Bevölkerung und Landschaft vor Naturgefahren unter veränderten klimatischen Bedingungen. | D26: Aufrechterhaltung der Trinkwasserversorgung | E26: 4.5.3 | F26: Erhöhung der qualitativen und quantitativen Sicherheit in der Trinkwasserversorgung durch den Einsatz von planerischen und technischen Maßnahmen. | G26: 0
A27: Wasserwirtschaft | C27: Nachhaltige Sicherung der Wasserressourcen als Lebensgrundlage und Lebensraum für Mensch, Fauna und Flora sowie Sicherung der Versorgung mit qualitativ hochwertigem Trinkwasser, der umweltgerechten Reinigung der Abwässer, der Vermeidung von schädlichen Stoffeinträgen in Grund- und Oberflächengewässer und Stärkung des Schutzes der Bevölkerung und Landschaft vor Naturgefahren unter veränderten klimatischen Bedingungen. | D27: Aufrechterhaltung der Nutzwasserversorgung | E27: 4.5.4 | F27: Gewährleistung der sparsamen, effizienten, abgestimmten und situationsangepassten Nutzwasserversorgung für die verschiedenen Aktivitätsfelder. | G27: 0
A28: Wasserwirtschaft | C28: Nachhaltige Sicherung der Wasserressourcen als Lebensgrundlage und Lebensraum für Mensch, Fauna und Flora sowie Sicherung der Versorgung mit qualitativ hochwertigem Trinkwasser, der umweltgerechten Reinigung der Abwässer, der Vermeidung von schädlichen Stoffeinträgen in Grund- und Oberflächengewässer und Stärkung des Schutzes der Bevölkerung und Landschaft vor Naturgefahren unter veränderten klimatischen Bedingungen. | D28: Adaptives Trockenheitsrisikomanagement mit robusten Maßnahmen | E28: 4.5.5 | F28: Sicherstellung des Erreichens der wasserwirtschaftlichen Ziele bei Niederwasser und Grundwassertiefständen einschließlich vorbeugender Maßnahmen zur Verminderung von Schäden. | G28: 0
A29: Wasserwirtschaft | C29: Nachhaltige Sicherung der Wasserressourcen als Lebensgrundlage und Lebensraum für Mensch, Fauna und Flora sowie Sicherung der Versorgung mit qualitativ hochwertigem Trinkwasser, der umweltgerechten Reinigung der Abwässer, der Vermeidung von schädlichen Stoffeinträgen in Grund- und Oberflächengewässer und Stärkung des Schutzes der Bevölkerung und Landschaft vor Naturgefahren unter veränderten klimatischen Bedingungen. | D29: Adaptives Hochwasserrisikomanagement mit robusten Maßnahmen | E29: 4.5.6 | F29: Verringerung potenzieller hochwasserbedingter nachteiliger Folgen für die menschliche Gesundheit, die Umwelt, das Kulturerbe und wirtschaftliche Tätigkeiten. | G29: 0
A30: Wasserwirtschaft | C30: Nachhaltige Sicherung der Wasserressourcen als Lebensgrundlage und Lebensraum für Mensch, Fauna und Flora sowie Sicherung der Versorgung mit qualitativ hochwertigem Trinkwasser, der umweltgerechten Reinigung der Abwässer, der Vermeidung von schädlichen Stoffeinträgen in Grund- und Oberflächengewässer und Stärkung des Schutzes der Bevölkerung und Landschaft vor Naturgefahren unter veränderten klimatischen Bedingungen. | D30: Weiterführung der Datenanalyse und Forcierung weiterer abgestimmter Datenerhebungen zur Ressource Wasser und den zugrundeliegenden Einflussfaktoren | E30: 4.5.7 | F30: Verringerung der Wissensdefizite hinsichtlich der Auswirkungen des Klimawandels auf die Ressource Wasser. | G30: 0
A31: Wasserwirtschaft | C31: Nachhaltige Sicherung der Wasserressourcen als Lebensgrundlage und Lebensraum für Mensch, Fauna und Flora sowie Sicherung der Versorgung mit qualitativ hochwertigem Trinkwasser, der umweltgerechten Reinigung der Abwässer, der Vermeidung von schädlichen Stoffeinträgen in Grund- und Oberflächengewässer und Stärkung des Schutzes der Bevölkerung und Landschaft vor Naturgefahren unter veränderten klimatischen Bedingungen. | D31: Verbesserte Information und Koordinierung betreffend Wasserbedarf und Wassernutzung | E31: 4.5.8 | F31: Schaffung einer regionalisierten abgestimmten repräsentativen Datengrundlage zum tatsächlichen Wasserbedarf und zur Wassernutzung unterschiedlicher Nutzungsgruppen und zu den ökologischen Erfordernissen für die nachhaltige sektorenübergreifende Bewirtschaftung der Wasserressourcen. | G31: 0
A32: Wasserwirtschaft | C32: Nachhaltige Sicherung der Wasserressourcen als Lebensgrundlage und Lebensraum für Mensch, Fauna und Flora sowie Sicherung der Versorgung mit qualitativ hochwertigem Trinkwasser, der umweltgerechten Reinigung der Abwässer, der Vermeidung von schädlichen Stoffeinträgen in Grund- und Oberflächengewässer und Stärkung des Schutzes der Bevölkerung und Landschaft vor Naturgefahren unter veränderten klimatischen Bedingungen. | D32: Verstärkte Berücksichtigung der Wassertemperaturen bei wasserwirtschaftlichen Maßnahmen | E32: 4.5.9 | F32: Vorbeugende Maßnahmen zur Vermeidung bzw. Minderung der Erhöhung der Wassertemperaturen im Hinblick auf die Nutzung und den Schutz der Gewässerökosysteme. | G32: 0
A33: Wasserwirtschaft | C33: Nachhaltige Sicherung der Wasserressourcen als Lebensgrundlage und Lebensraum für Mensch, Fauna und Flora sowie Sicherung der Versorgung mit qualitativ hochwertigem Trinkwasser, der umweltgerechten Reinigung der Abwässer, der Vermeidung von schädlichen Stoffeinträgen in Grund- und Oberflächengewässer und Stärkung des Schutzes der Bevölkerung und Landschaft vor Naturgefahren unter veränderten klimatischen Bedingungen. | D33: Bewusster Umgang mit der Ressource Wasser | E33: 4.5.10 | F33: Schonung der Wasserressourcen durch gezielte Bewusstseinsbildung der Bevölkerung und im speziellen einzelner Zielgruppen und forcierten Einsatz von sparsamen und effizienten Technologien. | G33: 0
A34: Tourismus | B34: Tourismus | C34: Festigung von Österreichs Position als klimafitter nachhaltiger Tourismusstandort durch Nutzung klimawandelbedingter Potenziale und Forcierung klima- und umweltfreundlicher Anpassungsmaßnahmen. | D34: Verstärkte Berücksichtigung der klimabedingten Auswirkungen und Integration von Anpassungserfordernissen in Tourismusstrategien | E34: 5.5.1 | F34: Weiterentwicklung strategischer Überlegungen zum Thema Klimawandel und Tourismus zur Entwicklung und forcierten Umsetzung von Anpassungsmaßnahmen: Damit soll ein Beitrag zur Absicherung Österreichs als klimaresiliente, nachhaltige und attraktive Tourismusdestination geleistet werden. | G34: 1
A35: Tourismus | C35: Festigung von Österreichs Position als klimafitter nachhaltiger Tourismusstandort durch Nutzung klimawandelbedingter Potenziale und Forcierung klima- und umweltfreundlicher Anpassungsmaßnahmen. | D35: Weiterentwicklung des Tourismusstandorts Österreich durch verstärkte Umsetzung von nachhaltigen Anpassungsmaßnahmen, die insbesondere auch zum Klimaschutz beitragen | E35: 5.5.2 | F35: Steigerung der Attraktivität und Nutzung von Potenzialen der Urlaubsdestinationen durch die (Weiter)Entwicklung und Umsetzung von klimafitten nachhaltigen touristischen Angeboten, die auf die regionalen Gegebenheiten sowie die jeweilige Ausgangslage Bezug nehmen und auch zur Senkung der Treibhausgasemissionen beitragen. | G35: 0
A36: Tourismus | C36: Festigung von Österreichs Position als klimafitter nachhaltiger Tourismusstandort durch Nutzung klimawandelbedingter Potenziale und Forcierung klima- und umweltfreundlicher Anpassungsmaßnahmen. | D36: Bereitstellung umfassender regionaler Daten als Basis für die Entwicklung touristischer Anpassungsmaßnahmen | E36: 5.5.3 | F36: Schaffung robuster umfassender regionalspezifischer Entscheidungsgrundlagen unter Berücksichtigung von Klimaszenarien zur Verringerung der Wissensdefizite und als Basis, um darauf aufbauend nachhaltige Anpassungsmaßnahmen entwickeln zu können. | G36: 0
A37: Tourismus | C37: Festigung von Österreichs Position als klimafitter nachhaltiger Tourismusstandort durch Nutzung klimawandelbedingter Potenziale und Forcierung klima- und umweltfreundlicher Anpassungsmaßnahmen. | D37: Forcierung eines klimafitten nachhaltigen Ganzjahrestourismus | E37: 5.5.4 | F37: Berücksichtigung der Auswirkungen des Klimawandels und der sich daraus ergebenden Anpassungserfordernisse bei der Entwicklung und Umsetzung von Angeboten, die einen ganzjährigen nachhaltigen Tourismus unterstützen. | G37: 1
A38: Tourismus | C38: Festigung von Österreichs Position als klimafitter nachhaltiger Tourismusstandort durch Nutzung klimawandelbedingter Potenziale und Forcierung klima- und umweltfreundlicher Anpassungsmaßnahmen. | D38: Unterstützung klimawandelgefährdeter Wintersportregionen bei der Schaffung von schneeunabhängigen Angeboten | E38: 5.5.5 | F38: Langfristige Absicherung der Wertschöpfung aus dem Wintertourismus durch vorausschauende Diversifizierung des Angebots. | G38: 1
A39: Tourismus | C39: Festigung von Österreichs Position als klimafitter nachhaltiger Tourismusstandort durch Nutzung klimawandelbedingter Potenziale und Forcierung klima- und umweltfreundlicher Anpassungsmaßnahmen. | D39: Stärkung eines klimafitten nachhaltigen Sommertourismus | E39: 5.5.6 | F39: Nutzung klimawandelbedingter Chancen im Sommertourismus und Schutz der Erholungssuchenden vor den Folgen des Klimawandels. | G39: 1
A40: Tourismus | C40: Festigung von Österreichs Position als klimafitter nachhaltiger Tourismusstandort durch Nutzung klimawandelbedingter Potenziale und Forcierung klima- und umweltfreundlicher Anpassungsmaßnahmen. | D40: Stärkung eines klimafitten nachhaltigen Städtetourismus | E40: 5.5.7 | F40: Verstärkte Berücksichtigung von Anpassungserfordernissen im Städtetourismusangebot und verstärkte Etablierung als Ganzjahresangebot. | G40: 1
A41: Energie | B41: Energie | C41: Gewährleistung der Sicherstellung der Energieversorgung durch eine systemische Gesamtbetrachtung des Energiesystems, die Reduktion des Energieverbrauchs, die Erhöhung der Energieeffizienz, Diversifizierung und Dekarbonisierung der Energieträger, Technologienutzung und Dezentralisierung des Energiesystems, um die Verwundbarkeit gegenüber den Folgen des Klimawandels zu verringern. | D41: Sicherstellung einer klimaresilienten Energieinfrastruktur | E41: 6.5.1 | F41: Reduktion der Verwundbarkeit der Energieinfrastruktur gegenüber den Folgen des Klimawandels durch Nutzung von Technologien und Potenzialen. | G41: 0
A42: Energie | C42: Gewährleistung der Sicherstellung der Energieversorgung durch eine systemische Gesamtbetrachtung des Energiesystems, die Reduktion des Energieverbrauchs, die Erhöhung der Energieeffizienz, Diversifizierung und Dekarbonisierung der Energieträger, Technologienutzung und Dezentralisierung des Energiesystems, um die Verwundbarkeit gegenüber den Folgen des Klimawandels zu verringern. | D42: Verstärkte Forschung und Markteinführung neuer Möglichkeiten zur Energiespeicherung | E42: 6.5.2 | F42: Ausgleich von Versorgungsengpässen oder –überschüssen. | G42: 0
A43: Energie | C43: Gewährleistung der Sicherstellung der Energieversorgung durch eine systemische Gesamtbetrachtung des Energiesystems, die Reduktion des Energieverbrauchs, die Erhöhung der Energieeffizienz, Diversifizierung und Dekarbonisierung der Energieträger, Technologienutzung und Dezentralisierung des Energiesystems, um die Verwundbarkeit gegenüber den Folgen des Klimawandels zu verringern. | D43: Forcierung dezentraler Energieerzeugung und -Einspeisungen | E43: 6.5.3 | F43: Verstärkte Nutzung und Optimierung regionaler erneuerbarer Ressourcen sowie Optimierung der Leitungsnetze und ihrer Funktionsweise, um großflächige Unterbrechungen durch klimawandelbedingt intensivere und häufigere extreme Wetterereignisse zu vermeiden. | G43: 1
A44: Energie | C44: Gewährleistung der Sicherstellung der Energieversorgung durch eine systemische Gesamtbetrachtung des Energiesystems, die Reduktion des Energieverbrauchs, die Erhöhung der Energieeffizienz, Diversifizierung und Dekarbonisierung der Energieträger, Technologienutzung und Dezentralisierung des Energiesystems, um die Verwundbarkeit gegenüber den Folgen des Klimawandels zu verringern. | D44: Flexibilisierung des Stromsystems | E44: 6.5.4 | F44: Optimieren des Stromsystems für das Zusammenspiel von Erzeugung und Verbrauch, um kritische Lastspitzen und Engpässe zu vermeiden. | G44: 0
A45: Energie | C45: Gewährleistung der Sicherstellung der Energieversorgung durch eine systemische Gesamtbetrachtung des Energiesystems, die Reduktion des Energieverbrauchs, die Erhöhung der Energieeffizienz, Diversifizierung und Dekarbonisierung der Energieträger, Technologienutzung und Dezentralisierung des Energiesystems, um die Verwundbarkeit gegenüber den Folgen des Klimawandels zu verringern. | D45: Berücksichtigung der Auswirkungen des Klimawandels bei energiewirtschaftlichen Entscheidungen und Forschungsaktivitäten | E45: 6.5.5 | F45: Erhöhung der Versorgungssicherheit durch vermehrt diversifizierte Energieträgerstrukturen und weitgehende Vermeidung von negativen Auswirkungen auf andere Bereiche und deren Anpassungsfähigkeit. | G45: 0
A46: Energie | C46: Gewährleistung der Sicherstellung der Energieversorgung durch eine systemische Gesamtbetrachtung des Energiesystems, die Reduktion des Energieverbrauchs, die Erhöhung der Energieeffizienz, Diversifizierung und Dekarbonisierung der Energieträger, Technologienutzung und Dezentralisierung des Energiesystems, um die Verwundbarkeit gegenüber den Folgen des Klimawandels zu verringern. | D46: Berücksichtigung der Auswirkungen des Klimawandels in Energiestrategien | E46: 6.5.6 | F46: Berücksichtigung des Strom- und Kühlenergiebedarfs, der Verwundbarkeit von Netzen und Erzeugungsanlagen durch extreme Wetterereignisse sowie des klimawandelbedingt veränderten Angebots an erneuerbaren Energieträgern in Energiestrategien, –leitbildern oder Maßnahmenprogrammen. | G46: 1
A47: Bauen und Wohnen | B47: Bauen und Wohnen | C47: Sicherstellung einer guten Aufenthaltsqualität in Gebäuden durch planerische, bauliche, bautechnische und nutzungsbezogene Anpassungsmaßnahmen an Gebäuden und in deren Umfeld. | D47: Umsetzung baulicher Maßnahmen im Neubau und im Bestand zum Schutz vor Hitze | E47: 7.5.1 | F47: Reduktion des solaren Wärmeeintrags zum Schutz vor Hitze durch bauliche Maßnahmen zwecks Sicherstellung des thermischen Komforts in Innenräumen und in wohnungsbezogenen Außenräumen (Innenhöfe, Balkon, Loggia, Terrasse, etc.). | G47: 1
A48: Bauen und Wohnen | C48: Sicherstellung einer guten Aufenthaltsqualität in Gebäuden durch planerische, bauliche, bautechnische und nutzungsbezogene Anpassungsmaßnahmen an Gebäuden und in deren Umfeld. | D48: Forcierte Anwendung passiver und aktiver Kühlung mit alternativen, energieeffizienten und ressourcenschonenden Technologien | E48: 7.5.2 | F48: Sicherstellung des thermischen Komforts in Innenräumen im Neubau sowie im Bestand durch Anwendung von passiven sowie energieeffizienten, ressourcenschonenden, aktiven Kühlstrategien. | G48: 1
A49: Bauen und Wohnen | C49: Sicherstellung einer guten Aufenthaltsqualität in Gebäuden durch planerische, bauliche, bautechnische und nutzungsbezogene Anpassungsmaßnahmen an Gebäuden und in deren Umfeld. | D49: Verbesserung der mikro/mesoklimatischen Bedingungen im Rahmen der Gebäude-, Stadt- und Freiraumplanung | E49: 7.5.3 | F49: Optimierung der Lebensbedingungen für die Bevölkerung durch Reduktion des Hitzeinseleffekts, Entsiegelung und Verbesserung der Versickerungsfähigkeit von Böden im Rahmen der Gebäude-, Stadt- und Freiraumplanung. | G49: 0
A50: Bauen und Wohnen | C50: Sicherstellung einer guten Aufenthaltsqualität in Gebäuden durch planerische, bauliche, bautechnische und nutzungsbezogene Anpassungsmaßnahmen an Gebäuden und in deren Umfeld. | D50: Anpassung von Baustandards, Normen und Gesetzen an die Folgen des Klimawandels | E50: 7.5.4 | F50: Berücksichtigung und Integration von Anpassungserfordernissen in den Baustandards, Normen und Gesetzen. | G50: 0
A51: Bauen und Wohnen | C51: Sicherstellung einer guten Aufenthaltsqualität in Gebäuden durch planerische, bauliche, bautechnische und nutzungsbezogene Anpassungsmaßnahmen an Gebäuden und in deren Umfeld. | D51: Schutz von Gebäuden gegen Klimarisiken inkl. Risikotransfermechanismen | E51: 7.5.5 | F51: Anpassung von Gebäuden (Neubau und Bestand) zum Schutz vor hydrologischen, gravitativen und meteorologischen Naturgefahren. | G51: 0
A52: Bauen und Wohnen | C52: Sicherstellung einer guten Aufenthaltsqualität in Gebäuden durch planerische, bauliche, bautechnische und nutzungsbezogene Anpassungsmaßnahmen an Gebäuden und in deren Umfeld. | D52: Erhöhung des Wasserrückhalts an bzw. auf Gebäuden und im Umfeld von Gebäuden | E52: 7.5.6 | F52: Vermeidung lokaler Hochwasserereignisse und damit assoziierter Gebäudeschäden durch bauliche Maßnahmen an bzw. auf Gebäuden und im Umfeld von Gebäuden. | G52: 1
