Workbook

Sheet Zusammenfassung
A1: Förderungsaktion
A2: Gemeinsame Energienutzung und Innovationen für eine optimierte Systemintegration 2026
A3: Ein Programm des Klima- und Energiefonds - managed by Kommunalkredit Public Consulting
A5: Antragstellung im Rahmen des Ausschreibungsschwerpunkts 3
A7: Hinweis: Um formal vollständig einzureichen, müssen alle Felder des vorliegenden Formulars vollständig ausgefüllt sein. Die Antragstellung erfolgt online unter www.umweltfoerderung.at/gemeinsame-energienutzung
A8: Hinweis: Für die Antragstellung im Rahmen des Ausschreibungsschwerpunkts 1 und/oder 2 steht Ihnen ein eigenes Antragsformular zur Verfügung: siehe Antragsformular - Ausschreibungsschwerpunkt 1 und 2 auf www.umweltfoerderung.at/gemeinsame-energienutzung
A10: 1 Angaben zur förderungswerbenden Person
A11: Layoutzeile
A12: Förderungswerbende Person
A13: Name Ansprechperson
A14: Name des Projekts der gemeinsamen Energienutzung
A15: Erfolgt die Antragstellung (vertreten) durch einen Organisator/eine Organisatorin?1 | B15: bitte auswählen
B16: =IF(B15="Ja",_xlfn._LONGTEXT("Im Zuge der Antragstellung muss der Vertrag oder die Vollmacht gemäß § 68 Abs. 2 ElWG (unter ´weitere Uploads´) hochgeladen werden. Hinweis: Der Organisator bzw. die Organisatorin muss auch auf den Rechnungen als rechnungs- oder leistungsempfangende Perso","n angeführt sein.")," ")
A17: 1 | B17: Gemäß ElWG können Organisatoren bzw. Organisatorinnen mittels Vertrag oder Bevollmächtigung bestellt werden, um spezifische Aufgaben in einem Projekt der gemeinsamen Energienutzung übertragen zu bekommen (siehe Glossar bzw. § 68 Abs 2 ElWG).
A19: 2 Bestätigungen
A20: Layoutzeile
A21: Hiermit wird bestätigt, dass die gemeinsame Energienutzung im Projekt im Nahebereich2 stattfindet. | B21: bitte auswählen | C21: =IF(B21="nein",CONCATENATE("Achtung: Sofern das Projekt der gemeinsamen Energienutzung nicht im Nahebereich stattfindet, ist das"," Projekt im Rahmen der Programmausschreibung nicht förderungsfähig"," (siehe dazu Leitfaden Kapitel 2.3.1 Zielgruppe) und Ihr Antrag muss aus Formalgründen zur Anlehnung vorgeschlagen werden."),"")
A22: Hiermit wird bestätigt, dass das Projekt der gemeinsamen Energienutzung aktiv und in Betrieb ist. | B22: bitte auswählen | C22: =IF(B22="nein",CONCATENATE("Achtung: Sofern das Projekt der gemeinsamen Energienutzung nicht aktiv ist, ist eine allgemeine Anforderung an die"," Förderungsfähigkeit im Rahmen der Programmausschreibung"," (siehe dazu Leitfaden Kapitel 2.3.1 Zielgruppe) nicht gegeben und Ihr Antrag muss aus Formalgründen zur Anlehnung vorgeschlagen werden."),"")
A23: Hiermit wird bestätigt, dass die Bereitschaft zur Aufnahme neuer Teilnehmender besteht. | B23: bitte auswählen | C23: =IF(B23="nein",CONCATENATE("Achtung: Sofern die grundsätzliche Bereitschaft zur Aufnahme neuer Teilnehmender nicht besteht, ist eine allgemeine Anforderungen an die"," Förderungsfähigkeit im Rahmen der Programmausschreibung"," (siehe dazu Leitfaden Kapitel 3.1 Allgemeine Anforderungen) nicht gegeben und Ihr Antrag muss aus Formalgründen zur Anlehnung vorgeschlagen werden."),"")
A24: Hiermit wird bestätigt, dass die Verpflichtungen zur transparenten Informationsgestaltung und Preisangabe in Erneuerbare-Energie-Gemeinschaften (EEG) der Österreichischen Koordinationsstelle erfüllt werden. | B24: bitte auswählen | C24: =IF(B24="nein",CONCATENATE("Achtung: Sofern nicht bestätigt werden kann, dass die Verpflichtungen zur transparenten Informations- und Preisgestaltung gemäß den Handlungsempfehlungen der Österreichischen Kooridnationsstelle"," erfüllt werden, ist eine allgemeine Anforderungen an die Förderungsfähigkeit im Rahmen der"," Programmausschreibung (siehe dazu Leitfaden Kapitel 3.1 Allgemeine Anforderungen) nicht gegeben und Ihr Antrag muss aus Formalgründen zur Anlehnung vorgeschlagen werden."),"")
A25: 2 | B25: Gemeinsame Energienutzung im Nahebereich liegt vor, wenn die Verbrauchsanlagen der teilnehmenden Netzbenutzende mit den Stromerzeugungsanlagen ausschließlich über gemeinschaftliche Leitungsanlagen, das Niederspannungs-Verteilernetz (Lokalbereich) oder das Mittelspannungsnetz (Regionalbereich) verbunden sind (vgl.§ 70 Abs 6 Z 1-4 ElWG).
A27: 3 Angaben zum Projekt der gemeinsamen Energienutzung
A29: Art des Projekts der gemeinsamen Energienutzung | B29: bitte auswählen
A30: Datum der Antragstellung | C30: Hinweis: Die Mindestzahl an Teilnehmenden muss zum Zeitpunkt (Datum) der Antragstellung vorliegen.
A31: ="Anzahl Teilnehmende (Verbrauchszählpunkte): "&IF(B29<>"bitte auswählen",VLOOKUP(B29,Dropdowns!K4:N7,4,FALSE),"") -> Anzahl Teilnehmende (Verbrauchszählpunkte): | C31: =IF(B31<VLOOKUP(B29,Dropdowns!K4:N7,2,FALSE),"Achtung! Mindestens "&VLOOKUP(B29,Dropdowns!K4:N7,2,FALSE)&" Verbrauchszählpunkte erforderlich","")
A32: ="Anzahl Erzeugungszählpunkte in der "&IF(B29<>"bitte auswählen",B29,"") -> Anzahl Erzeugungszählpunkte in der
A33: Gesamtleistung Erzeugungsanlagen (kW)
A34: Layoutzeile
A35: Angabe der Gemeinschafts-ID: | C35: Hinweis: die Gemeinschafts-ID besteht aus 33-Stellen und beginnt immer mit AT... Weitere Informationen zur Gemeinschafts-ID finden Sie im Glossar.
A36: Angabe des Zonen-Levels: | C36: Hinweis: Weitere Informationen zum Zonen-Level finden Sie im Glossar.
A37: Layoutzeile
A38: Layoutzeile
A39: 4 Angaben zur Antragstellung
A40: Hinweis: im Rahmen des Förderungsprogramms kann im Ausschreibungsschwerpunkt 3 nur ein Antrag (entweder für 3A oder für 3B) gestellt werden. Die detaillierte Beschreibung des Vorhabens erfolgt in den weiteren Tabellenblättern (Aussschreibungsschwerpunkt 3A bzw. Ausschreibungsschwerpunkt 3B)
A41: Layoutzelle | C41: Höhe der beantragten Kosten (netto) [EUR]
A42: Ausschreibungsschwerpunkt 3A: Investitionen in gemeinschaftlich genutzte Energiespeicheranlagen (100-250 kWh): | B42: bitte auswählen | C42: =IF(AND(B42="ja",'Ausschreibungsschwerpunkt 3A'!D34=0),"Ausschreibungsschwerpunkt 3A bitte vollständig befüllen",'Ausschreibungsschwerpunkt 3A'!D34) -> 0
A43: Ausschreibungsschwerpunkt 3B: Investitionen in gemeinschaftlich genutzte Energiespeicheranlagen (>250kWh): | B43: bitte auswählen | C43: =IF(AND(B43="ja",'Ausschreibungsschwerpunkt 3B'!D33=0),"Ausschreibungsschwerpunkt 3B bitte vollständig befüllen",'Ausschreibungsschwerpunkt 3B'!D33) -> 0
A44: =Dropdowns!J37 -> Bitte folgende Felder befüllen: B12, B13, B14, B15, B21, B22, B23, B24, B29, B30, B31, B32, B33, B35, B42, B43
A45: =IF(AND(B42="ja",B43="ja"),"--> Hinweis: Achtung - es kann NUR EIN Antrag gestellt werden (entweder Ausschreibungsschwerpunkt 3A oder 3B) - Korrektur erforderlich!","")
A46: Layoutzeile

Sheet Ausschreibungsschwerpunkt 3A
A1: Förderungsaktion
A2: Gemeinsame Energienutzung und Innovationen für eine optimierte Systemintegration 2026
A3: Ein Programm des Klima- und Energiefonds - managed by Kommunalkredit Public Consulting
A5: Ausschreibungsschwerpunkt 3A: Investitionen in gemeinschaftlich genutzte Energiespeicheranlagen: Nettospeicherkapazität 100 bis 250 kWh
A7: 1 Kurzbeschreibung des Projekts
A9: Bitte beschreiben Sie, wer die Investition in den Speicher tätigen soll und wie das Projekt finanziert wird. (Hinweis: Die Antragstellung zur Förderung muss durch jene Person erfolgen, die die Investition in den Speicher tätigt, den Speicher ins Eigentum aufnimmt und für zumindest fünf Jahre ordnungsgemäß im Rahmen eines Projekts der gemeinsamen Energienutzung betreibt.). (max. 500 Zeichen)
A10: Erläutern Sie das Speicherkonzept (Größenverhältnis zu der/den Erzeugungsanlagen, Be- und Entladestrategie, Verteilung auf die Teilnehmenden, ggfs. Einbindung in ein übergreifendes Managementsystem, Priorisierungs- und Aufteilungsgrundsätze). (max. 1.000 Zeichen)
A12: 2 Anlagenspezifische Informationen:
B13: Nettospeicherkapazität [kWh]: | D13: =IF(AND(ISNUMBER(C13),C13>=100,C13<=250),"","Achtung: Die Speicherkapazität muss mindestens 100 kWh bzw. maximal 250 kWh betragen.") -> Achtung: Die Speicherkapazität muss mindestens 100 kWh bzw. maximal 250 kWh betragen.
B14: Bruttospeicherkapazität [kWh]:
B15: Aufstellungort der Anlage:
B16: Speichertechnologie:
B17: Anlagenhersteller, Typ und Modell des Speichers: | D17: Bitte legen Sie dem Onlineantrag das Produktdatenblatt des geplanten Speichers untere "weitere Uploads" bei.
B18: Hiermit wird bestätigt, dass die Energiespeicheranlage für eine Dauer von zumindest fünf Jahren im Rahmen des Projekts gemeinschaftlich genutzt werden soll (die eingespeiste Energie wird den Teilnehmenden des Projekts der gemeinsamen Energienutzung zur Verfügung gestellt und ihren Verbrauchszählpunkten gemäß den Bestimmungen des § 71 ElWG zugeordnet). | C18: bitte auswählen | D18: =IF(C18="nein",CONCATENATE("Achtung: Sofern nicht bestätigt werden kann, dass der Speicher gemeinschaftlich genutzt werden soll, ist das"," Projekt im Rahmen der Programmausschreibung nicht förderungsfähig"," (siehe dazu Leitfaden Kapitel 2.3.1) und Ihr Antrag muss aus Formalgründen zur Anlehnung vorgeschlagen werden."),"")
B19: Hiermit wird bestätigt, dass sichergestellt wird, dass der Speicher mindestens 75% seiner jählichen Energie aus den im Projekt der gemeinsamen Energienutzung integrierten Stromerzeugungsanlagen bezieht. | C19: bitte auswählen | D19: =IF(C19="nein",CONCATENATE("Achtung: Sofern nicht bestätigt werden kann, dass der Speicher mindestens 75% seiner jählichen Energie aus den im Projekt der gemeinsamen Energienutzung integrierten Stromerzeugungsanlagen beziehen wird, ist das"," Projekt im Rahmen der Programmausschreibung nicht förderungsfähig"," (siehe dazu Leitfaden Kapitel 3.4.3) und Ihr Antrag muss aus Formalgründen zur Anlehnung vorgeschlagen werden."),"")
A20: Layoutzeile
A21: 3 Leistungsverzeichnis (Kostenkalkulation):
A22: Layoutzeile
A23: Nr. | B23: Leistungsposition | C23: Durchführende / ausführende Firma | D23: Kosten (netto) [EUR] | E23: Angebotsnummer
A24: ="1."&ROW()-23 -> 1.1 | B24: Speicher
A25: ="1."&ROW()-23 -> 1.2 | B25: Installation, Montage
A26: ="1."&ROW()-23 -> 1.3 | B26: bauliche Maßnahmen
A27: ="1."&ROW()-23 -> 1.4 | B27: Planungskosten (maximal 10% der Investitionskosten)
A28: ="1."&ROW()-23 -> 1.5 | B28: Sonstiges: (eine aussagekräftige Beschreibung der Leistungen muss aus dem Angebot hervogehen)
A29: ="1."&ROW()-23 -> 1.6
A30: ="1."&ROW()-23 -> 1.7
A31: ="1."&ROW()-23 -> 1.8
A32: ="1."&ROW()-23 -> 1.9
A33: ="1."&ROW()-23 -> 1.10
B34: Bitte fügen Sie weitere Zeilen oberhalb ein! | C34: Gesamtkosten: | D34: =SUM(D24:D33) -> 0
A35: Layoutzeile
A36: 4 Erforderliche Antragsunterlagen für die Einreichung:
A37: Layoutzeile
B38: Erforderliche Antragsunterlagen
B39: X | C39: Vollständig ausgefülltes Antragsformular
B40: X | C40: Angebot/e bzw. Kostenvoranschläge über die wesentlichen Leistungen
B41: =IF(Zusammenfassung!B15="Ja","X ","") | C41: Vertrag oder Bevollmächtigung des Organisators
B42: X | C42: Produktdatenblatt Speicher
B43: =IF(D34>100000,"X","") | C43: Bericht des Kreditinstituts
B44: X | C44: Aufstellungs- bzw. Lageplan
B45: X | C45: sofern vorhanden: die für die Errichtung und den Betrieb der Anlage erforderlichen Bescheide

Sheet Ausschreibungsschwerpunkt 3B
A1: Förderungsaktion
A2: Gemeinsame Energienutzung und Innovationen für eine optimierte Systemintegration 2026
A3: Ein Programm des Klima- und Energiefonds - managed by Kommunalkredit Public Consulting
A5: Ausschreibungsschwerpunkt 3B: Investitionen in gemeinschaftlich genutzte Energiespeicheranlagen: Nettospeicherkapazität > 250 kWh
A7: 1 Kurzbeschreibung des Projekts
A9: Bitte beschreiben Sie folgend die Ausgangssituation in Ihrem Projekt der gemeinsamen Energienutzung und die Gründe, warum ein gemeinschaftlich genutzter Energiespeicher angeschafft werden soll. (max. 500 Zeichen)
A11: 2 Anlagenspezifische Informationen:
B12: Nettospeicherkapazität [kWh]: | D12: =IF(C12<=250,"Hinweis: Die Nettospeicherkapazität für einen Antrag im Rahmen des Ausschreibungsschwerpunkts 3B muss größer 250 kWh betragen.","") -> Hinweis: Die Nettospeicherkapazität für einen Antrag im Rahmen des Ausschreibungsschwerpunkts 3B muss größer 250 kWh betragen.
B13: Bruttospeicherkapazität [kWh]:
B14: Aufstellungort der Anlage:
B15: Speichertechnologie:
B16: Anlagenhersteller, Typ und Modell des Speichers: | D16: Bitte legen Sie dem Onlineantrag das Produktdatenblatt des geplanten Speichers untere "weitere Uploads" bei.
B17: Hiermit wird bestätigt, dass die Energiespeicheranlage für eine Dauer von zumindest fünf Jahren im Rahmen des Projekts gemeinschaftlich genutzt werden soll (die eingespeiste Energie wird den Teilnehmenden des Projekts der gemeinsamen Energienutzung zur Verfügung gestellt und ihren Verbrauchszählpunkten gemäß den Bestimmungen des § 71 ElWG zugeordnet). | C17: bitte auswählen | D17: =IF(C17="nein",CONCATENATE("Achtung: Sofern nicht bestätigt werden kann, dass der Speicher gemeinschaftlich genutzt werden soll, ist das"," Projekt im Rahmen der Programmausschreibung nicht förderungsfähig"," (siehe dazu Leitfaden Kapitel 2.3.1) und Ihr Antrag muss aus Formalgründen zur Anlehnung vorgeschlagen werden."),"")
B18: Hiermit wird bestätigt, dass sichergestellt wird, dass der Speicher mindestens 75% seiner jählichen Energie aus den im Projekt der gemeinsamen Energienutzung integrierten Stromerzeugungsanlagen bezieht. | C18: bitte auswählen | D18: =IF(C18="nein",CONCATENATE("Achtung: Sofern nicht bestätigt werden kann, dass der Speicher mindestens 75% seiner jählichen Energie aus den im Projekt der gemeinsamen Energienutzung integrierten Stromerzeugungsanlagen beziehen wird, ist das"," Projekt im Rahmen der Programmausschreibung nicht förderungsfähig"," (siehe dazu Leitfaden Kapitel 3.4.3) und Ihr Antrag muss aus Formalgründen zur Anlehnung vorgeschlagen werden."),"")
A19: Layoutzeile
A20: 3 Leistungsverzeichnis (Kostenkalkulation):
A21: Layoutzeile
A22: Nr. | B22: Leistungsposition | C22: Durchführende / ausführende Firma | D22: Kosten (netto) [EUR] | E22: Angebotsnummer
A23: ="1."&ROW()-22 -> 1.1 | B23: Speicher
A24: ="1."&ROW()-22 -> 1.2 | B24: Installation, Montage
A25: ="1."&ROW()-22 -> 1.3 | B25: bauliche Maßnahmen
A26: ="1."&ROW()-22 -> 1.4 | B26: Planungskosten (maximal 10% der Investitionskosten)
A27: ="1."&ROW()-22 -> 1.5 | B27: Sonstiges: (eine aussagekräftige Beschreibung der Leistungen muss aus dem Angebot hervogehen)
A28: ="1."&ROW()-22 -> 1.6
A29: ="1."&ROW()-22 -> 1.7
A30: ="1."&ROW()-22 -> 1.8
A31: ="1."&ROW()-22 -> 1.9
A32: ="1."&ROW()-22 -> 1.10
B33: Bitte fügen Sie weitere Zeilen oberhalb ein! | C33: Gesamtkosten: | D33: =SUM(D23:D32) -> 0
A34: Layoutzeile
A35: 4 Erforderliche Antragsunterlagen für die Einreichung:
A36: Layoutzeile
B37: Erforderliche Antragsunterlagen
B38: X | C38: Vollständig ausgefülltes Antragsformular
B39: X | C39: Angebot/e bzw. Kostenvoranschläge über die wesentlichen Leistungen
B40: =IF(Zusammenfassung!B15="Ja","X ","") | C40: Vertrag oder Bevollmächtigung des Organisators
B41: X | C41: Produktdatenblatt Speicher
B42: =IF(D33>100000,"X","") | C42: Bericht des Kreditinstituts
B43: X | C43: Aufstellungs- bzw. Lageplan
B44: X | C44: sofern vorhanden: die für die Errichtung und den Betrieb der Anlage erforderlichen Bescheide
A46: 5 Projektbeschreibung - Erfüllung der Auswahlkriterien - Grundlage für die Jury-Bewertung
A47: Hinweis: Einreichungen für gemeinschaftlich genutzte Energiespeicheranlagen mit einer Nettospeicherkapazität über 250 kWh (= Ausschreibungsschwerpunkt 3, Kategorie B) werden von einer externen Expert:innen-Jury hinsichtlich der Erfüllung der Auswahlkriterien gemäß Punkt 3.4.9 des Ausschreibungsleitfadens beurteilt. Bitte beschreiben Sie die folgenden Punkte vollständig und aussagekräftig. Diese Ausführungen dienen der Expert:innen-Jury in Ergänzung zu den weiteren Antragsunterlagen als Bewertungsgrundlage.
B48: Modellhaftigkeit und Innovation der gemeinsamen Speichernutzung | E48: (jeweils max. 500 Zeichen)
B49: Bitte beschreiben Sie das Nutzungskonzept der Energiespeicheranlage in Verbindung mit der/den Erzeugungs- und Verbrauchsanlage(n): Be- und Entladestrategie, Verteilung auf die Teilnehmenden, ggfs. Einbindung in ein übergreifendes Managementsystem, Priorisierungs- und Aufteilungsgrundsätze etc.
B50: Bitte beschreiben Sie das Sektorkopplungspotenzial.
B51: Bitte beschreiben Sie die Projektreife-/Planungsstand (auch Status behörderlicher Genehmigungen, etc.).
B52: Bitte beschreiben Sie den Modellcharakter des Projekts und die Multiplizierbarkeit.
B54: Relevanz des Vorhabens für die Ziele der Ausschreibung
B55: Bitte beschreiben Sie die Chancen zur Flexibilisierung des Strombezugs, die sich aus der Projektumsetzung ergeben.
B56: Bitte beschreiben Sie, in wie weit sich Teilnehmende der gemeinsamen Energienutzung am Energiespeicherprojekt beteiligen können.
B57: Bitte beschreiben Sie, ob Sie Möglichkeiten für weniger repräsentierte Gesellschaftsgruppen einräumen, um am Projekt der gemeinsamen Energienutzung teilzunehmen.
B58: Bitte beschreiben Sie, wer die Investition in den Speicher tätigen soll und wie das Projekt finanziert wird. (Hinweis: Die Antragstellung zur Förderung muss durch jene Person erfolgen, die die Investition in den Speicher tätigt, den Speicher ins Eigentum aufnimmt und für zumindest fünf Jahre ordnungsgemäß im Rahmen eines Projekts der gemeinsamen Energienutzung betreibt.).
B60: Eignung der förderungswerbenden Person und der Projektbeteiligten
B61: Bitte beschreiben Sie, wer das Projekt der gemeinsamen Energienutzung wie organisiert und betreut.
B62: Bitte beschreiben Sie die Anzahl und Vielfalt der Teilnehmer:innen bzw. der Gesellschafter:innen im Projekt der gemeinsamen Energienutzung.
B63: Bitte beschreiben Sie die Struktur der Teilnehmenden am Projekt der gemeinsamen Energienutzung im Hinblick auf ihr Erzeugungs- und Verbrauchsverhalten.
A71: =IF(OR(C49="",C50="",C51="",C52="",C55="",C56="",C57="",C58="",C61="",C62="",C63="",),"--> Hinweis: Bitte ergänzen Sie Ihre Ausführungen zur Erfüllung der Auswahlkriterien. Diese sind Grundlage für die Bewertung der Expert:innen-Jury.","") -> --> Hinweis: Bitte ergänzen Sie Ihre Ausführungen zur Erfüllung der Auswahlkriterien. Diese sind Grundlage für die Bewertung der Expert:innen-Jury.

Sheet Dropdowns
B3: Reiter Zusammenfassung
K4: bitte auswählen
B5: trifft zu | C5: ja | F5: "Gemeinsame Energienutzung über gemeinschaftliche Leitungsanlagen: mind. 5 Verbrauchszählpunkte sind erforderlich" | G5: Beschreibung der Rolle der antragstellenden Person (Rechtsträger GEA, Betreiber, Anlagenverantwortliche/r) | K5: Gemeinsame Energienutzung über gemeinschaftliche Leitungsanlagen | L5: 5 | M5: ZP | N5: Gemeinsame Energienutzung über gemeinschaftliche Leitungsanlagen
B6: trifft nicht zu | C6: nein | F6: "Gemeinsame Energienutzung im Regionalbereich : mind. 15 Verbrauchszählpunkte sind erforderlich" | K6: Gemeinsame Energienutzung im Lokalbereich | L6: 10 | M6: ZP | N6: Gemeinsame Energienutzung im Lokalbereich | S6: Anfangsdatum | T6: 46296
B7: bitte auswählen | C7: bitte auswählen | F7: "Gemeinsame Energienutzung im Lokalbereich: mind. 10 Verbrauchszählpunkte sind erforderlich" | K7: Gemeinsame Energienutzung im Regionalbereich | L7: 15 | M7: ZP | N7: Gemeinsame Energienutzung im Regionalbereich | S7: Enddatum | T7: 46568
B13: Reiter Ausschreibungsschwerpunkt 1 | G13: Fehlermeldung offene Felder | I13: noch nachziehen!!! | L13: Zonenlevel
L14: Zone 1
B15: immaterielle Leistung | E15: ja | G15: B12 | H15: {=IF(INDIRECT("'Zusammenfassung'!"&G15)="",0,1)} -> 0 | J15: Hinweis! Bitte befüllen Sie die Felder: | L15: Zone 2
B16: Anschaffung Hardwarekomponenten | E16: nein | G16: B13 | H16: {=IF(INDIRECT("'Zusammenfassung'!"&G16)="",0,1)} -> 0 | J16: Es sind alle Felder befüllt. | L16: Zone 3
B17: Anschaffung Software | E17: bitte auswählen | G17: B14 | H17: {=IF(INDIRECT("'Zusammenfassung'!"&G17)="",0,1)} -> 0 | J17: {=_xlfn.TEXTJOIN(", ",TRUE,(IF(H15:H31=0,G15:G31,"")))} -> B12, B13, B14, B15, 0, B21, B22, B23, B24, 0, B29, B30, B31, B32, B33, 0, B35 | L17: Zone 4
B18: sonstiges | G18: B15 | H18: {=IF(INDIRECT("'Zusammenfassung'!"&G18)="bitte auswählen",0,1)} -> 0 | L18: Zone 5
L19: bitte auswählen
G20: B21 | H20: {=IF(INDIRECT("'Zusammenfassung'!"&G20)="bitte auswählen",0,1)} -> 0
B21: Reiter Ausschreibungsschwerpunkt 2 | G21: B22 | H21: {=IF(INDIRECT("'Zusammenfassung'!"&G21)="bitte auswählen",0,1)} -> 0
G22: B23 | H22: {=IF(INDIRECT("'Zusammenfassung'!"&G22)="bitte auswählen",0,1)} -> 0
B23: immaterielle Leistung | E23: ja | G23: B24 | H23: {=IF(INDIRECT("'Zusammenfassung'!"&G23)="bitte auswählen",0,1)} -> 0
B24: Anschaffung Hardwarekomponenten | E24: nein
B25: Anschaffung Software | E25: bitte auswählen | G25: B29 | H25: {=IF(INDIRECT("'Zusammenfassung'!"&G25)="bitte auswählen",0,1)} -> 0
B26: sonstiges | G26: B30 | H26: {=IF(INDIRECT("'Zusammenfassung'!"&G26)="",0,1)} -> 0
G27: B31 | H27: {=IF(INDIRECT("'Zusammenfassung'!"&G27)="",0,1)} -> 0
G28: B32 | H28: {=IF(INDIRECT("'Zusammenfassung'!"&G28)="",0,1)} -> 0
G29: B33 | H29: {=IF(INDIRECT("'Zusammenfassung'!"&G29)="",0,1)} -> 0
G31: B35 | H31: {=IF(INDIRECT("'Zusammenfassung'!"&G31)="",0,1)} -> 0
G32: B36 | H32: {=IF(INDIRECT("'Zusammenfassung'!"&G32)="bitte auswählen",0,1)} -> 1
G34: B42 | H34: {=IF(INDIRECT("'Zusammenfassung'!"&G34)="bitte auswählen",0,1)} -> 0
G35: B43 | H35: {=IF(INDIRECT("'Zusammenfassung'!"&G35)="bitte auswählen",0,1)} -> 0
J36: Fehlende Felder
J37: {=IF(H38="ja", "Alle Felder sind vollständig befüllt", IFERROR("Bitte folgende Felder befüllen: "&_xlfn.TEXTJOIN(", ",TRUE,_xlfn._xlws.FILTER(G15:G35,H15:H35=0)),"Alle Felder sind befüllt"))} -> Bitte folgende Felder befüllen: B12, B13, B14, B15, B21, B22, B23, B24, B29, B30, B31, B32, B33, B35, B42, B43
G38: vollständig? | H38: =IF(COUNTIF(H15:H35,0)>0,"nein","ja") -> nein | J38: Alle Felder sind vollständig befüllt
