Workbook

Sheet Zusammenfassung
A1: Förderungsaktion
A2: Gemeinsame Energienutzung und Innovationen für eine optimierte Systemintegration 2026
A3: Ein Programm des Klima- und Energiefonds - managed by Kommunalkredit Public Consulting
A5: Antragstellung im Rahmen des Ausschreibungsschwerpunkts 1 und/oder des Ausschreibungsschwerpunkts 2
A7: Hinweis: Um formal vollständig einzureichen, müssen alle Felder des vorliegenden Formulars vollständig ausgefüllt sein. Die Antragstellung erfolgt online unter www.umweltfoerderung.at/gemeinsame-energienutzung
A8: Hinweis: Für die Antragstellung im Rahmen des Ausschreibungsschwerpunkts 3 (Gemeinschaftlich genutzte Speicheranlagen) steht Ihnen ein eigenes Antragsformular zur Verfügung: siehe Antragsformular - Ausschreibungsschwerpunkt 3 auf www.umweltfoerderung.at/gemeinsame-energienutzung
A9: 1 Angaben zur förderungswerbenden Person
A10: Layoutzeile
A11: Förderungswerbende Person
A12: Name Ansprechperson
A13: Name des Projekts der gemeinsamen Energienutzung
A14: Erfolgt die Antragstellung (vertreten) durch einen Organisator/eine Organisatorin?1 | B14: bitte auswählen
B15: =IF(B14="Ja",_xlfn._LONGTEXT("Im Zuge der Antragstellung muss der Vertrag oder die Vollmacht gemäß § 68 Abs. 2 ElWG (unter ´weitere Uploads´) hochgeladen werden. Hinweis: Der Organisator bzw. die Organisatorin muss auch die förderungswerbende Person sein und auf den Rechnungen als re","chnungs- oder leistungsempfangende Person angeführt sein.")," ")
A16: Ist das Projekt der gemeinsamen Energienutzung auf vertraglicher Basis organisiert (Peer-2-Peer Vertrag)? | B16: bitte auswählen
A17: =IF(B16="Ja","Gibt es einen vertraglich bestellten Organisator bzw. eine Organisatorin, der bzw. die die Antragstellung übernimmt?","") | B17: bitte auswählen
A18: =IF(B17="Nein","Die Teilnehmenden des Peer-2-Peer Vertrages müssen gemeinsam als Förderungswerbende Personen auftreten. Für die Einreichung ist daher die Nennung aller Teilnehmenden des Peer-2-Peer Vertrages erforderlich.","") | B18: =IF(A18="Die Teilnehmenden des Peer-2-Peer Vertrages müssen gemeinsam als Förderungswerbende Personen auftreten. Für die Einreichung ist daher die Nennung aller Teilnehmenden des Peer-2-Peer Vertrages erforderlich.","Nennung der Teilnehmenden des Peer-2-Peer Vertrags - klicken Sie bitte hier.","")
A19: 1 | B19: Gemäß ElWG können Organisatoren bzw. Organisatorinnen mittels Vertrag oder Bevollmächtigung bestellt werden, um spezifische Aufgaben in einem Projekt der gemeinsamen Energienutzung übertragen zu bekommen (siehe Glossar bzw. § 68 Abs 2 ElWG).
A21: 2 Bestätigungen
A22: Layoutzeile
A23: Hiermit wird bestätigt, dass die gemeinsame Energienutzung im Projekt im Nahebereich2 stattfindet. | B23: bitte auswählen | C23: =IF(B23="nein",CONCATENATE("Achtung: Sofern das Projekt der gemeinsamen Energienutzung nicht im Nahebereich stattfindet, ist das"," Projekt im Rahmen der Programmausschreibung nicht förderungsfähig"," (siehe dazu Leitfaden Kapitel 2.3.1 Zielgruppe) und Ihr Antrag muss aus Formalgründen zur Anlehnung vorgeschlagen werden."),"")
A24: Hiermit wird bestätigt, dass das Projekt der gemeinsamen Energienutzung aktiv und in Betrieb ist. | B24: bitte auswählen | C24: =IF(B24="nein",CONCATENATE("Achtung: Sofern das Projekt der gemeinsamen Energienutzung nicht aktiv ist, ist eine allgemeine Anforderung an die"," Förderungsfähigkeit im Rahmen der Programmausschreibung"," (siehe dazu Leitfaden Kapitel 2.3.1 Zielgruppe) nicht gegeben und Ihr Antrag muss aus Formalgründen zur Anlehnung vorgeschlagen werden."),"")
A25: Hiermit wird bestätigt, dass die Bereitschaft zur Aufnahme neuer Teilnehmender besteht. | B25: bitte auswählen | C25: =IF(B25="nein",CONCATENATE("Achtung: Sofern die Bereitschaft zur Aufnahme neuer Teilnehmender nicht besteht, ist eine allgemeine Anforderungen an die"," Förderungsfähigkeit im Rahmen der Programmausschreibung"," (siehe dazu Leitfaden Kapitel 3.1 Allgemeine Anforderungen) nicht gegeben und Ihr Antrag muss aus Formalgründen zur Anlehnung vorgeschlagen werden."),"")
A26: Hiermit wird bestätigt, dass die Verpflichtungen zur transparenten Informationsgestaltung und Preisangabe in Erneuerbare-Energie-Gemeinschaften (EEG) der Österreichischen Koordinationsstelle erfüllt werden. | B26: bitte auswählen | C26: =IF(B26="nein",CONCATENATE("Achtung: Sofern nicht bestätigt werden kann, dass die Verpflichtungen zur transparenten Informations- und Preisgestaltung gemäß den Handlungsempfehlungen der Österreichischen Kooridnationsstelle"," erfüllt werden, ist eine allgemeine Anforderungen an die Förderungsfähigkeit im Rahmen der"," Programmausschreibung (siehe dazu Leitfaden Kapitel 3.1 Allgemeine Anforderungen) nicht gegeben und Ihr Antrag muss aus Formalgründen zur Anlehnung vorgeschlagen werden."),"")
A27: 2 | B27: Gemeinsame Energienutzung im Nahebereich liegt vor, wenn die Verbrauchsanlagen der teilnehmenden Netzbenutzende mit den Stromerzeugungsanlagen ausschließlich über gemeinschaftliche Leitungsanlagen, das Niederspannungs-Verteilernetz (Lokalbereich) oder das Mittelspannungsnetz (Regionalbereich) verbunden sind (vgl.§ 70 Abs 6 Z 1-4 ElWG).
A29: 3 Angaben zum Projekt der gemeinsamen Energienutzung
A31: Art des Projekts der gemeinsamen Energienutzung | B31: Gemeinsame Energienutzung über gemeinschaftliche Leitungsanlagen
A32: Datum der Antragstellung | C32: Hinweis: Die Mindestzahl der Teilnehmenden muss zum Zeitpunkt (Datum) der Antragstellung vorliegen.
A33: ="Anzahl Teilnehmende (Verbrauchszählpunkte): "&IF(B31<>"bitte auswählen",VLOOKUP(B31,Dropdowns!K4:N7,4,FALSE),"") -> Anzahl Teilnehmende (Verbrauchszählpunkte): Gemeinsame Energienutzung über gemeinschaftliche Leitungsanlagen | C33: =IF(B33<VLOOKUP(B31,Dropdowns!K4:N7,2,FALSE),"Achtung! Mindestens "&VLOOKUP(B31,Dropdowns!K4:N7,2,FALSE)&" Verbrauchszählpunkte erforderlich","") -> Achtung! Mindestens 5 Verbrauchszählpunkte erforderlich
A34: ="Anzahl Erzeugungszählpunkte in der "&IF(B31<>"bitte auswählen",B31,"") -> Anzahl Erzeugungszählpunkte in der Gemeinsame Energienutzung über gemeinschaftliche Leitungsanlagen
A35: Gesamtleistung Erzeugungsanlagen (kW)
A36: Layoutzeile
A37: Angabe der Gemeinschafts-ID: | C37: Hinweis: die Gemeinschafts-ID besteht aus 33-Stellen und beginnt immer mit AT... Weitere Informationen zur Gemeinschafts-ID finden Sie im Glossar.
A38: Angabe des Zonen-Levels: | C38: Hinweis: Weitere Informationen zum Zonen-Level finden Sie im Glossar.
A39: Layoutzeile
A40: 4 Angaben zur Antragstellung
A41: Hinweis: es kann ein Schwerpunkt oder es können beide Schwerpunkte ausgewählt werden - die Beschreibung der geplanten Inhalte und Erfüllung der Auswahlkriterien erfolgt in den weiteren Tabellenblättern (Aussschreibungsschwerpunkt 1 bzw. Ausschreibungsschwerpunkt 2)
A42: Layoutzelle | C42: Höhe der beantragten Kosten (netto) [EUR] | D42: Höhe der beantragten Kosten (brutto) [EUR]
A43: Ausschreibungsschwerpunkt 1: Erweiterung der Teilnehmer:innengruppen und Bewusstseinsbildung | B43: bitte auswählen | C43: =IF(AND(B43="ja",'Ausschreibungsschwerpunkt 1'!E24=0),"Ausschreibungsschwerpunkt 1 bitte vollständig befüllen",'Ausschreibungsschwerpunkt 1'!E24) -> 0 | D43: =IF(AND(B43="ja",'Ausschreibungsschwerpunkt 1'!F24=0),"Ausschreibungsschwerpunkt 1 bitte vollständig befüllen",'Ausschreibungsschwerpunkt 1'!F24) -> 0
A44: Ausschreibungsschwerpunkt 2: Digitalisierung und Flexibilisierung | B44: bitte auswählen | C44: =IF(AND(B44="ja",'Ausschreibungsschwerpunkt 2'!E24=0),"Ausschreibungsschwerpunkt 2 bitte vollständig befüllen",'Ausschreibungsschwerpunkt 2'!E24) -> 0 | D44: =IF(AND(B44="ja",'Ausschreibungsschwerpunkt 2'!F24=0),"Ausschreibungsschwerpunkt 2 bitte vollständig befüllen",'Ausschreibungsschwerpunkt 2'!F24) -> 0
A45: Layoutzeile
A46: 5 Angaben zur Umsatzsteuer der förderungswerbenden Person:
A47: Layoutzeile
A48: Ist die förderungswerbende Person vorsteuerabzugsberechtigt? | B48: nein | C48: Hinweis: Sofern die Umsatzsteuer nachweislich tatsächlich und endgültig von der förderungswerbenden Person zu tragen ist, somit für Sie keine Vorsteuerabzugsberechtigung besteht, kann sie als förderbarer Kostenbestandteil berücksichtigt werden.
A49: =IF(B48="nein","Hiermit wird bestätigt, dass die Umsatzsteuer nachweislich, tatsächlich und endgültig von der förderungswerbenden Person getragen wird.","") -> Hiermit wird bestätigt, dass die Umsatzsteuer nachweislich, tatsächlich und endgültig von der förderungswerbenden Person getragen wird. | B49: bitte auswählen
A50: =Dropdowns!J38 -> Bitte folgende Felder befüllen: B11, B12, B13, B14, B16, B23, B24, B25, B26, B32, B33, B34, B35, B37, B38, B43, B44
A52: Layoutzeile
A53: 6 Nennung der teilnehmenden Personen am Peer-2-Peer Vertrag:
A55: Teilnehmende des Projekts der gemeinsamen Energienutzung
A57: Name Person | B57: Emailadresse | C57: Geburtsdatum | D57: Straße Hausnummer; PLZ Ort
A63: Bitte fügen Sie weitere Zeilen oberhalb ein!
A64: Name Firma, Verein udgl. | B64: Firmenbuchnummer, Vereinsregisternummer udgl. | C64: Name Ansprechperson | D64: Straße Hausnummer; PLZ Ort
A70: Bitte fügen Sie weitere Zeilen oberhalb ein!

Sheet Ausschreibungsschwerpunkt 1
A1: Förderungsaktion
A2: Gemeinsame Energienutzung und Innovationen für eine optimierte Systemintegration 2026
A3: Ein Programm des Klima- und Energiefonds - managed by Kommunalkredit Public Consulting
A4: Layoutzeile
A5: Ausschreibungsschwerpunkt 1: Erweiterung der Teilnehmer:innengruppen und Bewusstseinsbildung
A6: Layoutzeile
A7: Welche Maßnahmen sind im Rahmen der Projekteinreichung im Ausschreibungsschwerpunkt 1 geplant? (max. 1.000 Zeichen) | D7: "Hinweis: Die geplanten Leistungen, die im Rahmen des Ausschreibungsschwerpunkts 1 zur Förderung eingereicht werden, sollen auch aus dem/den Angebot/en des qualifizierten Dienstleistenden hervorgehen."
A8: Welche Ziele sollen durch die Projektumsetzung erreicht werden? (max. 500 Zeichen)
A9: Layoutzeile
A10: 1 Leistungsverzeichnis (Kostenkalkulation):
A11: Hinweis zu Kosten: Vordergründig sind immaterielle Kosten wie Beratungsleistungen einschließlich Schulungs-, Vernetzungs- und Kommunikationsmaßnahmen, Maßnahmen zur Bewusstseinsbildung etc., die in direktem Zusammenhang mit der Weiterentwicklung des Projekts der gemeinsamen Energienutzung - gemäß den Zielen der Programmausschreibung - stehen. Gegebenenfalls können in Ergänzung zu den immateriellen Leistungen auch Kosten für Anschaffungen/einmalige Ausgaben (Raummiete, Druckkosten etc.) eingereicht werden. Die Rechnungslegung hat stets an die förderungsnehmende Person zu erfolgen.
A12: Layoutzeile
A13: Nr. | B13: Durchführende / ausführende Firma | C13: Kurzbeschreibung der Leistungsposition (Hinweis: die Kostenart "Sonstige" ist nur in Ausnahmefällen zu wählen und muss hier ausführlich und nachvollziehbar beschrieben werden). | D13: Kostenart (bitte auswählen) | E13: Kosten (netto) [EUR] | F13: Kosten (brutto) [EUR] | G13: Angebot liegt bei?
A14: ="1."&ROW()-13 -> 1.1
A15: ="1."&ROW()-13 -> 1.2
A16: ="1."&ROW()-13 -> 1.3
A17: ="1."&ROW()-13 -> 1.4
A18: ="1."&ROW()-13 -> 1.5
A19: ="1."&ROW()-13 -> 1.6
A20: ="1."&ROW()-13 -> 1.7
A21: ="1."&ROW()-13 -> 1.8
A22: ="1."&ROW()-13 -> 1.9
A23: ="1."&ROW()-13 -> 1.10
B24: Bitte fügen Sie weitere Zeilen oberhalb ein! | D24: Summe | E24: =SUM(E14:E23) -> 0 | F24: =SUM(F14:F23) -> 0
A25: Layoutzeile
A26: 2 Kriterien zur Erreichung sozialer Innovationen im Projekt der gemeinsamen Energienutzung:
A27: Hinweise: siehe dazu Leitfaden Gemeinsame Energienutzung und Innovationen für eine optimierte Systemintegration 2026 - Ausschreibungsschwerpunkt 1 - 3.2.3: Die Erfüllung von mindestens zwei der nachfolgenden Kriterien NACH der Projektumsetzung ist erforderlich, um die Formalanforderungen an die Förderwürdigkeit einer Projekteinreichung zu erreichen. Die Erfüllung der Kriterien wird zum Zeitpunkt der Antragstellung sowie auch noch einmal zum Zeitpunkt der Endabrechnung geprüft.
A28: Layoutzeile
A29: 1. | B29: Aktivitäten zur Gewinnung bzw. Einbeziehung neuer Teilnehmer:innen (-gruppen)
B30: Gibt es bereits Aktivitäten zur Gewinnung bzw. Einbeziehung neuer Teilnehmer:innen (-gruppen)? | C30: bitte auswählen
B31: Wenn ja, beschreiben Sie die aktuellen Aktivitäten. (max. 300 Zeichen)
B32: Sind weitere Aktivitäten zur Gewinnung bzw. Einbeziehung neuer Teilnehmer:innen (-gruppen) in die EEG im Rahmen der Projektumsetzung geplant? | C32: bitte auswählen
B33: Beschreibung des geplanten Zustands nach Projektumsetzung. (max. 300 Zeichen)
A34: Layoutzeile
A35: 2. | B35: Initiativen zur Unterstützung sozial schwacher Gruppen | D35: Hinweis: zB. durch Sozialtarife, das Aussetzen von Mitgliedsbeiträgen für energiearme Haushalte, Stromspenden an solidarische Initiativen, sonstige Kooperationen mit sozialen Einrichtungen/Organisationen etc.
B36: Gibt es bereits Initiativen zur Unterstützung sozial schwacher Gruppen in die EEG? | C36: bitte auswählen
B37: Wenn ja, beschreiben Sie die aktuellen Initiativen. (max. 300 Zeichen)
B38: Sind Initiativen zur Unterstützung sozial schwacher Gruppen in der EEG im Rahmen der Projektumsetzung geplant? | C38: bitte auswählen
B39: Beschreibung des geplanten Zustands nach Projektumsetzung. (max. 300 Zeichen)
A40: Layoutzeile
A41: 3. | B41: Spezifische Informationsangebote | D41: Hinweis: zB. durch mehrsprachige Beratungs- und Informationsangebote, Angebote in einfacher Sprache etc.
B42: Gibt es bereits spezifische Informations- und Beratungsangebote als niederschwelligen Zugang zur EEG? | C42: bitte auswählen
B43: Wenn ja, beschreiben Sie die aktuellen Initiativen. (max. 300 Zeichen)
B44: Sind spezifische Informations- und Beratungsangebote als niederschwelligen Zugang zur EEG im Rahmen der Projektumsetzung geplant? | C44: bitte auswählen
B45: Beschreibung des geplanten Zustands nach Projektumsetzung. (max. 300 Zeichen)
A46: Layoutzeile
A47: 4. | B47: Aktive Förderung von Diversifizierung der Teilnehmer:innen (-gruppen) | D47: Hinweis: z.B. diverse Teilnehmer:innen-Struktur durch Haushalte, Unternehmen, junge und älterne Menschen, Bevölkerungsgruppen in mehrgeschossigem Wohnbau, öffentliche Einrichtungen, Menschen mit Migrationshintergrund etc.
B48: Gibt es bestehende Aktivitäten, die auf die Gewinnerung einer möglichst diversen Teilnehmer:innen-Struktur der EEG abzielen? | C48: bitte auswählen
B49: Wenn ja, beschreiben Sie die aktuellen Aktivitäten (max. 300 Zeichen)
B50: Sind besondere Aktivitäten, die auf die Gewinnerung einer möglichst diversen Teilnehmer:innen-Struktur der EEG abzielen im Rahmen der Projektumsetzung geplant? | C50: bitte auswählen
B51: Beschreibung des geplanten Zustands nach Projektumsetzung. (max. 300 Zeichen)
A52: Layoutzeile
A53: 5. | B53: Gemeinschaftliche Infrastruktur | D53: Hinweis: z.B. Notstromversorgung im Gemeindezentrum, öffentliche Ladestellen etc.
B54: Gibt es bestehende Infrastruktur in der EEG, die gemeinschaftlich genutzt werden kann? | C54: bitte auswählen
B55: Wenn ja, beschreiben Sie diese. (max. 300 Zeichen)
B56: Sind im Rahmen der Projektumsetzung Maßnahmen geplant, durch die gemeinschaftliche Infrastruktur aufgebaut wird? | C56: bitte auswählen
B57: Beschreibung des geplanten Zustands nach Projektumsetzung. (max. 300 Zeichen)
A58: Layoutzeile
A59: Layoutzeile
A60: 6. | B60: Möglichkeit zur Investition in gemeinschaftlich genutzte Anlagen | D60: Hinweis: z.B. gemeinschaftlich nutzbare Erzeugungsanlagen oder Speicheranlagen etc.
B61: Gibt es bereits Möglichkeiten für Mitglieder in gemeinschaftlich genutzte Infrastruktur zu investieren? | C61: bitte auswählen
B62: Wenn ja, beschreiben Sie diese. (max. 300 Zeichen)
B63: Sind im Rahmen der Umsetzung Projekte geplant, die Investitionsmöglichkeiten in gemeinschaftlich genutzte Infrastruktur bieten? | C63: bitte auswählen
B64: Beschreibung des geplanten Zustands nach Projektumsetzung. (max. 300 Zeichen)
A65: Layoutzeile
A66: 7. | B66: Kommunikations- und Bewusstseinsbildende Maßnahmen | D66: Hinweis: siehe dazu Leitfaden Energiegemeinschaften 2025 - Ausschreibungsschwerpunkt 1 - 3.2.2.b.
B67: Gibt es bestehende Kommunikations- oder Bewusstseinsbildungsmaßnahmen, die die Möglichkeit durch bzw. Vorteile der Teilnahme an am Projekt der gemeinsamen Energienutzung aufzeigen und die Akzeptanz dafür steigern? | C67: bitte auswählen
B68: Wenn ja, beschreiben Sie diese. (max. 300 Zeichen)
B69: Sind im Rahmen der Projektumsetzung gezielte Kommunikations- oder Bewusstseinsbildungsmaßnahmen gemäß der darstellten Zielsetzung geplant? | C69: bitte auswählen
B70: Beschreibung des geplanten Zustands nach Projektumsetzung. (max. 300 Zeichen)
A71: Layoutzeile
A72: 8. | B72: Anreize für Verhaltensänderungen | D72: Hinweis: siehe dazu Leitfaden Energiegemeinschaften 2025 - Ausschreibungsschwerpunkt 1 - 3.2.2.b.
B73: Gibt es bestehende Anreize, die auf Verhaltensänderungen bei den Teilnehmenden am Projekt der gemeinsamen Energienutzung (zB. Lastverschiebungen, Bereitstellung von Flexibilitäten bzw. steuerbare Lasten etc.) abzielen? | C73: bitte auswählen
B74: Wenn ja, beschreiben Sie diese. (max. 300 Zeichen)
B75: Sind im Rahmen der Projektumsetzung spezifische Anreizsetzungen geplant, die auf Verhaltensänderungen bei den Teilnehmenden abzielen? | C75: bitte auswählen
B76: Beschreibung des geplanten Zustands nach Projektumsetzung. (max. 300 Zeichen)
A77: Layoutzeile
A78: 9. | B78: Preisgestaltung
B79: Werden im Projekt der gemeinsamen Energienutzung langfristige, stabile Energiepreise angeboten? | C79: bitte auswählen
B80: Wenn ja, beschreiben Sie diese. (max. 300 Zeichen)
B81: Ist im Rahmen der Projektumsetzung geplant, dass Tarifstrukturen angepasst werden, um langfristige, stabile Energiepreise anzubieten? | C81: bitte auswählen
B82: Beschreibung des geplanten Zustands nach Projektumsetzung. (max. 300 Zeichen)
A84: 3 Erforderliche Antragsunterlagen für die Einreichung:
A85: Layoutzeile
B86: Erforderliche Antragsunterlagen
B87: X | C87: Vollständig ausgefülltes Antragsformular
B88: X | C88: Angebot/e bzw. Kostenvoranschläge über die wesentlichen Leistungen
B89: =IF(Zusammenfassung!B14="Ja","X ","") | C89: Vertrag oder Bevollmächtigung des Organisators bzw. der Organisatorin
B90: =IF(Zusammenfassung!B16="Ja","X ","") | C90: Peer-2-Peer Vertrag

Sheet Ausschreibungsschwerpunkt 2
A1: Förderungsaktion
A2: Gemeinsame Energienutzung und Innovationen für eine optimierte Systemintegration 2026
A3: Ein Programm des Klima- und Energiefonds - managed by Kommunalkredit Public Consulting
A4: Layoutzeile
A5: Ausschreibungsschwerpunkt 2: Digitalisierung und Flexibilisierung
B7: Welche Maßnahmen sind im Rahmen der Projekteinreichung im Ausschreibungsschwerpunkt 2 geplant? (max. 1.000 Zeichen) | D7: "Hinweis: Die geplanten Leistungen, die im Rahmen des Ausschreibungsschwerpunkts 2 zur Förderung eingereicht werden, sollen auch aus dem/den Angebot/en des qualifizierten Dienstleistenden hervorgehen."
B8: Welche Ziele sollen durch die Projektumsetzung erreicht werden? (max. 500 Zeichen)
A9: Layoutzeile
A10: 1 Leistungsverzeichnis (Kostenkalkulation):
A11: Hinweis zu Kosten: Vordergründig können immaterielle Kosten wie Beratungsleistungen einschließlich Planungsleistungen, Schulungs-, Vernetzungs- und Kommunikationsmaßnahmen, Maßnahmen zur Bewusstseinsbildung etc. die in direktem Zusammenhang mit der Weiterentwicklung des Projekts der gemeinsamen Energienutzung stehen, eingereicht werden. Weiters können Materialleistungen, die die Zielerreichung der Beratungsleistungen unterstützen und deren Wirkung optimieren (zb. einmalige Softwareanschaffungen, kleinere Hardwarekomponenten wie Smart Meter Adapter, Steuerungselemente, Sensoren etc.) eingereicht werden. Die Rechnungslegung hat stets an die antragstellende Person zu erfolgen.
A12: Layoutzeile
A13: Nr. | B13: Durchführende / ausführende Firma | C13: Kurzbeschreibung der Leistungsposition (Hinweis: die Kostenart "Sonstige" ist nur in Ausnahmefällen zu wählen und muss hier ausführlich und nachvollziehbar beschrieben werden). | D13: Kostenart (bitte auswählen) | E13: Kosten (netto) [EUR] | F13: Kosten (brutto) [EUR] | G13: Angebot liegt bei?
A14: ="1."&ROW()-13 -> 1.1
A15: ="1."&ROW()-13 -> 1.2
A16: ="1."&ROW()-13 -> 1.3
A17: ="1."&ROW()-13 -> 1.4
A18: ="1."&ROW()-13 -> 1.5
A19: ="1."&ROW()-13 -> 1.6
A20: ="1."&ROW()-13 -> 1.7
A21: ="1."&ROW()-13 -> 1.8
A22: ="1."&ROW()-13 -> 1.9
A23: ="1."&ROW()-13 -> 1.10
B24: Bitte fügen Sie weitere Zeilen oberhalb ein! | D24: Summe | E24: =SUM(E14:E23) -> 0 | F24: =SUM(F14:F23) -> 0
A25: Layoutzeile
A26: 2 Kriterien zur Umsetzung technologischer Innovationen im Projekt der gemeinsamen Energienutzung:
A27: Hinweise: siehe dazu Leitfaden Gemeinsame Energienutzung und Innovationen für eine optimierte Systemintegration 2026 - Ausschreibungsschwerpunkt 1 - 3.3.3: Die Erfüllung von mindestens zwei der nachfolgenden Kriterien NACH der Projektumsetzung ist erforderlich, um die Formalanforderungen an die Förderwürdigkeit einer Projekteinreichung zu erreichen. Die Erfüllung der Kriterien wird zum Zeitpunkt der Antragstellung sowie auch noch einmal zum Zeitpunkt der Endabrechnung geprüft.
A28: Layoutzeile
A29: 1. | B29: Individuelle und gemeinschaftliche Reduktion von Erzeugungs- und Lastspitzen
B30: Gibt es bereits Bestrebungen zur individuellen bzw. gemeinschaftlichen Reduktion von Last- und Erzeugungsspitzen im Rahmen des Projekts der gemeinsamen Energienutzung? | C30: bitte auswählen
B31: Wenn ja, beschreiben Sie die aktuellen Aktivitäten. (max. 300 Zeichen)
B32: Sind weitere Bestrebungen zur individuellen und/oder gemeinschaftlichen Reduktion von Last- und Erzeugungsspitzen im Rahmen der Projektumsetzung geplant? | C32: bitte auswählen
B33: Beschreibung des geplanten Zustands nach Projektumsetzung. (max. 300 Zeichen)
A34: Layoutzeile
A35: 2. | B35: Digitalisierungsmaßnahmen
B36: Wurden bereits Digitalisierungsmaßnahmen umgesetzt, die die Optimierung des Verbrauchsverhaltens der Mitglieder unterstützen? | C36: bitte auswählen
B37: Wenn ja, beschreiben Sie die aktuellen Aktivitäten. (max. 300 Zeichen)
B38: Sind Digitalisierungsmaßnahmen im Rahmen der Projektumsetzung geplant, die die Optimierung des Verbrauchsverhaltens der Teilnehmenden vorantreiben? | C38: bitte auswählen
B39: Beschreibung des geplanten Zustands nach Projektumsetzung. (max. 300 Zeichen)
A40: Layoutzeile
A41: 3. | B41: Einbezug von Ladeinfrastruktur
B42: Im Projekt der gemeinsamen Energienutzung ist zumindest eine Ladestation (privat, gemeinschaftlich nutzbar oder öffentlich) integriert? | C42: bitte auswählen
B43: Wenn ja, beschreiben Sie die aktuelle Situation (Anzahl Ladestationen, privat/öffentlich/gemeischaftlich nutzbar, Auslastung, etc.). (max. 300 Zeichen)
B44: Sind im Rahmen der Projektumsetzung spezifische Bestrebungen geplant, um eine oder weitere Ladestationen im Projekt der gemeinsamen Energienutzung zu integrieren? | C44: bitte auswählen
B45: Beschreibung des geplanten Zustands nach Projektumsetzung. (max. 300 Zeichen)
A46: Layoutzeile
A47: 4. | B47: Einbezug von Speichern
B48: Im Projekt der gemeinsamen Energienutzung ist bereits mindestens ein intelligent genutzter und auf das Projekt der gemeinsamen Energienutzung abgestimmter Speicher integriert? | C48: bitte auswählen
B49: Wenn ja, beschreiben Sie bitte die aktuelle Situation (Anzahl Speicher, Auslegung, Nutzung, etc.). (max. 300 Zeichen)
B50: Sind im Rahmen der Projektumsetzung spezifische Bestrebungen geplant, um einen oder weitere intelligent genutzte und auf das Projekt der gemeinsamen Energienutzung abgestimmte Speicher zu integrieren? | C50: bitte auswählen
B51: Beschreibung des geplanten Zustands nach Projektumsetzung. (max. 300 Zeichen)
A52: Layoutzeile
A53: 5. | B53: Einbezug von Wärmepumpen bzw. lokale/Quartierswärmelösungen
B54: Im Projekt der gemeinsamen Energienutzung ist zumindest eine Wärmepumpe bzw. eine integrierte lokale oder Quartierswärmelösung einbezogen? | C54: bitte auswählen
B55: Wenn ja, beschreiben Sie die aktuelle Situation. (max. 300 Zeichen)
B56: Sind im Rahmen der Projektumsetzung spezifische Bestrebungen geplant, um eine oder weitere Wärmepumpen bzw. integrierte lokale oder Quartierswärmelösungen in das Projekt der gemeinsamen Energienutzung einzubeziehen? | C56: bitte auswählen
B57: Beschreibung des geplanten Zustands nach Projektumsetzung. (max. 300 Zeichen)
A58: Layoutzeile
A59: 6. | B59: Automatisierung bzw. Flexibilisierung des Strombezugs
B60: Gibt es bereits Bestrebungen zur Automatisierung bzw. Flexibilisierung des Strombezugs? | C60: bitte auswählen
B61: Wenn ja, beschreiben Sie die aktuellen Aktivitäten. (max. 300 Zeichen)
B62: Sind im Rahmen der Projektumsetzung gezielte Aktivitäten geplant, die die Automatisierung bzw. Flexibilisierung des Strombezugs vorantreiben? | C62: bitte auswählen
B63: Beschreibung des geplanten Zustands nach Projektumsetzung. (max. 300 Zeichen)
A64: Layoutzeile
A65: 3 Erforderliche Antragsunterlagen für die Einreichung:
A66: Layoutzeile
B67: Erforderliche Antragsunterlagen
B68: X | C68: Vollständig ausgefülltes Antragsformular
B69: X | C69: Angebot/e bzw. Kostenvoranschläge über die wesentlichen Leistungen
B70: =IF(Zusammenfassung!B14="Ja","X ","") | C70: Vertrag oder Bevollmächtigung des Organisators
B71: =IF(Zusammenfassung!B16="Ja","X ","") | C71: Peer-2-Peer Vertrag

Sheet Dropdowns
B3: Reiter Zusammenfassung
K4: bitte auswählen
B5: trifft zu | C5: ja | F5: "Gemeinsame Energienutzung über gemeinschaftliche Leitungsanlagen" | G5: Beschreibung der Rolle der antragstellenden Person (Rechtsträger GEA, Betreiber, Anlagenverantwortliche/r) | K5: Gemeinsame Energienutzung über gemeinschaftliche Leitungsanlagen | L5: 5 | M5: ZP | N5: Gemeinsame Energienutzung über gemeinschaftliche Leitungsanlagen
B6: trifft nicht zu | C6: nein | F6: "Gemeinsame Energienutzung im Regionalbereich" | K6: Gemeinsame Energienutzung im Lokalbereich | L6: 10 | M6: ZP | N6: Gemeinsame Energienutzung im Lokalbereich | S6: Anfangsdatum | T6: 46296
B7: bitte auswählen | C7: bitte auswählen | F7: "Gemeinsame Energienutzung im Lokalbereich" | K7: Gemeinsame Energienutzung im Regionalbereich | L7: 15 | M7: ZP | N7: Gemeinsame Energienutzung im Regionalbereich | S7: Enddatum | T7: 46568
B13: Reiter Ausschreibungsschwerpunkt 1 | G13: Fehlermeldung offene Felder | L13: Zonenlevel
G14: Zusammenfassung: | L14: Zone 1
B15: immaterielle Leistung | E15: ja | G15: B11 | H15: =IF(Zusammenfassung!B11="",0,1) -> 0 | J15: Hinweis! Bitte befüllen Sie die Felder: | L15: Zone 2
B16: Anschaffung Hardwarekomponenten | E16: nein | G16: B12 | H16: =IF(Zusammenfassung!B12="",0,1) -> 0 | J16: Es sind alle erforderlichen Felder befüllt. | L16: Zone 3
B17: Anschaffung Software | E17: bitte auswählen | G17: B13 | H17: =IF(Zusammenfassung!B13="",0,1) -> 0 | L17: Zone 4
B18: sonstiges | G18: B14 | H18: =IF(Zusammenfassung!B14="bitte auswählen",0,1) -> 0 | L18: Zone 5
G19: B16 | H19: =IF(Zusammenfassung!B16="bitte auswählen",0,1) -> 0
B21: Reiter Ausschreibungsschwerpunkt 2 | G21: B23 | H21: =IF(Zusammenfassung!B23="bitte auswählen",0,1) -> 0
G22: B24 | H22: =IF(Zusammenfassung!B24="bitte auswählen",0,1) -> 0
B23: immaterielle Leistung | E23: ja | G23: B25 | H23: =IF(Zusammenfassung!B25="bitte auswählen",0,1) -> 0
B24: Anschaffung Hardwarekomponenten | E24: nein | G24: B26 | H24: =IF(Zusammenfassung!B26="bitte auswählen",0,1) -> 0
B25: Anschaffung Software | E25: bitte auswählen | G25: B31 | H25: =IF(Zusammenfassung!B31="bitte auswählen",0,1) -> 1
B26: sonstiges | G26: B32 | H26: =IF(Zusammenfassung!B32="",0,1) -> 0
G27: B33 | H27: =IF(Zusammenfassung!B33="",0,1) -> 0
G28: B34 | H28: =IF(Zusammenfassung!B34="",0,1) -> 0
G29: B35 | H29: =IF(Zusammenfassung!B35="",0,1) -> 0
G30: B37 | H30: =IF(Zusammenfassung!B37="",0,1) -> 0
G31: B38 | H31: =IF(Zusammenfassung!B38="",0,1) -> 0
G32: B43 | H32: =IF(Zusammenfassung!B43="bitte auswählen",0,1) -> 0
G33: B44 | H33: =IF(Zusammenfassung!B44="bitte auswählen",0,1) -> 0
G34: B48 | H34: =IF(Zusammenfassung!B48="bitte auswählen",0,1) -> 1
F36: optional | G36: B17 | H36: =IF(Zusammenfassung!B16="ja",IF(Zusammenfassung!B17="bitte auswählen",0,1),1) -> 1
J37: Fehlende Felder
F38: vollständig? | H38: =IF(COUNTIF(H15:H36,0)>0,"nein","ja") -> nein | J38: {=IF(H38="ja", "Alle Felder sind vollständig befüllt", IFERROR("Bitte folgende Felder befüllen: "&_xlfn.TEXTJOIN(", ",TRUE,_xlfn._xlws.FILTER(G15:G35,H15:H35=0)),"Alle Felder sind befüllt"))} -> Bitte folgende Felder befüllen: B11, B12, B13, B14, B16, B23, B24, B25, B26, B32, B33, B34, B35, B37, B38, B43, B44
