Workbook

Sheet Zusammenfassung
A1: Förderaktion
A2: Energiegemeinschaften 2025
A3: Ein Programm des Klima- und Energiefonds - managed by Kommunalkredit Public Consulting
A4: Hinweis: Um formal vollständig einzureichen, müssen alle Felder des vorliegenden Formulars vollständig ausgefüllt sein. Die Antragstellung erfolgt online unter www.umweltfoerderung.at/energiegemeinschaften
A5: 1 Angaben zur antragstellenden Person
A6: Layoutzeile
A7: Förderungswerbende Person
A8: Name Ansprechperson
A9: Name der Energiegemeinschaft(en) Hinweis: Sofern die Antragstellung für eine Dachorganisation von Energiegemeinschaften erfolgt, ist die Nennung aller der dadurch vertretenen Energiegemeinschaften erforderlich
A10: Layoutzeile
A11: 2 Angaben zur Energiegemeinschaft
A12: Layoutzeile
A13: Art der Energiegemeinschaft | B13: bitte auswählen | C13: =IFERROR("Hinweis: "& VLOOKUP(B13,Dropdowns!D5:E9,2,0),"") -> Hinweis: Sofern die Antragstellung für eine Dachorganisation erfolgt, die mehrere Arten von Energiegemeinschaften vertritt, bitte "regionale Energiegemeinschaft" oder "Bürgerenergiegemeinschaft" auswählen.
A14: Beschreibung der Rolle der antragstellenden Person (Rechtsträger GEA, Betreiber, Anlagenverantwortliche/r) oder der Dachorganisation
A15: Ich bestätige, dass ausschließlich Energie aus erneuerbarer Energieerzeugung genutzt wird | B15: bitte auswählen | C15: =IF(B15="trifft nicht zu", CONCATENATE("Achtung: Sofern in der BEG nicht ausschließlich Energie aus erneuerbarer Energieerzeugung genutzt wird,"," ist eine allgemeine Anforderungen an die Förderungsfähigkeit der Energiegemeinschaft im Rahmen der Programmausschreibung ","(siehe dazu Leitfaden Kapitel 2.3 Zielgruppe) nicht gegeben und Ihr Antrag muss aus Formalgründen zur Anlehnung vorgeschlagen werden."), "")
A16: Datum der Antragstellung | C16: Hinweis: Die Mindest-Teilnehmer:innenzahl muss zum Zeitpunkt (Datum) der Antragstellung vorliegen.
A17: ="Anzahl Teilnehmer:innen (Verbrauchszählpunkte) der " &IF(B13<>"bitte auswählen",B13,"") -> Anzahl Teilnehmer:innen (Verbrauchszählpunkte) der | C17: =IFERROR("Hinweis: " & VLOOKUP(B13,Dropdowns!D5:F8,3,0),"")
A18: ="Anzahl Erzeugungszählpunkte in der " &IF(B13<>"bitte auswählen",B13,"") -> Anzahl Erzeugungszählpunkte in der
A19: Gesamtleistung Erzeugungsanlagen (kW)
A20: ="Datum der Gründung der " &IF(B13<>"bitte auswählen",B13,"") -> Datum der Gründung der
A21: Layoutzeile
A22: EDA Marktteilnehmerkennung | C22: Bitte tragen Sie hier die Marktteilnehmerkennung (zB: RC111000), die Sie im Zuge der EDA Registrierung erhalten haben, ein.
A23: Art der EDA Anbindung
A24: Welcher Software-Dienstleister wird genutzt? | C24: Hinweis: Nur bei KEP relevant
A25: Layoutzeile
A26: 3 Angaben zur Antragstellung
A27: Hinweis: es kann ein Schwerpunkt oder es können beide Schwerpunkte ausgewählt werden - die Beschreibung der geplanten Inhalte und Erfüllung der Auswahlkriterien erfolgt im zweiten bzw. dritten Tabellenblatt (Aussschreibungsschwerpunkt 1 bzw. Ausschreibungsschwerpunkt 2)
A28: Layoutzelle | C28: Höhe der beantragten Kosten (netto) [EUR] | D28: Höhe der beantragten Kosten (brutto) [EUR]
A29: Ausschreibungsschwerpunkt 1: Erweiterung & Gewinnung neuer Teilnehmer:innen-Gruppen, Bewusstseinsbildung | B29: bitte auswählen | C29: =IF(AND(B29="ja",'Ausschreibungsschwerpunkt 1'!E22=0),"Ausschreibungsschwerpunkt 1 bitte vollständig befüllen",'Ausschreibungsschwerpunkt 1'!E22) -> 0 | D29: =IF(AND(B29="ja",'Ausschreibungsschwerpunkt 1'!F22=0),"Ausschreibungsschwerpunkt 1 bitte vollständig befüllen",'Ausschreibungsschwerpunkt 1'!F22) -> 0
A30: Ausschreibungsschwerpunkt 2: Digitalisierung, Prognosefähigkeit, Steuerung/Flexibilisierung | B30: bitte auswählen | C30: =IF(AND(B30="ja",'Ausschreibungsschwerpunkt 2'!E22=0),"Ausschreibungsschwerpunkt 2 bitte vollständig befüllen",'Ausschreibungsschwerpunkt 2'!E22) -> 0 | D30: =IF(AND(B30="ja",'Ausschreibungsschwerpunkt 2'!F22=0),"Ausschreibungsschwerpunkt 2 bitte vollständig befüllen",'Ausschreibungsschwerpunkt 2'!F22) -> 0
A31: Layoutzeile
A32: 4 Angaben zur Umsatzsteuer der antragstellenden Person
A33: Layoutzeile
A34: Ist die förderungswerbende Person vorsteuerabzugsberechtigt? | B34: bitte auswählen | C34: Hinweis: Sofern die Umsatzsteuer nachweislich tatsächlich und endgültig von der antragstellenden Person zu tragen ist, somit für sie oder ihn keine Vorsteuerabzugsberechtigung besteht, kann sie als förderbarer Kostenbestandteil berücksichtigt werden.
A35: =IF(B34="nein","Hiermit wird bestätigt, dass die Umsatzsteuer nachweislich, tatsächlich und endgültig von der antragstellenden Person getragen wird.","") | B35: bitte auswählen
A36: Layoutzeile
A37: 5 Bestätigungen
A38: Layoutzeile
A39: Hiermit wird bestätigt, dass die Energiegemeinschaft aktiv und in Betrieb ist. | B39: bitte auswählen | C39: =IF(B39="nein",CONCATENATE("Achtung: Sofern die Energiegemeinschaft nicht aktiv ist, ist eine allgemeine Anforderung an die"," Förderungsfähigkeit der Energiegemeinschaft im Rahmen der Programmausschreibung"," (siehe dazu Leitfaden Kapitel 2.3 Zielgruppe) nicht gegeben und Ihr Antrag muss aus Formalgründen zur Anlehnung vorgeschlagen werden."),"")
A40: Hiermit wird bestätigt, dass die grundsätzliche Bereitschaft zur Aufnahme neuer Teilnehmer:innen besteht. | B40: bitte auswählen | C40: =IF(B40="nein",CONCATENATE("Achtung: Sofern die grundsätzliche Bereitschaft zur Aufnahme neuer Teilnehmer:innen nicht besteht, ist eine allgemeine Anforderungen an die"," Förderungsfähigkeit der Energiegemeinschaft im Rahmen der Programmausschreibung"," (siehe dazu Leitfaden Kapitel 3.1 Allgemeine Anforderungen) nicht gegeben und Ihr Antrag muss aus Formalgründen zur Anlehnung vorgeschlagen werden."),"")
A41: Hiermit wird bestätigt, dass die Verpflichtungen zur transparenten Informations- und Preisgestaltung gemäß den Handlungsempfehlungen für transparente Informations- und Preisgestaltung der Österreichischen Koordinationsstelle für Energiegemeinschaften erfüllt werden. | B41: bitte auswählen | C41: =IF(B41="nein",CONCATENATE("Achtung: Sofern nicht bestätigt werden kann, dass die Verpflichtungen zur transparenten Informations- und Preisgestaltung gemäß den Handlungsempfehlungen der Österreichischen Kooridnationsstelle"," für Energiegemeinschaften erfüllt werden, ist eine allgemeine Anforderungen an die Förderungsfähigkeit der Energiegemeinschaft im Rahmen der"," Programmausschreibung (siehe dazu Leitfaden Kapitel 3.1 Allgemeine Anforderungen) nicht gegeben und Ihr Antrag muss aus Formalgründen zur Anlehnung vorgeschlagen werden."),"")
A42: =IF(Dropdowns!H32=17,Dropdowns!J16,Dropdowns!J15) -> Hinweis! Bitte befüllen Sie die Felder: | B42: =IF(Dropdowns!H32<17,Dropdowns!J17,"") -> B7, B8, B9, B13, B16, B17, B18, B19, B20, B22, B29, B30, B34, B39, B40, B41
A43: Layoutzeile

Sheet Ausschreibungsschwerpunkt 1
A1: Ein Programm des Klima- und Energiefonds - managed by Kommunalkredit Public Consulting
A2: Layoutzeile
A3: Ausschreibungsschwerpunkt 1: Erweiterung & Gewinnung neuer Teilnehmer:innen-Gruppen, Bewusstseinsbildung
A4: Layoutzeile
A5: Welche Maßnahmen sind im Rahmen der Projekteinreichung im Ausschreibungsschwerpunkt 1 geplant? (max. 1.000 Zeichen) | D5: "Hinweis: Die geplanten Leistungen, die im Rahmen des Ausschreibungsschwerpunkts 1 zur Förderung eingereicht werden, sollen auch aus dem/en Angebot/en des/der qualifizierten Dienstleister/in hervorgehen."
A6: Welche Ziele sollen durch die Projektumsetzung erreicht werden? (max. 500 Zeichen)
A7: Layoutzeile
A8: Leistungsverzeichnis (Kostenkalkulation):
A9: Hinweis zu Kosten: Vordergründig sind immaterielle Kosten wie Beratungsleistungen einschließlich Schulungs-, Vernetzungs- und Kommunikationsmaßnahmen, Maßnahmen zur Bewusstseinsbildung etc., die in direktem Zusammenhang mit der Weiterentwicklung der Energiegemeinschaft stehen. Gegebenenfalls können in Ergänzung zu den immateriellen Leistungen auch Kosten für Anschaffungen/einmalige Ausgaben (Raummiete, Druckkosten etc.) eingereicht werden. Die Rechnungslegung hat stets an die antragstellende Person zu erfolgen.
A10: Layoutzeile
A11: Nr. | B11: Durchführende / ausführende Firma | C11: Kurzbeschreibung der Leistungsposition (Hinweis: die Kostenart "Sonstige" ist nur in Ausnahmefällen zu wählen und muss hier ausführlich und nachvollziehbar beschrieben werden). | D11: Kostenart (bitte auswählen) | E11: Kosten (netto) [EUR] | F11: Kosten (brutto) [EUR] | G11: Angebot liegt bei?
A12: 1.1
A13: 1.2
A14: 1.3
A15: 1.4
A16: 1.5
A17: 1.6
A18: 1.7
A19: 1.8
A20: 1.9
A21: 1.10
B22: Bitte fügen Sie weitere Zeilen oberhalb ein! | D22: Summe | E22: =SUM(E12:E21) -> 0 | F22: =SUM(F12:F21) -> 0
A23: Layoutzeile
A24: Kriterien zur Erreichung sozialer Innovationen in der Energiegemeinschaft (EEG):
A25: Hinweise: siehe dazu Leitfaden Energiegemeinschaften 2025 - Ausschreibungsschwerpunkt 1 - 3.1.3: Die Erfüllung von mindestens zwei der nachfolgenden Kriterien NACH der Projektumsetzung ist erforderlich, um die Formalanforderungen an die Förderwürdigkeit einer Projekteinreichung zu erreichen. Die Erfüllung der Kriterien wird zum Zeitpunkt der Antragstellung sowie auch noch einmal zum Zeitpunkt der Endabrechnung geprüft.
A26: Layoutzeile
A27: 1. | B27: Aktivitäten zur Gewinnung bzw. Einbeziehung neuer Teilnehmer:innen (-gruppen)
B28: Gibt es bereits Aktivitäten zur Gewinnung bzw. Einbeziehung neuer Teilnehmer:innen (-gruppen)? | C28: bitte auswählen
B29: Wenn ja, beschreiben Sie die aktuellen Aktivitäten. (max. 300 Zeichen)
B30: Sind weitere Aktivitäten zur Gewinnung bzw. Einbeziehung neuer Teilnehmer:innen (-gruppen) in die EEG im Rahmen der Projektumsetzung geplant? | C30: bitte auswählen
B31: Beschreibung des geplanten Zustands nach Projektumsetzung. (max. 300 Zeichen)
A32: Layoutzeile
A33: 2. | B33: Initiativen zur Unterstützung sozial schwacher Gruppen | D33: Hinweis: zB. durch Sozialtarife, das Aussetzen von Mitgliedsbeiträgen für energiearme Haushalte, Stromspenden an solidarische Initiativen, sonsitge Kooperationen mit sozialen Einrichtungen/Organisationen etc.
B34: Gibt es bereits Initiativen zur Unterstützung sozial schwacher Gruppen in die EEG? | C34: bitte auswählen
B35: Wenn ja, beschreiben Sie die aktuellen Initiativen. (max. 300 Zeichen)
B36: Sind Initiativen zur Unterstützung sozial schwacher Gruppen in der EEG im Rahmen der Projektumsetzung geplant? | C36: bitte auswählen
B37: Beschreibung des geplanten Zustands nach Projektumsetzung. (max. 300 Zeichen)
A38: Layoutzeile
A39: 3. | B39: Spezifische Informationsangebote | D39: Hinweis: zB. durch mehrsprachige Beratungs- und Informationsangebote, Angebote in einfacher Sprache etc.
B40: Gibt es bereits spezifische Informations- und Beratungsangebote als niederschwelligen Zugang zur EEG? | C40: bitte auswählen
B41: Wenn ja, beschreiben Sie die aktuellen Initiativen. (max. 300 Zeichen)
B42: Sind spezifische Informations- und Beratungsangebote als niederschwelligen Zugang zur EEG im Rahmen der Projektumsetzung geplant? | C42: bitte auswählen
B43: Beschreibung des geplanten Zustands nach Projektumsetzung. (max. 300 Zeichen)
A44: Layoutzeile
A45: 4. | B45: Aktive Förderung von Diversifizierung der Teilnehmer:innen (-gruppen) | D45: Hinweis: z.B. diverse Teilnehmer:innen-Struktur durch Haushalte, Unternehmen, junge und älterne Menschen, Bevölkerungsgruppen in mehrgeschossigem Wohnbau, öffentliche Einrichtungen, Menschen mit Migrationshintergrund etc.
B46: Gibt es bestehende Aktivitäten, die auf die Gewinnerung einer möglichst diversen Teilnehmer:innen-Struktur der EEG abzielen? | C46: bitte auswählen
B47: Wenn ja, beschreiben Sie die aktuellen Aktivitäten (max. 300 Zeichen)
B48: Sind besondere Aktivitäten, die auf die Gewinnerung einer möglichst diversen Teilnehmer:innen-Struktur der EEG abzielen im Rahmen der Projektumsetzung geplant? | C48: bitte auswählen
B49: Beschreibung des geplanten Zustands nach Projektumsetzung. (max. 300 Zeichen)
A50: Layoutzeile
A51: 5. | B51: Gemeinschaftliche Infrastruktur | D51: Hinweis: z.B. Notstromversorgung im Gemeindezentrum, öffentliche Ladestellen etc.
B52: Gibt es bestehende Infrastruktur in der EEG, die gemeinschaftlich genutzt werden kann? | C52: bitte auswählen
B53: Wenn ja, beschreiben Sie diese. (max. 300 Zeichen)
B54: Sind im Rahmen der Projektumsetzung Maßnahmen geplant durch die gemeinschaftliche Infrastruktur aufgebaut wird? | C54: bitte auswählen
B55: Beschreibung des geplanten Zustands nach Projektumsetzung. (max. 300 Zeichen)
A56: Layoutzeile
A57: 6. | B57: Kommunikations- und Bewusstseinsbildende Maßnahmen | D57: Hinweis: siehe dazu Leitfaden Energiegemeinschaften 2025 - Ausschreibungsschwerpunkt 1 - 3.2.2.b.
B58: Gibt es bestehende Kommunikations- oder Bewusstseinsbildungsmaßnahmen, die die Möglichkeit durch bzw. Vorteile der Teilnahme an einer EEG aufzeigen und die Akzeptanz für EEG steigern? | C58: bitte auswählen
B59: Wenn ja, beschreiben Sie diese. (max. 300 Zeichen)
B60: Sind im Rahmen der Projektumsetzung gezielte Kommunikations- oder Bewusstseinsbildungsmaßnahmen gemäß der darstellten Zielsetzung geplant? | C60: bitte auswählen
B61: Beschreibung des geplanten Zustands nach Projektumsetzung. (max. 300 Zeichen)
A62: Layoutzeile
A63: 7. | B63: Anreize für Verhaltensänderungen | D63: Hinweis: siehe dazu Leitfaden Energiegemeinschaften 2025 - Ausschreibungsschwerpunkt 1 - 3.2.2.b.
B64: Gibt es bestehende Anreize, die auf Verhaltensänderungen bei EEG-Teilnehmenden (zB. Lastverschiebungen, Bereitstellung von Flexibilitäten bzw. steuerbare Lasten etc.) abzielen? | C64: bitte auswählen
B65: Wenn ja, beschreiben Sie diese. (max. 300 Zeichen)
B66: Sind im Rahmen der Projektumsetzung spezifische Anreizsetzungen geplant, die auf Verhaltensänderungen bei EEG-Teilnehmenden abzielen? | C66: bitte auswählen
B67: Beschreibung des geplanten Zustands nach Projektumsetzung. (max. 300 Zeichen)
A68: Layoutzeile
A69: 8. | B69: Preisgestaltung
B70: Werden in der EEG langfristige, stabile Energiepreise angeboten? | C70: bitte auswählen
B71: Wenn ja, beschreiben Sie diese. (max. 300 Zeichen)
B72: Ist im Rahmen der Projektumsetzung geplant, dass Tarifstrukturen angepasst werden, um langfristige, stabile Energiepreise anzubieten? | C72: bitte auswählen
B73: Beschreibung des geplanten Zustands nach Projektumsetzung. (max. 300 Zeichen)

Sheet Ausschreibungsschwerpunkt 2
A1: Ein Programm des Klima- und Energiefonds - managed by Kommunalkredit Public Consulting
A2: Layoutzeile
A3: Ausschreibungsschwerpunkt 2: Digitalisierung, Prognosefähigkeit, Steuerung/Flexibilisierung
B5: Welche Maßnahmen sind im Rahmen der Projekteinreichung im Ausschreibungsschwerpunkt 2 geplant? (max. 1.000 Zeichen) | D5: "Hinweis: Die geplanten Leistungen, die im Rahmen des Ausschreibungsschwerpunkts 2 zur Förderung eingereicht werden, sollen auch aus dem/en Angebot/en des/der qualifizierten Dienstleister/in hervorgehen."
B6: Welche Ziele sollen durch die Projektumsetzung erreicht werden? (max. 500 Zeichen)
A7: Layoutzeile
A8: Leistungsverzeichnis (Kostenkalkulation):
A9: Hinweis zu Kosten: Vordergründig können immaterielle Kosten wie Beratungsleistungen einschließlich Planungsleistungen, Schulungs-, Vernetzungs- und Kommunikationsmaßnahmen, Maßnahmen zur Bewusstseinsbildung etc. die in direktem Zusammenhang mit der Weiterentwicklung der Energiegemeinschaft stehen, eingereicht werden. Weiters können Materialleistungen, die die Zielerreichung der Beratungsleistungen unterstützen und deren Wirkung optimieren (zb. einmalige Softwareanschaffungen, kleinere Hardwarekomponenten wie Smart Meter Adapter, Steuerungselemente, Sensoren etc.) eingereicht werden. Die Rechnungslegung hat stets an die antragstellende Person zu erfolgen.
A10: Layoutzeile
A11: Nr. | B11: Durchführende / ausführende Firma | C11: Kurzbeschreibung der Leistungsposition (Hinweis: die Kostenart "Sonstige" ist nur in Ausnahmefällen zu wählen und muss hier ausführlich und nachvollziehbar beschrieben werden). | D11: Kostenart (bitte auswählen) | E11: Kosten (netto) [EUR] | F11: Kosten (brutto) [EUR] | G11: Angebot liegt bei?
A12: 1.1
A13: 1.2
A14: 1.3
A15: 1.4
A16: 1.5
A17: 1.6
A18: 1.7
A19: 1.8
A20: 1.9
A21: 1.10
B22: Bitte fügen Sie weitere Zeilen oberhalb ein! | D22: Summe | E22: =SUM(E12:E21) -> 0 | F22: =SUM(F12:F21) -> 0
A23: Layoutzeile
A24: Kriterien zur Umsetzung technologischer Innovationen in der Energiegemeinschaft (EEG):
A25: Hinweise: siehe dazu Leitfaden Energiegemeinschaften 2025 - Ausschreibungsschwerpunkt 1 - 3.2.3: Die Erfüllung von mindestens zwei der nachfolgenden Kriterien NACH der Projektumsetzung ist erforderlich, um die Formalanforderungen an die Förderwürdigkeit einer Projekteinreichung zu erreichen. Die Erfüllung der Kriterien wird zum Zeitpunkt der Antragstellung sowie auch noch einmal zum Zeitpunkt der Endabrechnung geprüft.
A26: Layoutzeile
A27: 1. | B27: Individuelle und gemeinschaftliche Reduktion von Erzeugungs- und Lastspitzen
B28: Gibt es bereits Bestrebungen zur individuellen bzw. gemeinschaftlichen Reduktion von Last- und Erzeugungsspitzen im Rahmen der EEG? | C28: bitte auswählen
B29: Wenn ja, beschreiben Sie die aktuellen Aktivitäten. (max. 300 Zeichen)
B30: Sind weitere Bestrebungen zur individuellen und/oder gemeinschaftlichen Reduktion von Last- und Erzeugungsspitzen im Rahmen der Projektumsetzung geplant? | C30: bitte auswählen
B31: Beschreibung des geplanten Zustands nach Projektumsetzung. (max. 300 Zeichen)
A32: Layoutzeile
A33: 2. | B33: Digitalisierungsmaßnahmen
B34: Wurden bereits Digitalisierungsmaßnahmen umgesetzt, die die Optimierung des Verbrauchsverhaltens der Mitglieder unterstützen? | C34: bitte auswählen
B35: Wenn ja, beschreiben Sie die aktuellen Aktivitäten. (max. 300 Zeichen)
B36: Sind Digitalisierungsmaßnahmen im Rahmen der Projektumsetzung geplant, die die Optimierung des Verbrauchsverhaltens der Mitgliederin der EEG vorantreiben? | C36: bitte auswählen
B37: Beschreibung des geplanten Zustands nach Projektumsetzung. (max. 300 Zeichen)
A38: Layoutzeile
A39: 3. | B39: Einbezug von Ladeinfrastruktur
B40: In der Energiegemeischaft ist zumindest eine Ladestation (privat, gemeinschaftlich nutzbar oder öffentlich) integriert? | C40: bitte auswählen
B41: Wenn ja, beschreiben Sie die aktuelle Situation (Anzahl Ladestationen, privat/öffentlich/gemeischaftlich nutzbar, Auslastung, etc.). (max. 300 Zeichen)
B42: Sind im Rahmen der Projektumsetzung spezifische Bestrebungen geplant, um eine oder weitere Ladestationen in die EEG zu integrieren? | C42: bitte auswählen
B43: Beschreibung des geplanten Zustands nach Projektumsetzung. (max. 300 Zeichen)
A44: Layoutzeile
A45: 4. | B45: Einbezug von Speichern
B46: In der Energiegemeischaft ist bereits mindestens ein intelligent genutzter und auf die Energiegemeinschaft abgestimmter Speicher integriert? | C46: bitte auswählen
B47: Wenn ja, beschreiben Sie bitte die aktuelle Situation (Anzahl Speicher, Auslegung, Nutzung, etc.). (max. 300 Zeichen)
B48: Sind im Rahmen der Projektumsetzung spezifische Bestrebungen geplant, um einen oder weitere intelligent genutzte und auf die Energiegemeinschaft abgestimmte Speicher in die EEG zu integrieren? | C48: bitte auswählen
B49: Beschreibung des geplanten Zustands nach Projektumsetzung. (max. 300 Zeichen)
A50: Layoutzeile
A51: 5. | B51: Einbezug von Wärmepumpen bzw. lokale/Quartierswärmelösungen
B52: In der Energiegemeischaft ist zumindest eine Wärmepumpe bzw. eine integrierte lokale oder Quartierswärmelösung einbezogen? | C52: bitte auswählen
B53: Wenn ja, beschreiben Sie die aktuelle Situation. (max. 300 Zeichen)
B54: Sind im Rahmen der Projektumsetzung spezifische Bestrebungen geplant, um eine oder weitere Wärmepumpen bzw. integrierte lokale oder Quartierswärmelösungen in die EEG einzubeziehen? | C54: bitte auswählen
B55: Beschreibung des geplanten Zustands nach Projektumsetzung. (max. 300 Zeichen)
A56: Layoutzeile
A57: 6. | B57: Automatisierung bzw. Flexibilisierung des Strombezugs
B58: Gibt es bereits Bestrebungen zur Automatisierung bzw. Flexibilisierung des Strombezugs? | C58: bitte auswählen
B59: Wenn ja, beschreiben Sie die aktuellen Aktivitäten. (max. 300 Zeichen)
B60: Sind im Rahmen der Projektumsetzung gezielte Aktivitäten geplant, die die Automatisierung bzw. Flexibilisierung des Strombezugs vorantreiben? | C60: bitte auswählen
B61: Beschreibung des geplanten Zustands nach Projektumsetzung. (max. 300 Zeichen)
A62: Layoutzeile

Sheet Dropdowns
B3: Reiter Zusammenfassung
D4: Hinweise: | H4: Art EDA Anbindung
B5: trifft zu | C5: ja | D5: Gemeinschaftliche Erzeugungsanlage (GEA) | E5: GEA: "Gemeinschaftliche Erzeugungsanlage“ gemäß § 16a ElWOG 2010, Antragstellung durch Rechtsträger der GEA, Anlagenverantwortliche oder der Betreiber möglich | F5: "Gemeinschaftliche Erzeugungsanlage (GEA): mind. 5 Verbrauchszählpunkte sind erforderlich" | G5: Beschreibung der Rolle der antragstellenden Person (Rechtsträger GEA, Betreiber, Anlagenverantwortliche/r) | H5: EDA Portal | K5: GEA | L5: 5 | M5: ZP | N5: =_xlfn.XLOOKUP(Zusammenfassung!B13,D5:D8,Dropdowns!L5:L8) -> #N/A
B6: trifft nicht zu | C6: nein | D6: Regionale Erneuerbare Energie-Gemeinschaft (EEG) | E6: EEG: regionale „Erneuerbare-Energie-Gemeinschaft“ gemäß § 79 EAG und § 16c ElWOG | F6: "Regionale Erneuerbare-Energie- Gemeinschaften: mind. 20 Verbrauchszählpunkte sind erforderlich" | H6: Email-Anbindung | K6: rEEG | L6: 20 | M6: ZP | S6: Anfangsdatum | T6: 46042
B7: bitte auswählen | C7: bitte auswählen | D7: Lokale Erneuerbare Energie-Gemeinschaft (EEG) | E7: EEG: lokale "Erneuerbare-Energie-Gemeinschaft“ gemäß § 79 EAG und § 16c ElWOG | F7: "Lokale Erneuerbare-Energie- Gemeinschaften: mind. 10 Verbrauchszählpunkte sind erforderlich" | H7: Kommunikationsschnittstelle (KEP) | K7: lEEG | L7: 10 | M7: ZP | S7: Enddatum | T7: 46219
D8: Bürgerenergiegemeinschaft (BEG) | E8: BEG: "Bürgerenergiegemeinschaft“ gemäß § 16b ElWOG 2010 | F8: "Bürgerenergiegemeinschaften: mind. 20 Verbrauchszählpunkte sind erforderlich" | G8: Ich bestätige, dass ausschließlich Energie aus erneuerbarer Energieerzeugung genutzt wird | H8: bitte auswählen | K8: BEG | L8: 20 | M8: ZP
D9: bitte auswählen | E9: Sofern die Antragstellung für eine Dachorganisation erfolgt, die mehrere Arten von Energiegemeinschaften vertritt, bitte "regionale Energiegemeinschaft" oder "Bürgerenergiegemeinschaft" auswählen.
B13: Reiter Ausschreibungsschwerpunkt 1 | G13: Fehlermeldung offene Felder
B15: immaterielle Leistung | E15: ja | G15: B7 | H15: =IF(Zusammenfassung!B7="",0,1) -> 0 | J15: Hinweis! Bitte befüllen Sie die Felder:
B16: Anschaffung Hardwarekomponenten | E16: nein | G16: B8 | H16: =IF(Zusammenfassung!B8="",0,1) -> 0 | J16: Es sind alle Felder befüllt.
B17: Anschaffung Software | E17: bitte auswählen | G17: B9 | H17: =IF(Zusammenfassung!B9="",0,1) -> 0 | J17: {=_xlfn.TEXTJOIN(", ",TRUE,(IF(H15:H31=0,G15:G31,"")))} -> B7, B8, B9, B13, B16, B17, B18, B19, B20, B22, B29, B30, B34, B39, B40, B41
B18: sonstiges | G18: B13 | H18: =IF(Zusammenfassung!B13="bitte auswählen",0,1) -> 0
G19: B16 | H19: =IF(Zusammenfassung!B16="",0,1) -> 0
G20: B17 | H20: =IF(Zusammenfassung!B17="",0,1) -> 0
B21: Reiter Ausschreibungsschwerpunkt 2 | G21: B18 | H21: =IF(Zusammenfassung!B18="",0,1) -> 0
G22: B19 | H22: =IF(Zusammenfassung!B19="",0,1) -> 0
B23: immaterielle Leistung | E23: ja | G23: B20 | H23: =IF(Zusammenfassung!B20="",0,1) -> 0
B24: Anschaffung Hardwarekomponenten | E24: nein | G24: B22 | H24: =IF(Zusammenfassung!B22="",0,1) -> 0
B25: Anschaffung Software | E25: bitte auswählen | G25: B23 | H25: =IF(Zusammenfassung!B23="bitte auswählen",0,1) -> 1
B26: sonstiges | G26: B29 | H26: =IF(Zusammenfassung!B29="bitte auswählen",0,1) -> 0
G27: B30 | H27: =IF(Zusammenfassung!B30="bitte auswählen",0,1) -> 0
G28: B34 | H28: =IF(Zusammenfassung!B34="bitte auswählen",0,1) -> 0
G29: B39 | H29: =IF(Zusammenfassung!B39="bitte auswählen",0,1) -> 0
G30: B40 | H30: =IF(Zusammenfassung!B40="bitte auswählen",0,1) -> 0
G31: B41 | H31: =IF(Zusammenfassung!B41="bitte auswählen",0,1) -> 0
H32: =SUM(H15:H31) -> 1
